Uber Exif Photo
Make : NIKON CORPORATION
Camera Model Name : NIKON D810
Orientation : Horizontal (normal)
Software : Adobe Photoshop CS5 Macintosh
Modify Date : 2014:12:14 07:55:13
Exposure Time : 1/60
F Number : 5.6
Exposure Program : Manual
ISO : 100
Sensitivity Type : Recommended Exposure Index
Date/Time Original : 2014:12:13 14:39:51
Create Date : 2014:12:13 14:39:51
Shutter Speed Value : 1/60
Aperture Value : 5.6
Exposure Compensation : 0
Max Aperture Value : 1.4
Subject Distance : 0.04 m
Metering Mode : Multi-segment
Light Source : Unknown
Flash : Off, Did not fire
Focal Length : 35.0 mm
Color Space : Uncalibrated
Exif Image Width : 1540
Exif Image Height : 1075
Sensing Method : One-chip color area
Scene Type : Directly photographed
CFA Pattern : [Red,Green][Green,Blue]
Custom Rendered : Normal
Exposure Mode : Manual
White Balance : Auto
Digital Zoom Ratio : 1
Focal Length In 35mm Format : 35 mm
Scene Capture Type : Standard
Gain Control : None
Contrast : Normal
Saturation : Normal
Sharpness : Normal
Subject Distance Range : Unknown
Serial Number : 3010180
Lens Info : 35mm f/1.4
Lens Model : Zeiss Distagon T* 1.4/35 ZF.2
Creator Tool : Adobe Photoshop CS5 Macintosh
Rating : 0
Lens : Zeiss Distagon T* 1.4/35 ZF.2
Image Number : 695
Approximate Focus Distance : 0.04
Date Created : 2014:12:13 14:39:51.017
Color Mode : RGB
ICC Profile Name : Adobe RGB (1998)
Format : image/jpeg
Raw File Name : DSC_0544.dng
Version : 6.2
Process Version : 5.7
Color Temperature : 7350
Tint : 0
Exposure : 0.00
Shadows : 7
Brightness : +50
Luminance Smoothing : 0
Color Noise Reduction : 25
Chromatic Aberration R : 0
Chromatic Aberration B : 0
Vignette Amount : 0
Shadow Tint : 0
Red Hue : 0
Red Saturation : 0
Green Hue : 0
Green Saturation : 0
Blue Hue : 0
Blue Saturation : 0
Fill Light : 0
Vibrance : 0
Highlight Recovery : 9
Clarity : 0
Defringe : 0
Hue Adjustment Red : 0
Hue Adjustment Orange : 0
Hue Adjustment Yellow : 0
Hue Adjustment Green : 0
Hue Adjustment Aqua : 0
Hue Adjustment Blue : 0
Hue Adjustment Purple : 0
Hue Adjustment Magenta : 0
Saturation Adjustment Red : 0
Saturation Adjustment Orange : 0
Saturation Adjustment Yellow : 0
Saturation Adjustment Green : 0
Saturation Adjustment Aqua : 0
Saturation Adjustment Blue : 0
Saturation Adjustment Purple : 0
Saturation Adjustment Magenta : 0
Luminance Adjustment Red : 0
Luminance Adjustment Orange : 0
Luminance Adjustment Yellow : 0
Luminance Adjustment Green : 0
Luminance Adjustment Aqua : 0
Luminance Adjustment Blue : 0
Luminance Adjustment Purple : 0
Luminance Adjustment Magenta : 0
Split Toning Shadow Hue : 0
Split Toning Shadow Saturation : 0
Split Toning Highlight Hue : 0
Split Toning Highlight Saturation : 0
Split Toning Balance : 0
Parametric Shadows : 0
Parametric Darks : 0
Parametric Lights : 0
Parametric Highlights : 0
Parametric Shadow Split : 25
Parametric Midtone Split : 50
Parametric Highlight Split : 75
Sharpen Radius : +1.0
Sharpen Detail : 25
Sharpen Edge Masking : 0
Post Crop Vignette Amount : 0
Grain Amount : 0
Color Noise Reduction Detail : 50
Lens Profile Enable : 0
Lens Manual Distortion Amount : 0
Perspective Vertical : 0
Perspective Horizontal : 0
Perspective Rotate : 0.0
Perspective Scale : 100
Convert To Grayscale : False
Tone Curve Name : Medium Contrast
Camera Profile : Adobe Standard
Lens Profile Setup : LensDefaults
Has Settings : True
Has Crop : False
Already Applied : True
Tone Curve : 0, 0, 32, 22, 64, 56, 128, 128, 192, 196, 255, 255
Paint Correction What : Correction
Paint Correction Amount : 1.000000
Paint Correction Active : true
Paint Correction Exposure : -0.212500
Paint Correction Saturation : 0.000000
Paint Correction Contrast : 0.040000
Paint Correction Clarity : 0.000000
Paint Correction Sharpness : 0.000000
Paint Correction Brightness : 0.420000
Paint Correction Toning Hue : 0.000000
Paint Correction Toning Saturation : 0.000000
Paint Correction Mask What : Mask/Paint
Paint Correction Mask Value : 0.490000
Paint Correction Mask Radius : 0.169613
Paint Correction Mask Flow : 0.704981
Paint Correction Mask Center Weight : 0.022470
Image Width : 300
Image Height : 209
Bits Per Sample : 8
Color Components : 1
Aperture : 5.6
Image Size : 300x209
Megapixels : 0.063
Scale Factor To 35 mm Equivalent : 1.0
Shutter Speed : 1/60
Create Date : 2014:12:13 14:39:51.17
Date/Time Original : 2014:12:13 14:39:51.17
Circle Of Confusion : 0.030 mm
Depth Of Field : 0.000 m (0.040 - 0.040 m)
Field Of View : 54.4 deg
Focal Length : 35.0 mm (35 mm equivalent: 35.0 mm)
Hyperfocal Distance : 7.28 m
Light Value : 10.9
Lens ID : Unknown (8C) 35mm