Uber Exif Photo
Make : NIKON CORPORATION
Camera Model Name : NIKON D700
Orientation : Horizontal (normal)
Software : Adobe Photoshop CS5 Macintosh
Modify Date : 2011:09:18 18:01:22
Exposure Time : 1/15
F Number : 1.4
Exposure Program : Aperture-priority AE
ISO : 200
Sensitivity Type : Unknown
Date/Time Original : 2011:09:04 16:18:37
Create Date : 2011:09:04 16:18:37
Shutter Speed Value : 1/15
Aperture Value : 1.4
Exposure Compensation : +2/3
Max Aperture Value : 1.0
Metering Mode : Center-weighted average
Light Source : Unknown
Flash : No Flash
Focal Length : 50.0 mm
Color Space : sRGB
Exif Image Width : 682
Exif Image Height : 1024
Sensing Method : One-chip color area
Scene Type : Directly photographed
CFA Pattern : [Red,Green][Green,Blue]
Custom Rendered : Normal
Exposure Mode : Auto
White Balance : Manual
Digital Zoom Ratio : 1
Focal Length In 35mm Format : 50 mm
Scene Capture Type : Standard
Gain Control : None
Contrast : Normal
Saturation : Normal
Sharpness : Normal
Subject Distance Range : Unknown
Serial Number : 2205982
Lens Info : 0mm f/0
Lens Model : 0.0 mm f/0.0
Profile Description : sRGB IEC61966-2.1
Creator Tool : Adobe Photoshop CS5 Macintosh
Rating : 0
Lens : 0.0 mm f/0.0
Image Number : 45357
Raw File Name : DSC_3111.NEF
Version : 6.2
Process Version : 5.7
Color Temperature : 5300
Tint : -6
Exposure : -0.35
Shadows : 5
Brightness : +50
Luminance Smoothing : 0
Color Noise Reduction : 25
Chromatic Aberration R : 0
Chromatic Aberration B : 0
Vignette Amount : 0
Shadow Tint : 0
Red Hue : 0
Red Saturation : 0
Green Hue : 0
Green Saturation : 0
Blue Hue : 0
Blue Saturation : 0
Fill Light : 0
Vibrance : 0
Highlight Recovery : 11
Clarity : 0
Defringe : 0
Hue Adjustment Red : 0
Hue Adjustment Orange : 0
Hue Adjustment Yellow : 0
Hue Adjustment Green : 0
Hue Adjustment Aqua : 0
Hue Adjustment Blue : 0
Hue Adjustment Purple : 0
Hue Adjustment Magenta : 0
Saturation Adjustment Red : 0
Saturation Adjustment Orange : 0
Saturation Adjustment Yellow : 0
Saturation Adjustment Green : 0
Saturation Adjustment Aqua : 0
Saturation Adjustment Blue : 0
Saturation Adjustment Purple : 0
Saturation Adjustment Magenta : 0
Luminance Adjustment Red : 0
Luminance Adjustment Orange : 0
Luminance Adjustment Yellow : 0
Luminance Adjustment Green : 0
Luminance Adjustment Aqua : 0
Luminance Adjustment Blue : 0
Luminance Adjustment Purple : 0
Luminance Adjustment Magenta : 0
Split Toning Shadow Hue : 0
Split Toning Shadow Saturation : 0
Split Toning Highlight Hue : 0
Split Toning Highlight Saturation : 0
Split Toning Balance : 0
Parametric Shadows : 0
Parametric Darks : 0
Parametric Lights : 0
Parametric Highlights : 0
Parametric Shadow Split : 25
Parametric Midtone Split : 50
Parametric Highlight Split : 75
Sharpen Radius : +1.0
Sharpen Detail : 25
Sharpen Edge Masking : 0
Post Crop Vignette Amount : 0
Grain Amount : 0
Color Noise Reduction Detail : 50
Lens Profile Enable : 0
Lens Manual Distortion Amount : 0
Perspective Vertical : 0
Perspective Horizontal : 0
Perspective Rotate : 0.0
Perspective Scale : 100
Convert To Grayscale : False
Tone Curve Name : Medium Contrast
Camera Profile : Adobe Standard
Lens Profile Setup : LensDefaults
Has Settings : True
Has Crop : False
Already Applied : True
Format : image/jpeg
Color Mode : RGB
ICC Profile Name : sRGB IEC61966-2.1
Date Created : 2011:09:04 16:18:37.031
Tone Curve : 0, 0, 32, 22, 64, 56, 128, 128, 192, 196, 255, 255
Image Width : 200
Image Height : 300
Bits Per Sample : 8
Color Components : 3
Aperture : 1.4
Image Size : 200x300
Megapixels : 0.060
Scale Factor To 35 mm Equivalent : 1.0
Shutter Speed : 1/15
Create Date : 2011:09:04 16:18:37.31
Date/Time Original : 2011:09:04 16:18:37.31
Modify Date : 2011:09:18 18:01:22.31
Circle Of Confusion : 0.030 mm
Field Of View : 39.6 deg
Focal Length : 50.0 mm (35 mm equivalent: 50.0 mm)
Hyperfocal Distance : 59.43 m
Light Value : 3.9
Lens ID : 0.0mm f/0.0