Uber Exif Photo
By-line : RMPantke(c)rmp1006@hotmail.com
Object Name : un arte
Keywords : Kontraste
Copyright Notice : Dr.Rosemarie Pantke
Copyright Flag : True
URL : rmp1006@hotmail.com
Make : NIKON CORPORATION
Camera Model Name : NIKON D700
Orientation : Horizontal (normal)
Software : Adobe Photoshop CS5 Macintosh
Modify Date : 2013:11:05 18:06:57
Artist : RMPantke(c)rmp1006@hotmail.com
Copyright : Dr.Rosemarie Pantke
Exposure Time : 1/320
F Number : 5.6
Exposure Program : Manual
ISO : 800
Date/Time Original : 2013:10:22 08:54:33
Create Date : 2013:10:22 08:54:33
Shutter Speed Value : 1/320
Aperture Value : 5.6
Exposure Compensation : 0
Max Aperture Value : 1.0
Metering Mode : Spot
Light Source : Unknown
Flash : No Flash
Focal Length : 35.0 mm
Color Space : Uncalibrated
Exif Image Width : 768
Exif Image Height : 1109
Sensing Method : One-chip color area
Scene Type : Directly photographed
CFA Pattern : [Red,Green][Green,Blue]
Custom Rendered : Normal
Exposure Mode : Manual
White Balance : Manual
Digital Zoom Ratio : 1
Focal Length In 35mm Format : 35 mm
Scene Capture Type : Standard
Gain Control : Low gain up
Contrast : Normal
Saturation : Normal
Sharpness : Normal
Subject Distance Range : Unknown
Profile Description : Adobe RGB (1998)
Rating : 0
Label : Creator Tool : Adobe Photoshop CS5 Macintosh
Format : image/jpeg
Serial Number : 2215464
Lens Info : 0mm f/0
Lens : 0.0 mm f/0.0
Image Number : 26011
Date Created : 2013:10:22 08:54:33.025
Color Mode : RGB
ICC Profile Name : Adobe RGB (1998)
DNG Version : 1.3
DNG Backward Version : 1.1
Camera Raw Compatibility : 2.4
Lightroom Compatibility : 1.0
Has Mosaic Data : True
Lossy Compression : False
Floating Point : False
Has Transparency : False
Image Length : 2832
Original Image Width : 4256
Original Image Length : 2832
Preview Width : 1024
Preview Length : 681
Has Fast Load Data : True
Original Raw File Name : _ROS5849.NEF
Has Embedded Original Raw File : False
Marked : True
Web Statement : rmp1006@hotmail.com
Raw File Name : Kontraste u Portraits-5849.dng
Version : 6.0
Process Version : 5.7
Color Temperature : 3994
Tint : -26
Exposure : 0.00
Shadows : 5
Brightness : +50
Luminance Smoothing : 0
Color Noise Reduction : 25
Chromatic Aberration R : 0
Chromatic Aberration B : 0
Vignette Amount : 0
Shadow Tint : 0
Red Hue : 0
Red Saturation : 0
Green Hue : 0
Green Saturation : 0
Blue Hue : 0
Blue Saturation : 0
Fill Light : 0
Vibrance : -10
Highlight Recovery : 0
Clarity : 0
Defringe : 0
Hue Adjustment Red : 0
Hue Adjustment Orange : 0
Hue Adjustment Yellow : 0
Hue Adjustment Green : 0
Hue Adjustment Aqua : 0
Hue Adjustment Blue : 0
Hue Adjustment Purple : 0
Hue Adjustment Magenta : 0
Saturation Adjustment Red : -60
Saturation Adjustment Orange : -55
Saturation Adjustment Yellow : -50
Saturation Adjustment Green : -70
Saturation Adjustment Aqua : -60
Saturation Adjustment Blue : -40
Saturation Adjustment Purple : -55
Saturation Adjustment Magenta : -20
Luminance Adjustment Red : +20
Luminance Adjustment Orange : +20
Luminance Adjustment Yellow : +20
Luminance Adjustment Green : +20
Luminance Adjustment Aqua : +20
Luminance Adjustment Blue : +20
Luminance Adjustment Purple : +20
Luminance Adjustment Magenta : +20
Split Toning Shadow Hue : 0
Split Toning Shadow Saturation : 0
Split Toning Highlight Hue : 0
Split Toning Highlight Saturation : 0
Split Toning Balance : 0
Parametric Shadows : 0
Parametric Darks : 0
Parametric Lights : 0
Parametric Highlights : 0
Parametric Shadow Split : 25
Parametric Midtone Split : 50
Parametric Highlight Split : 75
Sharpen Radius : +1.0
Sharpen Detail : 25
Sharpen Edge Masking : 0
Post Crop Vignette Amount : 0
Grain Amount : 0
Color Noise Reduction Detail : 50
Convert To Grayscale : False
Tone Curve Name : Medium Contrast
Camera Profile : Adobe Standard
Has Settings : True
Crop Top : 0.367703
Crop Left : 0.18709
Crop Bottom : 1
Crop Right : 0.794905
Crop Angle : 0
Has Crop : True
Already Applied : True
Creator : RMPantke(c)rmp1006@hotmail.com
Title : un arte
Rights : Dr.Rosemarie Pantke
Subject : Kontraste
Hierarchical Subject : Kontraste
Tone Curve : 0, 0, 32, 22, 64, 56, 128, 128, 192, 196, 255, 255
Paint Correction What : Correction
Paint Correction Amount : 1.000000
Paint Correction Active : true
Paint Correction Exposure : 0.000000
Paint Correction Saturation : 0.000000
Paint Correction Contrast : 0.000000
Paint Correction Clarity : 0.000000
Paint Correction Sharpness : 0.000000
Paint Correction Brightness : 0.000000
Paint Correction Toning Hue : 240.000000
Paint Correction Toning Saturation : 0.000000
Paint Correction Mask What : Mask/Paint
Paint Correction Mask Value : 0.884069
Paint Correction Mask Radius : 0.072962
Paint Correction Mask Flow : 0.030534
Paint Correction Mask Center Weight : 0.000000
Image Width : 208
Image Height : 300
Bits Per Sample : 8
Color Components : 3
Aperture : 5.6
Image Size : 208x300
Megapixels : 0.062
Scale Factor To 35 mm Equivalent : 1.0
Shutter Speed : 1/320
Create Date : 2013:10:22 08:54:33.25
Date/Time Original : 2013:10:22 08:54:33.25
Circle Of Confusion : 0.030 mm
Field Of View : 54.4 deg
Focal Length : 35.0 mm (35 mm equivalent: 35.0 mm)
Hyperfocal Distance : 7.28 m
Light Value : 10.3
Lens ID : 0.0mm f/0.0