Uber Exif Photo
By-line : marino mannarini
By-line Title : photographer
Copyright Notice : ©marino mannarini 2010
Copyright Flag : True
URL : www.mydvaphoto.com
Make : NIKON CORPORATION
Camera Model Name : NIKON D700
Software : Ver.1.02
Modify Date : 2010:06:06 19:31:10
Artist : Marino Mannarini +393338562061
Copyright : (C)marino mannarini 2010
Exposure Time : 1/3200
F Number : 5.6
Exposure Program : Aperture-priority AE
ISO : 200
Date/Time Original : 2010:04:26 16:28:36
Create Date : 2010:04:26 16:28:36
Shutter Speed Value : 1/3200
Aperture Value : 5.6
Exposure Compensation : +1/3
Max Aperture Value : 1.0
Metering Mode : Center-weighted average
Light Source : Unknown
Focal Length : 18.0 mm
User Comment : (c)Marino Mannarini mydvaphoto.com
Sensing Method : One-chip color area
Scene Type : Directly photographed
CFA Pattern : [Red,Green][Green,Blue]
Custom Rendered : Normal
Exposure Mode : Auto
White Balance : Auto
Digital Zoom Ratio : 1
Focal Length In 35mm Format : 18 mm
Scene Capture Type : Standard
Gain Control : None
Contrast : Normal
Saturation : Normal
Sharpness : Normal
Subject Distance Range : Unknown
Date/Time Digitized : 2010:04:26 16:28:36.84+02:00
Exif Image Width : 900
Exif Image Height : 720
Creator Tool : Adobe Photoshop Lightroom
Serial Number : 2132043
Lens Info : 0mm f/0
Lens : 0.0 mm f/0.0
Image Number : 14357
Marked : True
Web Statement : www.mydvaphoto.com
Authors Position : photographer
Version : 5.7
Color Temperature : 4550
Tint : -7
Exposure : -0.17
Shadows : 26
Brightness : +81
Luminance Smoothing : 0
Color Noise Reduction : 25
Chromatic Aberration R : 0
Chromatic Aberration B : 0
Vignette Amount : 0
Shadow Tint : 0
Red Hue : 0
Red Saturation : 0
Green Hue : 0
Green Saturation : 0
Blue Hue : 0
Blue Saturation : 0
Fill Light : 0
Highlight Recovery : 3
Clarity : +42
Defringe : 0
Gray Mixer Red : -10
Gray Mixer Orange : -19
Gray Mixer Yellow : -23
Gray Mixer Green : -27
Gray Mixer Aqua : -18
Gray Mixer Blue : +9
Gray Mixer Purple : +15
Gray Mixer Magenta : +4
Split Toning Shadow Hue : 0
Split Toning Shadow Saturation : 0
Split Toning Highlight Hue : 17
Split Toning Highlight Saturation : 0
Split Toning Balance : -35
Parametric Shadows : 0
Parametric Darks : -11
Parametric Lights : +18
Parametric Highlights : +6
Parametric Shadow Split : 25
Parametric Midtone Split : 50
Parametric Highlight Split : 75
Sharpen Radius : +1.0
Sharpen Detail : 25
Sharpen Edge Masking : 0
Post Crop Vignette Amount : 0
Convert To Grayscale : True
Tone Curve Name : Linear
Camera Profile : Adobe Standard
Has Settings : True
Crop Top : 0.008756
Crop Left : 0.168573
Crop Bottom : 0.991244
Crop Right : 0.997717
Crop Angle : -0.404893
Crop Width : 900
Crop Height : 720
Crop Unit : pixels
Has Crop : True
Already Applied : True
Flash Fired : False
Flash Return : No return detection
Flash Mode : Unknown
Flash Function : False
Flash Red Eye Mode : False
Creator : marino mannarini
Rights : ©marino mannarini 2010
Creator Postal Code : I 73100
Creator Work Telephone : +393338562061
Creator Region : LE
Creator City : LECCE
Creator Country : ITALY
Creator Work Email : marinomannarini@gmail.com
Creator Address : piazza libertini, 10
Creator Work URL : www.mydvaphoto.com
Usage Terms : all rights reserved
Tone Curve : 0, 0, 255, 255
Image Width : 300
Image Height : 240
Bits Per Sample : 8
Color Components : 1
Aperture : 5.6
Image Size : 300x240
Megapixels : 0.072
Scale Factor To 35 mm Equivalent : 1.0
Shutter Speed : 1/3200
Create Date : 2010:04:26 16:28:36.84
Date/Time Original : 2010:04:26 16:28:36.84
Flash : No Flash
Circle Of Confusion : 0.030 mm
Field Of View : 90.0 deg
Focal Length : 18.0 mm (35 mm equivalent: 18.0 mm)
Hyperfocal Distance : 1.93 m
Light Value : 15.6
Lens ID : 0.0mm f/0.0