Uber Exif Photo
By-line : marino mannarini
By-line Title : photographer
Copyright Notice : ©marino mannarini 2010
Copyright Flag : True
URL : www.mydvaphoto.com
Make : NIKON CORPORATION
Camera Model Name : NIKON D700
Software : Ver.1.02
Modify Date : 2010:05:02 18:05:40
Artist : Marino Mannarini +393338562061
Copyright : (C)marino mannarini 2010
Exposure Time : 1/2000
F Number : 5.6
Exposure Program : Aperture-priority AE
ISO : 200
Date/Time Original : 2010:04:26 15:56:57
Create Date : 2010:04:26 15:56:57
Shutter Speed Value : 1/2000
Aperture Value : 5.6
Exposure Compensation : 0
Max Aperture Value : 1.0
Metering Mode : Center-weighted average
Light Source : Unknown
Focal Length : 18.0 mm
User Comment : (c)Marino Mannarini mydvaphoto.com
Sensing Method : One-chip color area
Scene Type : Directly photographed
CFA Pattern : [Red,Green][Green,Blue]
Custom Rendered : Normal
Exposure Mode : Auto
White Balance : Auto
Digital Zoom Ratio : 1
Focal Length In 35mm Format : 18 mm
Scene Capture Type : Standard
Gain Control : None
Contrast : Normal
Saturation : Normal
Sharpness : Normal
Subject Distance Range : Unknown
Profile Description : sRGB IEC61966-2.1
Date/Time Digitized : 2010:04:26 15:56:57.05+02:00
Exif Image Width : 900
Exif Image Height : 599
Creator Tool : Adobe Photoshop Lightroom
Serial Number : 2132043
Lens Info : 0mm f/0
Lens : 0.0 mm f/0.0
Image Number : 14318
Marked : True
Web Statement : www.mydvaphoto.com
Authors Position : photographer
Version : 5.7
Color Temperature : 4292
Tint : -150
Exposure : -0.17
Shadows : 50
Brightness : +41
Luminance Smoothing : 0
Color Noise Reduction : 25
Chromatic Aberration R : 0
Chromatic Aberration B : 0
Vignette Amount : 0
Shadow Tint : 0
Red Hue : 0
Red Saturation : 0
Green Hue : 0
Green Saturation : 0
Blue Hue : 0
Blue Saturation : 0
Fill Light : 0
Highlight Recovery : 100
Clarity : 0
Defringe : 0
Gray Mixer Red : 0
Gray Mixer Orange : 0
Gray Mixer Yellow : +100
Gray Mixer Green : +100
Gray Mixer Aqua : +50
Gray Mixer Blue : 0
Gray Mixer Purple : 0
Gray Mixer Magenta : 0
Split Toning Shadow Hue : 0
Split Toning Shadow Saturation : 0
Split Toning Highlight Hue : 0
Split Toning Highlight Saturation : 0
Split Toning Balance : 0
Parametric Shadows : 0
Parametric Darks : -50
Parametric Lights : +13
Parametric Highlights : +19
Parametric Shadow Split : 25
Parametric Midtone Split : 50
Parametric Highlight Split : 75
Sharpen Radius : +1.0
Sharpen Detail : 25
Sharpen Edge Masking : 0
Post Crop Vignette Amount : 0
Convert To Grayscale : True
Tone Curve Name : Medium Contrast
Camera Profile : ACR 3.6
Has Settings : True
Crop Top : 0.066282
Crop Left : 0.102589
Crop Bottom : 0.956982
Crop Right : 0.993289
Crop Angle : 0
Crop Width : 900
Crop Height : 599
Crop Unit : pixels
Has Crop : True
Already Applied : True
Flash Fired : False
Flash Return : No return detection
Flash Mode : Unknown
Flash Function : False
Flash Red Eye Mode : False
Creator : marino mannarini
Rights : ©marino mannarini 2010
Creator Postal Code : I 73100
Creator Work Telephone : +393338562061
Creator Region : LE
Creator City : LECCE
Creator Country : ITALY
Creator Work Email : marinomannarini@gmail.com
Creator Address : piazza libertini, 10
Creator Work URL : www.mydvaphoto.com
Usage Terms : all rights reserved
Tone Curve : 0, 0, 32, 22, 64, 56, 128, 128, 192, 196, 255, 255
Paint Correction What : Correction
Paint Correction Amount : 1.000000
Paint Correction Active : true
Paint Correction Exposure : 0.103448
Paint Correction Saturation : 0.000000
Paint Correction Contrast : 0.000000
Paint Correction Clarity : 0.057471
Paint Correction Sharpness : 0.000000
Paint Correction Brightness : 0.057471
Paint Correction Toning Hue : 72.000000
Paint Correction Toning Saturation : 0.030000
Paint Correction Mask What : Mask/Paint
Paint Correction Mask Value : 1.000000
Paint Correction Mask Radius : 0.030294
Paint Correction Mask Flow : 1.000000
Paint Correction Mask Center Weight : 0.260422
Image Width : 300
Image Height : 200
Bits Per Sample : 8
Color Components : 3
Aperture : 5.6
Image Size : 300x200
Megapixels : 0.060
Scale Factor To 35 mm Equivalent : 1.0
Shutter Speed : 1/2000
Create Date : 2010:04:26 15:56:57.05
Date/Time Original : 2010:04:26 15:56:57.05
Flash : No Flash
Circle Of Confusion : 0.030 mm
Field Of View : 90.0 deg
Focal Length : 18.0 mm (35 mm equivalent: 18.0 mm)
Hyperfocal Distance : 1.93 m
Light Value : 14.9
Lens ID : 0.0mm f/0.0