Uber Exif Photo
Make : NIKON CORPORATION
Camera Model Name : NIKON D700
Orientation : Horizontal (normal)
Software : Adobe Photoshop CS5 Macintosh
Modify Date : 2011:03:15 21:52:01
Exposure Time : 30
F Number : 5.6
Exposure Program : Manual
ISO : 400
Sensitivity Type : Unknown
Date/Time Original : 2011:03:15 22:09:34
Create Date : 2011:03:15 22:09:34
Shutter Speed Value : 30
Aperture Value : 5.6
Exposure Compensation : 0
Max Aperture Value : 1.4
Metering Mode : Multi-segment
Light Source : Unknown
Flash : No Flash
Focal Length : 50.0 mm
Color Space : sRGB
Exif Image Width : 1024
Exif Image Height : 674
Sensing Method : One-chip color area
Scene Type : Directly photographed
CFA Pattern : [Red,Green][Green,Blue]
Custom Rendered : Custom
Exposure Mode : Manual
White Balance : Auto
Digital Zoom Ratio : 1
Focal Length In 35mm Format : 50 mm
Scene Capture Type : Standard
Gain Control : Low gain up
Contrast : Normal
Saturation : Normal
Sharpness : Hard
Subject Distance Range : Unknown
Serial Number : 2057656
Lens Info : 50mm f/1.4
Lens Model : Zeiss Planar T* 1.4/50 ZF.2
Profile Description : sRGB IEC61966-2.1
Creator Tool : Ver.1.02
Rating : 0
Lens : Zeiss Planar T* 1.4/50 ZF.2
Image Number : 14603
Raw File Name : DSC_4361.NEF
Version : 6.3
Process Version : 5.7
Color Temperature : 2700
Tint : +4
Exposure : -1.10
Shadows : 6
Brightness : +50
Luminance Smoothing : 10
Color Noise Reduction : 10
Chromatic Aberration R : 0
Chromatic Aberration B : 0
Vignette Amount : 0
Shadow Tint : 0
Red Hue : 0
Red Saturation : 0
Green Hue : 0
Green Saturation : 0
Blue Hue : 0
Blue Saturation : 0
Fill Light : 10
Vibrance : 0
Highlight Recovery : 11
Clarity : +10
Defringe : 0
Hue Adjustment Red : 0
Hue Adjustment Orange : -41
Hue Adjustment Yellow : +3
Hue Adjustment Green : 0
Hue Adjustment Aqua : 0
Hue Adjustment Blue : -10
Hue Adjustment Purple : 0
Hue Adjustment Magenta : 0
Saturation Adjustment Red : -5
Saturation Adjustment Orange : +3
Saturation Adjustment Yellow : -11
Saturation Adjustment Green : 0
Saturation Adjustment Aqua : 0
Saturation Adjustment Blue : +16
Saturation Adjustment Purple : 0
Saturation Adjustment Magenta : 0
Luminance Adjustment Red : 0
Luminance Adjustment Orange : 0
Luminance Adjustment Yellow : 0
Luminance Adjustment Green : 0
Luminance Adjustment Aqua : 0
Luminance Adjustment Blue : -16
Luminance Adjustment Purple : 0
Luminance Adjustment Magenta : 0
Split Toning Shadow Hue : 0
Split Toning Shadow Saturation : 0
Split Toning Highlight Hue : 0
Split Toning Highlight Saturation : 0
Split Toning Balance : 0
Parametric Shadows : 0
Parametric Darks : 0
Parametric Lights : 0
Parametric Highlights : 0
Parametric Shadow Split : 25
Parametric Midtone Split : 50
Parametric Highlight Split : 75
Sharpen Radius : +1.0
Sharpen Detail : 25
Sharpen Edge Masking : 0
Post Crop Vignette Amount : 0
Grain Amount : 0
Luminance Noise Reduction Detail : 50
Color Noise Reduction Detail : 50
Luminance Noise Reduction Contrast : 0
Lens Profile Enable : 0
Lens Manual Distortion Amount : +5
Perspective Vertical : -19
Perspective Horizontal : -10
Perspective Rotate : 0.0
Perspective Scale : 100
Convert To Grayscale : False
Tone Curve Name : Medium Contrast
Camera Profile : Camera Vivid
Lens Profile Setup : Custom
Lens Profile Name : Adobe (Zeiss Distagon T* 2/35 ZE)
Lens Profile Filename : Canon (Zeiss Distagon T 35 f2 ZE).lcp
Lens Profile Distortion Scale : 100
Lens Profile Chromatic Aberration Scale : 100
Lens Profile Vignetting Scale : 100
Has Settings : True
Crop Top : 0.03589
Crop Left : 0.020477
Crop Bottom : 0.972374
Crop Right : 0.948559
Crop Angle : 0.556252
Crop Constrain To Warp : 0
Has Crop : True
Already Applied : True
Sidecar For Extension : NEF
Color Mode : RGB
ICC Profile Name : sRGB IEC61966-2.1
Date Created : 2011:03:15 22:09:34.067
Format : image/jpeg
Tone Curve : 0, 0, 32, 22, 64, 56, 128, 128, 192, 196, 255, 255
Derived From : Image Width : 300
Image Height : 197
Bits Per Sample : 8
Color Components : 3
Aperture : 5.6
Image Size : 300x197
Megapixels : 0.059
Scale Factor To 35 mm Equivalent : 1.0
Shutter Speed : 30
Create Date : 2011:03:15 22:09:34.67
Date/Time Original : 2011:03:15 22:09:34.67
Modify Date : 2011:03:15 21:52:01.67
Circle Of Confusion : 0.030 mm
Field Of View : 39.6 deg
Focal Length : 50.0 mm (35 mm equivalent: 50.0 mm)
Hyperfocal Distance : 14.86 m
Light Value : -1.9