Uber Exif Photo
By-line : Larry Larsen
By-line Title : artist
Copyright Notice : ©Larry Larsen 2008
Copyright Flag : True
URL : www.lllarsenimages.com
Make : NIKON CORPORATION
Camera Model Name : NIKON D700
Software : Ver.1.02
Modify Date : 2010:06:22 00:34:58
Artist : Larry Larsen
Copyright : (C)Larry Larsen 2008
Exposure Time : 1/60
F Number : 11.0
Exposure Program : Aperture-priority AE
ISO : 900
Date/Time Original : 2010:05:19 16:41:24
Create Date : 2010:05:19 16:41:24
Shutter Speed Value : 1/60
Aperture Value : 11.0
Exposure Compensation : +1/3
Max Aperture Value : 2.0
Metering Mode : Multi-segment
Light Source : Unknown
Focal Length : 35.0 mm
User Comment : (C)Larry Larsen lllarsenimages.com
Sensing Method : One-chip color area
Scene Type : Directly photographed
CFA Pattern : [Red,Green][Green,Blue]
Custom Rendered : Normal
Exposure Mode : Auto
White Balance : Manual
Digital Zoom Ratio : 1
Focal Length In 35mm Format : 35 mm
Scene Capture Type : Standard
Gain Control : High gain up
Contrast : Normal
Saturation : Normal
Sharpness : Normal
Subject Distance Range : Unknown
Profile Description : Adobe RGB (1998)
Date/Time Digitized : 2010:05:19 16:41:24.67-07:00
Exif Image Width : 800
Exif Image Height : 532
Creator Tool : Adobe Photoshop Lightroom
Label : Red
Serial Number : 2232222
Lens Info : 35mm f/2
Lens : 35.0 mm f/2.0
Image Number : 5886
Marked : True
Web Statement : www.lllarsenimages.com
Authors Position : artist
Version : 6.1
Process Version : 5.7
Color Temperature : 4800
Tint : -5
Exposure : -0.45
Shadows : 5
Brightness : +50
Luminance Smoothing : 0
Color Noise Reduction : 25
Chromatic Aberration R : 0
Chromatic Aberration B : 0
Vignette Amount : 0
Shadow Tint : 0
Red Hue : 0
Red Saturation : 0
Green Hue : 0
Green Saturation : 0
Blue Hue : 0
Blue Saturation : 0
Fill Light : 0
Vibrance : +11
Highlight Recovery : 18
Clarity : +52
Defringe : 0
Hue Adjustment Red : 0
Hue Adjustment Orange : 0
Hue Adjustment Yellow : 0
Hue Adjustment Green : 0
Hue Adjustment Aqua : 0
Hue Adjustment Blue : 0
Hue Adjustment Purple : 0
Hue Adjustment Magenta : 0
Saturation Adjustment Red : 0
Saturation Adjustment Orange : 0
Saturation Adjustment Yellow : 0
Saturation Adjustment Green : 0
Saturation Adjustment Aqua : 0
Saturation Adjustment Blue : 0
Saturation Adjustment Purple : 0
Saturation Adjustment Magenta : 0
Luminance Adjustment Red : 0
Luminance Adjustment Orange : 0
Luminance Adjustment Yellow : 0
Luminance Adjustment Green : 0
Luminance Adjustment Aqua : 0
Luminance Adjustment Blue : 0
Luminance Adjustment Purple : 0
Luminance Adjustment Magenta : 0
Split Toning Shadow Hue : 0
Split Toning Shadow Saturation : 0
Split Toning Highlight Hue : 0
Split Toning Highlight Saturation : 0
Split Toning Balance : 0
Parametric Shadows : 0
Parametric Darks : 0
Parametric Lights : 0
Parametric Highlights : 0
Parametric Shadow Split : 25
Parametric Midtone Split : 50
Parametric Highlight Split : 75
Sharpen Radius : +0.8
Sharpen Detail : 35
Sharpen Edge Masking : 0
Post Crop Vignette Amount : 0
Grain Amount : 0
Color Noise Reduction Detail : 50
Lens Profile Enable : 0
Lens Manual Distortion Amount : 0
Perspective Vertical : 0
Perspective Horizontal : 0
Perspective Rotate : 0.0
Perspective Scale : 100
Convert To Grayscale : False
Tone Curve Name : Strong Contrast
Camera Profile : Adobe Standard
Lens Profile Setup : LensDefaults
Has Settings : True
Crop Top : 0.024272
Crop Left : 0.005685
Crop Bottom : 0.970874
Crop Right : 0.952287
Crop Angle : 0
Crop Constrain To Warp : 0
Crop Width : 800
Crop Height : 532
Crop Unit : pixels
Has Crop : True
Already Applied : True
Flash Fired : False
Flash Return : No return detection
Flash Mode : Unknown
Flash Function : False
Flash Red Eye Mode : False
Creator : Larry Larsen
Rights : ©Larry Larsen 2008
Creator Postal Code : 98103
Creator Work Telephone : 206.545.8534
Creator Region : WA
Creator City : Seattle
Creator Country : USA
Creator Work Email : lllarsen8@comcast.net
Creator Address : 1200 N. 44th Street
Creator Work URL : www.lllarsenimages.com
Usage Terms : All rights reserved permission only
Tone Curve : 0, 0, 32, 16, 64, 50, 128, 128, 192, 202, 255, 255
Gradient Based Corr What : Correction
Gradient Based Corr Amount : 1.000000
Gradient Based Corr Active : true
Gradient Based Corr Exposure : -0.435294
Gradient Based Corr Saturation : 0.000000
Gradient Based Corr Contrast : 0.000000
Gradient Based Corr Clarity : 0.000000
Gradient Based Corr Sharpness : 0.000000
Gradient Based Corr Brightness : 0.000000
Gradient Based Corr Toning Hue : 240.000000
Gradient Based Corr Toning Saturation : 0.000000
Gradient Based Corr Mask What : Mask/Gradient
Gradient Based Corr Mask Value : 1.000000
Gradient Based Corr Mask Zero X : 0.475767
Gradient Based Corr Mask Zero Y : 0.547330
Gradient Based Corr Mask Full X : 0.475767
Gradient Based Corr Mask Full Y : 0.002427
Image Width : 300
Image Height : 200
Bits Per Sample : 8
Color Components : 3
Aperture : 11.0
Image Size : 300x200
Megapixels : 0.060
Scale Factor To 35 mm Equivalent : 1.0
Shutter Speed : 1/60
Create Date : 2010:05:19 16:41:24.67
Date/Time Original : 2010:05:19 16:41:24.67
Flash : No Flash
Circle Of Confusion : 0.030 mm
Field Of View : 54.4 deg
Focal Length : 35.0 mm (35 mm equivalent: 35.0 mm)
Hyperfocal Distance : 3.71 m
Light Value : 9.7
Lens ID : 35.0mm f/2.0