Uber Exif Photo
Caption-Abstract : OLYMPUS DIGITAL CAMERA
Keywords : 2010, Amsterdam, Carl Zeiss, Distagon T*2/35, E-PL1, Olympus, PEN
Image Description : OLYMPUS DIGITAL CAMERA
Make : OLYMPUS IMAGING CORP.
Camera Model Name : E-PL1
Orientation : Horizontal (normal)
Software : Adobe Photoshop CS5 Macintosh
Modify Date : 2010:12:30 02:08:28
Exposure Time : 1/100
Exposure Program : Aperture-priority AE
ISO : 1600
Sensitivity Type : Unknown
Date/Time Original : 2010:12:29 10:41:05
Create Date : 2010:12:29 10:41:05
Shutter Speed Value : 1/100
Exposure Compensation : 0
Max Aperture Value : 1.0
Metering Mode : Multi-segment
Light Source : Unknown
Flash : Auto, Did not fire
Color Space : sRGB
Exif Image Width : 1024
Exif Image Height : 693
Custom Rendered : Normal
Exposure Mode : Auto
White Balance : Auto
Digital Zoom Ratio : 1
Scene Capture Type : Standard
Gain Control : High gain up
Contrast : Normal
Saturation : Normal
Sharpness : Normal
Serial Number : B2Y516271
Profile Description : sRGB IEC61966-2.1
Rating : 0
Label : Metadata Date : 2010:12:30 02:08:28+01:00
Creator Tool : Version 1.1
Format : image/jpeg
Flash Compensation : -0.33203125
Color Mode : RGB
ICC Profile Name : sRGB IEC61966-2.1
Date Created : 2010:12:29 10:41:05
Raw File Name : _P000443.JPG
Version : 6.3
Process Version : 5.7
Incremental Temperature : +37
Incremental Tint : +13
Exposure : 0.00
Shadows : 1
Brightness : +24
Luminance Smoothing : 0
Color Noise Reduction : 0
Chromatic Aberration R : 0
Chromatic Aberration B : 0
Vignette Amount : 0
Shadow Tint : 0
Red Hue : 0
Red Saturation : 0
Green Hue : 0
Green Saturation : 0
Blue Hue : 0
Blue Saturation : 0
Fill Light : 0
Vibrance : 0
Highlight Recovery : 61
Clarity : +15
Defringe : 2
Hue Adjustment Red : 0
Hue Adjustment Orange : 0
Hue Adjustment Yellow : 0
Hue Adjustment Green : 0
Hue Adjustment Aqua : 0
Hue Adjustment Blue : 0
Hue Adjustment Purple : 0
Hue Adjustment Magenta : 0
Saturation Adjustment Red : 0
Saturation Adjustment Orange : 0
Saturation Adjustment Yellow : 0
Saturation Adjustment Green : 0
Saturation Adjustment Aqua : 0
Saturation Adjustment Blue : -3
Saturation Adjustment Purple : -80
Saturation Adjustment Magenta : 0
Luminance Adjustment Red : 0
Luminance Adjustment Orange : 0
Luminance Adjustment Yellow : 0
Luminance Adjustment Green : 0
Luminance Adjustment Aqua : 0
Luminance Adjustment Blue : 0
Luminance Adjustment Purple : 0
Luminance Adjustment Magenta : 0
Split Toning Shadow Hue : 0
Split Toning Shadow Saturation : 0
Split Toning Highlight Hue : 0
Split Toning Highlight Saturation : 0
Split Toning Balance : 0
Parametric Shadows : 0
Parametric Darks : 0
Parametric Lights : 0
Parametric Highlights : 0
Parametric Shadow Split : 25
Parametric Midtone Split : 50
Parametric Highlight Split : 75
Sharpen Radius : +1.0
Sharpen Detail : 25
Sharpen Edge Masking : 0
Post Crop Vignette Amount : 0
Grain Amount : 0
Lens Profile Enable : 0
Lens Manual Distortion Amount : 0
Perspective Vertical : 0
Perspective Horizontal : 0
Perspective Rotate : 0.0
Perspective Scale : 100
Convert To Grayscale : False
Tone Curve Name : Linear
Camera Profile : Embedded
Lens Profile Setup : LensDefaults
Has Settings : True
Crop Top : 0
Crop Left : 0.013651
Crop Bottom : 1
Crop Right : 0.986349
Crop Angle : 0.735865
Crop Constrain To Warp : 0
Has Crop : True
Already Applied : True
Subject : 2010, Amsterdam, Carl Zeiss, Distagon T*2/35, E-PL1, Olympus, PEN
Description : OLYMPUS DIGITAL CAMERA
Hierarchical Subject : 2010, Amsterdam, Carl Zeiss, Distagon T*2/35, E-PL1, Olympus, PEN
Tone Curve : 0, 0, 255, 255
Image Width : 300
Image Height : 203
Bits Per Sample : 8
Color Components : 3
Image Size : 300x203
Megapixels : 0.061
Shutter Speed : 1/100