Uber Exif Photo
Make : NIKON CORPORATION
Camera Model Name : NIKON D800
Orientation : Horizontal (normal)
Software : Adobe Photoshop CC (Macintosh)
Modify Date : 2014:02:28 10:26:27
Exposure Time : 1/500
F Number : 2.0
Exposure Program : Aperture-priority AE
ISO : 400
Sensitivity Type : Recommended Exposure Index
Date/Time Original : 2014:02:23 16:24:11
Create Date : 2014:02:23 16:24:11
Shutter Speed Value : 1/500
Aperture Value : 2.0
Exposure Compensation : 0
Max Aperture Value : 2.0
Metering Mode : Spot
Light Source : Unknown
Flash : Off, Did not fire
Focal Length : 135.0 mm
Color Space : Uncalibrated
Exif Image Width : 1000
Exif Image Height : 750
Sensing Method : One-chip color area
Scene Type : Directly photographed
CFA Pattern : [Red,Green][Green,Blue]
Custom Rendered : Normal
Exposure Mode : Auto
White Balance : Auto
Digital Zoom Ratio : 1
Focal Length In 35mm Format : 135 mm
Scene Capture Type : Standard
Gain Control : Low gain up
Contrast : Normal
Saturation : Normal
Sharpness : Normal
Subject Distance Range : Unknown
Serial Number : 6006134
Lens Info : 135mm f/2
Lens Model : Zeiss Apo Sonnar T* 2/135 ZF.2
Profile Description : Adobe RGB (1998)
Creator Tool : Ver.1.02
Rating : 0,
Lens : Zeiss Apo Sonnar T* 2/135 ZF.2
Image Number : 9099
Date Created : 2014:02:23 16:24:11.006
Color Mode : RGB
ICC Profile Name : Adobe RGB (1998)
Format : image/jpeg
Raw File Name : _DSC7750.NEF
Version : 8.3
Process Version : 6.7
Auto White Version : 134348800
Color Temperature : 4550
Tint : +5
Luminance Smoothing : 0
Color Noise Reduction : 25
Vignette Amount : 0
Shadow Tint : 0
Red Hue : 0
Red Saturation : 0
Green Hue : 0
Green Saturation : 0
Blue Hue : 0
Blue Saturation : 0
Vibrance : 0
Hue Adjustment Red : 0
Hue Adjustment Orange : 0
Hue Adjustment Yellow : 0
Hue Adjustment Green : 0
Hue Adjustment Aqua : 0
Hue Adjustment Blue : 0
Hue Adjustment Purple : 0
Hue Adjustment Magenta : 0
Saturation Adjustment Red : 0
Saturation Adjustment Orange : 0
Saturation Adjustment Yellow : 0
Saturation Adjustment Green : 0
Saturation Adjustment Aqua : 0
Saturation Adjustment Blue : 0
Saturation Adjustment Purple : 0
Saturation Adjustment Magenta : 0
Luminance Adjustment Red : 0
Luminance Adjustment Orange : 0
Luminance Adjustment Yellow : 0
Luminance Adjustment Green : 0
Luminance Adjustment Aqua : 0
Luminance Adjustment Blue : 0
Luminance Adjustment Purple : 0
Luminance Adjustment Magenta : 0
Split Toning Shadow Hue : 0
Split Toning Shadow Saturation : 0
Split Toning Highlight Hue : 0
Split Toning Highlight Saturation : 0
Split Toning Balance : 0
Parametric Shadows : 0
Parametric Darks : 0
Parametric Lights : 0
Parametric Highlights : 0
Parametric Shadow Split : 25
Parametric Midtone Split : 50
Parametric Highlight Split : 75
Sharpen Radius : +1,0
Sharpen Detail : 25
Sharpen Edge Masking : 0
Post Crop Vignette Amount : 0
Grain Amount : 0
Color Noise Reduction Detail : 50
Color Noise Reduction Smoothness : 50
Lens Profile Enable : 0
Lens Manual Distortion Amount : 0
Perspective Vertical : 0
Perspective Horizontal : 0
Perspective Rotate : 0,0
Perspective Scale : 100
Perspective Aspect : 0
Perspective Upright : Off
Auto Lateral CA : 0
Exposure 2012 : 0,00
Contrast 2012 : 0
Highlights 2012 : 0
Shadows 2012 : 0
Whites 2012 : 0
Blacks 2012 : -14
Clarity 2012 : +20
Defringe Purple Amount : 0
Defringe Purple Hue Lo : 30
Defringe Purple Hue Hi : 70
Defringe Green Amount : 0
Defringe Green Hue Lo : 40
Defringe Green Hue Hi : 60
Convert To Grayscale : False
Tone Curve Name 2012 : Linear
Camera Profile : Adobe Standard
Lens Profile Setup : LensDefaults
Has Settings : True
Has Crop : False
Already Applied : True
Tone Curve PV2012 : 0, 0, 255, 255
Tone Curve PV2012 Red : 0, 0, 255, 255
Tone Curve PV2012 Green : 0, 0, 255, 255
Tone Curve PV2012 Blue : 0, 0, 255, 255
Image Width : 300
Image Height : 225
Bits Per Sample : 8
Color Components : 3
Aperture : 2.0
Image Size : 300x225
Megapixels : 0.068
Scale Factor To 35 mm Equivalent : 1.0
Shutter Speed : 1/500
Create Date : 2014:02:23 16:24:11.60
Date/Time Original : 2014:02:23 16:24:11.60
Modify Date : 2014:02:28 10:26:27.60
Circle Of Confusion : 0.030 mm
Field Of View : 15.2 deg
Focal Length : 135.0 mm (35 mm equivalent: 135.0 mm)
Hyperfocal Distance : 303.28 m
Light Value : 9.0