Uber Exif Photo
Make : NIKON CORPORATION
Camera Model Name : NIKON D700
Software : Adobe Photoshop Lightroom 3.6 (Macintosh)
Modify Date : 2014:10:08 00:38:15
Exposure Time : 0.5
F Number : 5.6
Exposure Program : Aperture-priority AE
ISO : 200
Date/Time Original : 2014:10:07 20:14:03
Create Date : 2014:10:07 20:14:03
Shutter Speed Value : 0.5
Aperture Value : 5.6
Exposure Compensation : 0
Max Aperture Value : 1.0
Metering Mode : Center-weighted average
Light Source : Unknown
Flash : No Flash
Focal Length : 85.0 mm
Sensing Method : One-chip color area
Scene Type : Directly photographed
CFA Pattern : [Red,Green][Green,Blue]
Custom Rendered : Normal
Exposure Mode : Auto
White Balance : Auto
Digital Zoom Ratio : 1
Focal Length In 35mm Format : 85 mm
Scene Capture Type : Standard
Gain Control : None
Contrast : Normal
Saturation : Normal
Sharpness : Normal
Subject Distance Range : Unknown
Serial Number : 2148790
Lens Info : 0mm f/0
Lens Model : 0.0 mm f/0.0
Profile Description : sRGB IEC61966-2.1
Creator Tool : Adobe Photoshop Lightroom 3.6 (Macintosh)
Rating : 3
Lens : 0.0 mm f/0.0
Image Number : 88589
Date Created : 2014:10:07 20:14:03.67
Format : image/jpeg
Version : 6.6
Process Version : 5.7
Color Temperature : 3300
Tint : -3
Exposure : +0.85
Shadows : 5
Brightness : +50
Luminance Smoothing : 0
Color Noise Reduction : 25
Chromatic Aberration R : 0
Chromatic Aberration B : 0
Vignette Amount : 0
Shadow Tint : 0
Red Hue : 0
Red Saturation : 0
Green Hue : 0
Green Saturation : 0
Blue Hue : 0
Blue Saturation : 0
Fill Light : 61
Vibrance : 0
Highlight Recovery : 36
Clarity : 0
Defringe : 0
Hue Adjustment Red : 0
Hue Adjustment Orange : 0
Hue Adjustment Yellow : 0
Hue Adjustment Green : 0
Hue Adjustment Aqua : 0
Hue Adjustment Blue : 0
Hue Adjustment Purple : 0
Hue Adjustment Magenta : 0
Saturation Adjustment Red : 0
Saturation Adjustment Orange : 0
Saturation Adjustment Yellow : 0
Saturation Adjustment Green : 0
Saturation Adjustment Aqua : 0
Saturation Adjustment Blue : 0
Saturation Adjustment Purple : 0
Saturation Adjustment Magenta : 0
Luminance Adjustment Red : 0
Luminance Adjustment Orange : 0
Luminance Adjustment Yellow : 0
Luminance Adjustment Green : 0
Luminance Adjustment Aqua : 0
Luminance Adjustment Blue : 0
Luminance Adjustment Purple : 0
Luminance Adjustment Magenta : 0
Split Toning Shadow Hue : 0
Split Toning Shadow Saturation : 0
Split Toning Highlight Hue : 0
Split Toning Highlight Saturation : 0
Split Toning Balance : 0
Parametric Shadows : 0
Parametric Darks : 0
Parametric Lights : 0
Parametric Highlights : 0
Parametric Shadow Split : 25
Parametric Midtone Split : 50
Parametric Highlight Split : 75
Sharpen Radius : +1.0
Sharpen Detail : 25
Sharpen Edge Masking : 0
Post Crop Vignette Amount : 0
Grain Amount : 0
Color Noise Reduction Detail : 50
Lens Profile Enable : 0
Lens Manual Distortion Amount : 0
Perspective Vertical : 0
Perspective Horizontal : 0
Perspective Rotate : 0.0
Perspective Scale : 100
Convert To Grayscale : False
Tone Curve Name : Medium Contrast
Camera Profile : Camera D2X Mode 2
Lens Profile Setup : LensDefaults
Has Settings : True
Crop Top : 0.182692
Crop Left : 0
Crop Bottom : 1
Crop Right : 1
Crop Angle : 0
Crop Constrain To Warp : 0
Crop Width : 1280
Crop Height : 696
Crop Unit : pixels
Has Crop : True
Already Applied : True
Tone Curve : 0, 0, 32, 22, 64, 56, 128, 128, 192, 196, 255, 255
Image Width : 300
Image Height : 163
Bits Per Sample : 8
Color Components : 3
Aperture : 5.6
Image Size : 300x163
Megapixels : 0.049
Scale Factor To 35 mm Equivalent : 1.0
Shutter Speed : 0.5
Create Date : 2014:10:07 20:14:03.67
Date/Time Original : 2014:10:07 20:14:03.67
Circle Of Confusion : 0.030 mm
Field Of View : 23.9 deg
Focal Length : 85.0 mm (35 mm equivalent: 85.0 mm)
Hyperfocal Distance : 42.94 m
Light Value : 5.0
Lens ID : 0.0mm f/0.0