Uber Exif Photo
Make : NIKON CORPORATION
Camera Model Name : NIKON D700
Software : Ver.1.00
Modify Date : 2011:10:09 00:46:09
Exposure Time : 1/40
F Number : 8.0
Exposure Program : Aperture-priority AE
ISO : 800
Sensitivity Type : Unknown
Date/Time Original : 2009:06:03 20:14:37
Create Date : 2009:06:03 20:14:37
Shutter Speed Value : 1/40
Aperture Value : 8.0
Exposure Compensation : 0
Max Aperture Value : 1.0
Metering Mode : Multi-segment
Light Source : Unknown
Focal Length : 25.0 mm
Sensing Method : One-chip color area
Scene Type : Directly photographed
CFA Pattern : [Red,Green][Green,Blue]
Custom Rendered : Normal
Exposure Mode : Auto
White Balance : Auto
Digital Zoom Ratio : 1
Focal Length In 35mm Format : 25 mm
Scene Capture Type : Standard
Gain Control : Low gain up
Contrast : Normal
Saturation : Normal
Sharpness : Normal
Subject Distance Range : Unknown
Serial Number : 2148790
Lens Info : 0mm f/0
Lens Model : 0.0 mm f/0.0
GPS Version ID : 2.2.0.0
Profile Description : sRGB IEC61966-2.1
Creator Tool : Adobe Photoshop Lightroom 3.3
Rating : 3
Label : Rot
Color Space : Uncalibrated
Compressed Bits Per Pixel : 4
Exif Image Width : 1000
Exif Image Height : 637
Date/Time Digitized : 2009:06:03 20:14:37.31+02:00
Lens : 0.0 mm f/0.0
Image Number : 8210
Version : 6.3
Process Version : 5.7
Incremental Temperature : -6
Incremental Tint : 0
Exposure : -0.15
Shadows : 0
Brightness : 0
Luminance Smoothing : 0
Color Noise Reduction : 0
Chromatic Aberration R : 0
Chromatic Aberration B : 0
Vignette Amount : 0
Shadow Tint : 0
Red Hue : 0
Red Saturation : 0
Green Hue : 0
Green Saturation : 0
Blue Hue : 0
Blue Saturation : 0
Fill Light : 0
Vibrance : +18
Highlight Recovery : 14
Clarity : +18
Defringe : 0
Hue Adjustment Red : 0
Hue Adjustment Orange : 0
Hue Adjustment Yellow : 0
Hue Adjustment Green : 0
Hue Adjustment Aqua : 0
Hue Adjustment Blue : 0
Hue Adjustment Purple : 0
Hue Adjustment Magenta : 0
Saturation Adjustment Red : 0
Saturation Adjustment Orange : 0
Saturation Adjustment Yellow : 0
Saturation Adjustment Green : 0
Saturation Adjustment Aqua : 0
Saturation Adjustment Blue : 0
Saturation Adjustment Purple : 0
Saturation Adjustment Magenta : 0
Luminance Adjustment Red : 0
Luminance Adjustment Orange : 0
Luminance Adjustment Yellow : 0
Luminance Adjustment Green : 0
Luminance Adjustment Aqua : 0
Luminance Adjustment Blue : 0
Luminance Adjustment Purple : 0
Luminance Adjustment Magenta : 0
Split Toning Shadow Hue : 0
Split Toning Shadow Saturation : 0
Split Toning Highlight Hue : 0
Split Toning Highlight Saturation : 0
Split Toning Balance : 0
Parametric Shadows : 0
Parametric Darks : 0
Parametric Lights : 0
Parametric Highlights : 0
Parametric Shadow Split : 25
Parametric Midtone Split : 50
Parametric Highlight Split : 75
Sharpen Radius : +1.0
Sharpen Detail : 34
Sharpen Edge Masking : 0
Post Crop Vignette Amount : 0
Grain Amount : 0
Lens Profile Enable : 0
Lens Manual Distortion Amount : 0
Perspective Vertical : 0
Perspective Horizontal : 0
Perspective Rotate : 0.0
Perspective Scale : 100
Convert To Grayscale : False
Tone Curve Name : Linear
Camera Profile : Embedded
Lens Profile Setup : LensDefaults
Has Settings : True
Crop Top : 0.043664
Crop Left : 0.006423
Crop Bottom : 0.99833
Crop Right : 0.99345
Crop Angle : 0.260526
Crop Constrain To Warp : 0
Crop Width : 1000
Crop Height : 637
Crop Unit : pixels
Has Crop : True
Already Applied : True
White Point : 0.313, 0.329
Primary Chromaticities : 0.64, 0.33, 0.21, 0.71, 0.15, 0.06
CFA Pattern Columns : 2
CFA Pattern Rows : 2
CFA Pattern Values : 0, 1, 1, 2
Flash Fired : False
Flash Return : No return detection
Flash Mode : Unknown
Flash Function : False
Flash Red Eye Mode : False
Tone Curve : 0, 0, 255, 255
Gradient Based Corr What : Correction
Gradient Based Corr Amount : 1.000000
Gradient Based Corr Active : true
Gradient Based Corr Exposure : -0.245614
Gradient Based Corr Saturation : 0.070175
Gradient Based Corr Contrast : -0.017544
Gradient Based Corr Clarity : 0.035088
Gradient Based Corr Sharpness : 0.000000
Gradient Based Corr Brightness : 0.070175
Gradient Based Corr Toning Hue : 236.000000
Gradient Based Corr Toning Saturation : 0.450000
Gradient Based Corr Mask What : Mask/Gradient
Gradient Based Corr Mask Value : 1.000000
Gradient Based Corr Mask Zero X : 0.498327
Gradient Based Corr Mask Zero Y : 0.632235
Gradient Based Corr Mask Full X : 0.428152
Gradient Based Corr Mask Full Y : 0.069142
Image Width : 300
Image Height : 191
Bits Per Sample : 8
Color Components : 3
Aperture : 8.0
Image Size : 300x191
Megapixels : 0.057
Scale Factor To 35 mm Equivalent : 1.0
Shutter Speed : 1/40
Create Date : 2009:06:03 20:14:37.31
Date/Time Original : 2009:06:03 20:14:37.31
Flash : No Flash
Circle Of Confusion : 0.030 mm
Field Of View : 71.5 deg
Focal Length : 25.0 mm (35 mm equivalent: 25.0 mm)
Hyperfocal Distance : 2.60 m
Light Value : 8.3
Lens ID : 0.0mm f/0.0