Uber Exif Photo
Make : Canon
Camera Model Name : Canon EOS 5D Mark II
Software : Adobe Photoshop Lightroom 4.2 (Windows)
Modify Date : 2012:11:18 15:58:15
Exposure Time : 1/5
F Number : 4.5
Exposure Program : Manual
ISO : 100
Date/Time Original : 2012:11:18 08:41:15
Create Date : 2012:11:18 08:41:15
Shutter Speed Value : 1/5
Aperture Value : 4.5
Exposure Compensation : 0
Max Aperture Value : 2.0
Metering Mode : Multi-segment
Flash : Off, Did not fire
Focal Length : 35.0 mm
Custom Rendered : Normal
Exposure Mode : Manual
White Balance : Manual
Scene Capture Type : Standard
Serial Number : 3231605256
Lens Info : 35mm f/?
Lens Model : Zeiss Distagon T* 2/35 ZE
Profile Description : sRGB IEC61966-2.1
Lens : Zeiss Distagon T* 2/35 ZE
Image Number : 0
Flash Compensation : 0
Firmware : 2.0.9
Creator Tool : Adobe Photoshop Lightroom 4.2 (Windows)
Date Created : 2012:11:18 08:41:15.19
Format : image/jpeg
Version : 7.2
Process Version : 6.7
Color Temperature : 5095
Tint : +1
Saturation : +10
Sharpness : 50
Luminance Smoothing : 0
Color Noise Reduction : 25
Vignette Amount : 0
Shadow Tint : 0
Red Hue : 0
Red Saturation : 0
Green Hue : 0
Green Saturation : 0
Blue Hue : 0
Blue Saturation : 0
Vibrance : +7
Hue Adjustment Red : 0
Hue Adjustment Orange : 0
Hue Adjustment Yellow : 0
Hue Adjustment Green : 0
Hue Adjustment Aqua : 0
Hue Adjustment Blue : 0
Hue Adjustment Purple : 0
Hue Adjustment Magenta : 0
Saturation Adjustment Red : +2
Saturation Adjustment Orange : +2
Saturation Adjustment Yellow : 0
Saturation Adjustment Green : 0
Saturation Adjustment Aqua : 0
Saturation Adjustment Blue : +4
Saturation Adjustment Purple : 0
Saturation Adjustment Magenta : 0
Luminance Adjustment Red : 0
Luminance Adjustment Orange : 0
Luminance Adjustment Yellow : 0
Luminance Adjustment Green : 0
Luminance Adjustment Aqua : 0
Luminance Adjustment Blue : 0
Luminance Adjustment Purple : 0
Luminance Adjustment Magenta : 0
Split Toning Shadow Hue : 0
Split Toning Shadow Saturation : 0
Split Toning Highlight Hue : 0
Split Toning Highlight Saturation : 0
Split Toning Balance : 0
Parametric Shadows : 0
Parametric Darks : +3
Parametric Lights : 0
Parametric Highlights : 0
Parametric Shadow Split : 25
Parametric Midtone Split : 50
Parametric Highlight Split : 75
Sharpen Radius : +1.0
Sharpen Detail : 40
Sharpen Edge Masking : 0
Post Crop Vignette Amount : 0
Grain Amount : 0
Color Noise Reduction Detail : 50
Lens Profile Enable : 0
Lens Manual Distortion Amount : 0
Perspective Vertical : 0
Perspective Horizontal : 0
Perspective Rotate : 0.0
Perspective Scale : 100
Auto Lateral CA : 1
Exposure 2012 : 0.00
Contrast 2012 : 0
Highlights 2012 : -36
Shadows 2012 : +5
Whites 2012 : -12
Blacks 2012 : 0
Clarity 2012 : 0
Defringe Purple Amount : 6
Defringe Purple Hue Lo : 30
Defringe Purple Hue Hi : 70
Defringe Green Amount : 0
Defringe Green Hue Lo : 40
Defringe Green Hue Hi : 60
Convert To Grayscale : False
Tone Curve Name 2012 : Linear
Camera Profile : Adobe Standard
Lens Profile Setup : Custom
Lens Profile Name : Adobe (Zeiss Distagon T* 2/35 ZE)
Lens Profile Filename : Canon (Zeiss Distagon T 35 f2 ZE).lcp
Lens Profile Distortion Scale : 100
Lens Profile Chromatic Aberration Scale : 100
Lens Profile Vignetting Scale : 100
Has Settings : True
Has Crop : False
Already Applied : True
Tone Curve PV2012 : 0, 0, 255, 255
Tone Curve PV2012 Red : 0, 0, 255, 255
Tone Curve PV2012 Green : 0, 0, 255, 255
Tone Curve PV2012 Blue : 0, 0, 255, 255
Image Width : 200
Image Height : 300
Bits Per Sample : 8
Color Components : 3
Aperture : 4.5
Image Size : 200x300
Megapixels : 0.060
Scale Factor To 35 mm Equivalent : 1.0
Shutter Speed : 1/5
Create Date : 2012:11:18 08:41:15.19
Date/Time Original : 2012:11:18 08:41:15.19
Circle Of Confusion : 0.031 mm
Field Of View : 55.6 deg
Focal Length : 35.0 mm (35 mm equivalent: 34.2 mm)
Hyperfocal Distance : 8.84 m
Light Value : 6.7
Lens ID : Carl Zeiss Distagon T* 35mm f/2 ZE