Uber Exif Photo
By-line : KwangJun Jeong
Copyright Notice : Copyright 2016. Kwang All rights reserved.
Make : NIKON CORPORATION
Camera Model Name : NIKON D750
Software : Adobe Photoshop Lightroom 6.8 (Windows)
Modify Date : 2016:12:24 14:31:02
Artist : KwangJun Jeong
Copyright : Copyright 2016. Kwang All rights reserved.
Exposure Time : 1/640
F Number : 4.5
Exposure Program : Manual
ISO : 100
Sensitivity Type : Recommended Exposure Index
Date/Time Original : 2016:12:19 12:30:08
Create Date : 2016:12:19 12:30:08
Shutter Speed Value : 1/640
Aperture Value : 4.5
Exposure Compensation : 0
Max Aperture Value : 1.4
Metering Mode : Other
Light Source : Unknown
Flash : Off, Did not fire
Focal Length : 50.0 mm
Color Space : sRGB
Sensing Method : One-chip color area
Scene Type : Directly photographed
CFA Pattern : [Red,Green][Green,Blue]
Custom Rendered : Normal
Exposure Mode : Manual
White Balance : Auto
Digital Zoom Ratio : 1
Focal Length In 35mm Format : 50 mm
Scene Capture Type : Standard
Gain Control : None
Contrast : Normal
Saturation : Normal
Sharpness : Soft
Subject Distance Range : Unknown
Serial Number : 5509389
Lens Info : 50mm f/1.4
Lens Model : 50.0 mm f/1.4
Profile Description : sRGB IEC61966-2.1
Creator Tool : Adobe Photoshop Lightroom 6.8 (Windows)
Format : image/jpeg
Lens : 50.0 mm f/1.4
Image Number : 33590
Approximate Focus Distance : 4294967295
Date Created : 2016:12:19 12:30:08.85
Version : 9.8
Process Version : 6.7
Auto White Version : 134348800
Color Temperature : 3831
Tint : -6
Luminance Smoothing : 0
Color Noise Reduction : 25
Vignette Amount : 0
Shadow Tint : 0
Red Hue : +20
Red Saturation : +30
Green Hue : +20
Green Saturation : -50
Blue Hue : 0
Blue Saturation : -5
Vibrance : 0
Hue Adjustment Red : +8
Hue Adjustment Orange : +5
Hue Adjustment Yellow : 0
Hue Adjustment Green : +15
Hue Adjustment Aqua : 0
Hue Adjustment Blue : +15
Hue Adjustment Purple : 0
Hue Adjustment Magenta : 0
Saturation Adjustment Red : -15
Saturation Adjustment Orange : 0
Saturation Adjustment Yellow : 0
Saturation Adjustment Green : 0
Saturation Adjustment Aqua : 0
Saturation Adjustment Blue : 0
Saturation Adjustment Purple : -10
Saturation Adjustment Magenta : -10
Luminance Adjustment Red : -20
Luminance Adjustment Orange : -10
Luminance Adjustment Yellow : 0
Luminance Adjustment Green : -5
Luminance Adjustment Aqua : -5
Luminance Adjustment Blue : -15
Luminance Adjustment Purple : -5
Luminance Adjustment Magenta : 0
Split Toning Shadow Hue : 0
Split Toning Shadow Saturation : 0
Split Toning Highlight Hue : 0
Split Toning Highlight Saturation : 0
Split Toning Balance : 0
Parametric Shadows : 0
Parametric Darks : 0
Parametric Lights : 0
Parametric Highlights : 0
Parametric Shadow Split : 18
Parametric Midtone Split : 36
Parametric Highlight Split : 61
Sharpen Radius : +1.0
Sharpen Detail : 25
Sharpen Edge Masking : 0
Post Crop Vignette Amount : 0
Grain Amount : 15
Grain Size : 15
Grain Frequency : 20
Color Noise Reduction Detail : 50
Color Noise Reduction Smoothness : 50
Lens Profile Enable : 0
Lens Manual Distortion Amount : 0
Perspective Vertical : 0
Perspective Horizontal : 0
Perspective Rotate : 0.0
Perspective Scale : 100
Perspective Aspect : 0
Perspective Upright : Off
Perspective X : 0.00
Perspective Y : 0.00
Auto Lateral CA : 0
Exposure 2012 : -0.02
Contrast 2012 : -31
Highlights 2012 : -69
Shadows 2012 : +25
Whites 2012 : -83
Blacks 2012 : +44
Clarity 2012 : -5
Defringe Purple Amount : 0
Defringe Purple Hue Lo : 30
Defringe Purple Hue Hi : 70
Defringe Green Amount : 0
Defringe Green Hue Lo : 40
Defringe Green Hue Hi : 60
Dehaze : 0
Tone Map Strength : 0
Convert To Grayscale : False
Tone Curve Name : Linear
Tone Curve Name 2012 : Custom
Camera Profile : Elite II 50 - N
Lens Profile Setup : LensDefaults
Has Settings : True
Has Crop : False
Already Applied : True
Creator : KwangJun Jeong
Rights : Copyright 2016. Kwang All rights reserved.
Tone Curve : 0, 0, 255, 255
Tone Curve Red : 0, 0, 255, 255
Tone Curve Green : 0, 0, 255, 255
Tone Curve Blue : 0, 0, 255, 255
Tone Curve PV2012 : 0, 18, 37, 50, 149, 148, 255, 255
Tone Curve PV2012 Red : 0, 0, 20, 6, 62, 36, 120, 125, 198, 210, 255, 255
Tone Curve PV2012 Green : 0, 0, 59, 42, 122, 124, 197, 213, 255, 251
Tone Curve PV2012 Blue : 0, 0, 54, 41, 120, 122, 200, 203, 255, 242
Image Width : 308
Image Height : 208
Bits Per Sample : 8
Color Components : 3
Aperture : 4.5
Image Size : 308x208
Megapixels : 0.064
Scale Factor To 35 mm Equivalent : 1.0
Shutter Speed : 1/640
Create Date : 2016:12:19 12:30:08.85
Date/Time Original : 2016:12:19 12:30:08.85
Circle Of Confusion : 0.030 mm
Depth Of Field : inf (18.49 m - inf)
Field Of View : 39.6 deg
Focal Length : 50.0 mm (35 mm equivalent: 50.0 mm)
Hyperfocal Distance : 18.49 m
Light Value : 13.7
Lens ID : AF-S Nikkor 50mm f/1.4G