Uber Exif Photo
Province-State : Washington
Country-Primary Location Name : United States
Make : SONY
Camera Model Name : SLT-A77V
Software : Adobe Photoshop Lightroom 4.1 (Windows)
Modify Date : 2012:08:11 20:33:28
Exposure Time : 1/1250
F Number : 2.2
Exposure Program : Aperture-priority AE
ISO : 200
Sensitivity Type : Recommended Exposure Index
Recommended Exposure Index : 200
Date/Time Original : 2012:08:11 13:27:59
Create Date : 2012:08:11 13:27:59
Shutter Speed Value : 1/1250
Aperture Value : 2.2
Brightness Value : 4.86875
Exposure Compensation : -1
Max Aperture Value : 1.4
Metering Mode : Multi-segment
Light Source : Shade
Flash : Off, Did not fire
Focal Length : 85.0 mm
Scene Type : Directly photographed
Custom Rendered : Normal
Exposure Mode : Auto
White Balance : Manual
Focal Length In 35mm Format : 127 mm
Scene Capture Type : Standard
Contrast : Normal
Saturation : Normal
Sharpness : Normal
Lens Info : 85mm f/1.4
Lens Model : 85mm F1.4 ZA
GPS Version ID : 2.3.0.0
GPS Latitude Ref : North
GPS Longitude Ref : West
GPS Altitude Ref : Above Sea Level
GPS Time Stamp : 21:28:00
GPS Status : Measurement Active
GPS Measure Mode : 3-Dimensional Measurement
GPS Dilution Of Precision : 1.5037
GPS Speed Ref : km/h
GPS Speed : 0.872
GPS Track Ref : True North
GPS Track : 244.89
GPS Map Datum : WGS-84
GPS Date Stamp : 2012:08:11
GPS Differential : No Correction
Profile Description : sRGB IEC61966-2.1
Creator Tool : Adobe Photoshop Lightroom 4.1 (Windows)
Lens : 85mm F1.4 ZA
Date Created : 2012:08:11 13:27:59
City : Stanwood
State : Washington
Country : United States
Version : 7.1
Process Version : 6.7
Color Temperature : 7600
Tint : +6
Luminance Smoothing : 0
Color Noise Reduction : 25
Vignette Amount : 0
Shadow Tint : 0
Red Hue : 0
Red Saturation : 0
Green Hue : 0
Green Saturation : 0
Blue Hue : 0
Blue Saturation : 0
Vibrance : 0
Hue Adjustment Red : 0
Hue Adjustment Orange : 0
Hue Adjustment Yellow : 0
Hue Adjustment Green : 0
Hue Adjustment Aqua : 0
Hue Adjustment Blue : 0
Hue Adjustment Purple : 0
Hue Adjustment Magenta : 0
Saturation Adjustment Red : 0
Saturation Adjustment Orange : 0
Saturation Adjustment Yellow : 0
Saturation Adjustment Green : 0
Saturation Adjustment Aqua : 0
Saturation Adjustment Blue : 0
Saturation Adjustment Purple : 0
Saturation Adjustment Magenta : 0
Luminance Adjustment Red : 0
Luminance Adjustment Orange : 0
Luminance Adjustment Yellow : 0
Luminance Adjustment Green : 0
Luminance Adjustment Aqua : 0
Luminance Adjustment Blue : 0
Luminance Adjustment Purple : 0
Luminance Adjustment Magenta : 0
Split Toning Shadow Hue : 0
Split Toning Shadow Saturation : 0
Split Toning Highlight Hue : 0
Split Toning Highlight Saturation : 0
Split Toning Balance : 0
Parametric Shadows : 0
Parametric Darks : 0
Parametric Lights : 0
Parametric Highlights : 0
Parametric Shadow Split : 25
Parametric Midtone Split : 50
Parametric Highlight Split : 75
Sharpen Radius : +1.0
Sharpen Detail : 25
Sharpen Edge Masking : 0
Post Crop Vignette Amount : 0
Grain Amount : 0
Color Noise Reduction Detail : 50
Lens Profile Enable : 0
Lens Manual Distortion Amount : 0
Perspective Vertical : 0
Perspective Horizontal : 0
Perspective Rotate : 0.0
Perspective Scale : 100
Auto Lateral CA : 0
Exposure 2012 : +0.36
Contrast 2012 : 0
Highlights 2012 : 0
Shadows 2012 : +31
Whites 2012 : -26
Blacks 2012 : 0
Clarity 2012 : 0
Defringe Purple Amount : 0
Defringe Purple Hue Lo : 30
Defringe Purple Hue Hi : 70
Defringe Green Amount : 0
Defringe Green Hue Lo : 40
Defringe Green Hue Hi : 60
Convert To Grayscale : False
Tone Curve Name 2012 : Linear
Camera Profile : Adobe Standard
Lens Profile Setup : LensDefaults
Has Settings : True
Has Crop : False
Already Applied : True
Format : image/jpeg
Tone Curve PV2012 : 0, 0, 255, 255
Tone Curve PV2012 Red : 0, 0, 255, 255
Tone Curve PV2012 Green : 0, 0, 255, 255
Tone Curve PV2012 Blue : 0, 0, 255, 255
Image Width : 200
Image Height : 300
Bits Per Sample : 8
Color Components : 3
Aperture : 2.2
Image Size : 200x300
Megapixels : 0.060
Scale Factor To 35 mm Equivalent : 1.5
Shutter Speed : 1/1250
GPS Altitude : 18.6 m Above Sea Level
GPS Date/Time : 2012:08:11 21:28:00Z
GPS Latitude : 48 deg 7' 58.62" N
GPS Longitude : 122 deg 21' 50.17" W
Circle Of Confusion : 0.020 mm
Field Of View : 16.1 deg
Focal Length : 85.0 mm (35 mm equivalent: 127.0 mm)
GPS Position : 48 deg 7' 58.62" N, 122 deg 21' 50.17" W
Hyperfocal Distance : 163.31 m
Light Value : 11.6
Lens ID : Carl Zeiss Planar T* 85mm F1.4 ZA (SAL85F14Z)