Uber Exif Photo
Photometric Interpretation : RGB
Orientation : Horizontal (normal)
Samples Per Pixel : 3
Software : Adobe Photoshop CS6 (Windows)
Modify Date : 2016:12:25 02:24:02
Create Date : 2013:05:08 23:26:49
Color Space : sRGB
Exif Image Width : 2850
Exif Image Height : 1893
Profile Description : sRGB IEC61966-2.1
Creator Tool : Adobe Photoshop Lightroom 5.0 (Windows)
Format : image/jpeg
Version : 8.1
Process Version : 6.7
White Balance : Custom
Incremental Temperature : +10
Incremental Tint : +10
Saturation : +5
Sharpness : 25
Luminance Smoothing : 0
Color Noise Reduction : 25
Vignette Amount : 0
Shadow Tint : -2
Red Hue : +5
Red Saturation : -5
Green Hue : +5
Green Saturation : 0
Blue Hue : 0
Blue Saturation : 0
Vibrance : 0
Hue Adjustment Red : +10
Hue Adjustment Orange : +6
Hue Adjustment Yellow : 0
Hue Adjustment Green : +18
Hue Adjustment Aqua : +15
Hue Adjustment Blue : -5
Hue Adjustment Purple : 0
Hue Adjustment Magenta : +15
Saturation Adjustment Red : -5
Saturation Adjustment Orange : +2
Saturation Adjustment Yellow : -15
Saturation Adjustment Green : -30
Saturation Adjustment Aqua : -15
Saturation Adjustment Blue : -10
Saturation Adjustment Purple : -25
Saturation Adjustment Magenta : -20
Luminance Adjustment Red : 0
Luminance Adjustment Orange : -5
Luminance Adjustment Yellow : -15
Luminance Adjustment Green : -20
Luminance Adjustment Aqua : +20
Luminance Adjustment Blue : -15
Luminance Adjustment Purple : +15
Luminance Adjustment Magenta : +10
Split Toning Shadow Hue : 0
Split Toning Shadow Saturation : 0
Split Toning Highlight Hue : 0
Split Toning Highlight Saturation : 0
Split Toning Balance : 0
Parametric Shadows : 0
Parametric Darks : 0
Parametric Lights : 0
Parametric Highlights : 0
Parametric Shadow Split : 25
Parametric Midtone Split : 50
Parametric Highlight Split : 75
Sharpen Radius : +1.0
Sharpen Detail : 25
Sharpen Edge Masking : 0
Post Crop Vignette Amount : 0
Grain Amount : 0
Color Noise Reduction Detail : 50
Lens Profile Enable : 0
Lens Manual Distortion Amount : 0
Perspective Vertical : 0
Perspective Horizontal : 0
Perspective Rotate : 0.0
Perspective Scale : 100
Perspective Aspect : 0
Perspective Upright : Off
Auto Lateral CA : 0
Exposure 2012 : +0.60
Contrast 2012 : 0
Highlights 2012 : -10
Shadows 2012 : +15
Whites 2012 : -10
Blacks 2012 : +25
Clarity 2012 : 0
Defringe Purple Amount : 0
Defringe Purple Hue Lo : 30
Defringe Purple Hue Hi : 70
Defringe Green Amount : 0
Defringe Green Hue Lo : 40
Defringe Green Hue Hi : 60
Convert To Grayscale : False
Tone Curve Name 2012 : Custom
Camera Profile : Kodak Portra 400 2C
Lens Profile Setup : LensDefaults
Has Settings : True
Has Crop : False
Already Applied : True
Color Mode : RGB
ICC Profile Name : sRGB IEC61966-2.1
Tone Curve PV2012 : 0, 19, 46, 54, 121, 125, 255, 252
Tone Curve PV2012 Red : 0, 0, 38, 22, 111, 122, 183, 195, 255, 255
Tone Curve PV2012 Green : 0, 1, 31, 19, 109, 120, 185, 196, 255, 255
Tone Curve PV2012 Blue : 0, 0, 36, 17, 109, 120, 183, 194, 255, 255
Image Width : 308
Image Height : 207
Bits Per Sample : 8
Color Components : 3
Image Size : 308x207
Megapixels : 0.064