Uber Exif Photo
Copyright Flag : False
Make : SONY
Camera Model Name : ILCE-7
Orientation : Horizontal (normal)
Software : Adobe Photoshop CS Windows
Modify Date : 2017:01:13 08:54:53
Exposure Time : 1/30
F Number : 13.0
Exposure Program : Manual
ISO : 320
Sensitivity Type : Recommended Exposure Index
Recommended Exposure Index : 320
Date/Time Original : 2016:06:20 05:58:13
Create Date : 2016:06:20 05:58:13
Shutter Speed Value : 1/30
Aperture Value : 13.0
Brightness Value : 4.61484375
Exposure Compensation : 0
Max Aperture Value : 4.0
Metering Mode : Spot
Light Source : Unknown
Focal Length : 58.0 mm
Color Space : sRGB
Exif Image Width : 2000
Exif Image Height : 1333
Scene Type : Directly photographed
Custom Rendered : Normal
Exposure Mode : Manual
White Balance : Auto
Digital Zoom Ratio : 1
Focal Length In 35mm Format : 58 mm
Scene Capture Type : Standard
Contrast : High
Saturation : Normal
Sharpness : Hard
Lens Info : 24-70mm f/4
Lens Model : FE 24-70mm F4 ZA OSS
Profile Description : sRGB IEC61966-2.1
Version : 8.7.1
Process Version : 6.7
Auto White Version : 134348800
Incremental Temperature : +14
Incremental Tint : -6
Luminance Smoothing : 0
Color Noise Reduction : 25
Vignette Amount : -50
Vignette Midpoint : 20
Shadow Tint : -4
Red Hue : +20
Red Saturation : +40
Green Hue : +40
Green Saturation : 0
Blue Hue : -20
Blue Saturation : -5
Vibrance : 0
Hue Adjustment Red : +10
Hue Adjustment Orange : +5
Hue Adjustment Yellow : 0
Hue Adjustment Green : +10
Hue Adjustment Aqua : +10
Hue Adjustment Blue : 0
Hue Adjustment Purple : +20
Hue Adjustment Magenta : +30
Saturation Adjustment Red : -20
Saturation Adjustment Orange : -20
Saturation Adjustment Yellow : -20
Saturation Adjustment Green : -35
Saturation Adjustment Aqua : -35
Saturation Adjustment Blue : -30
Saturation Adjustment Purple : -45
Saturation Adjustment Magenta : -45
Luminance Adjustment Red : +5
Luminance Adjustment Orange : -5
Luminance Adjustment Yellow : +10
Luminance Adjustment Green : 0
Luminance Adjustment Aqua : 0
Luminance Adjustment Blue : -25
Luminance Adjustment Purple : -15
Luminance Adjustment Magenta : 0
Split Toning Shadow Hue : 0
Split Toning Shadow Saturation : 0
Split Toning Highlight Hue : 0
Split Toning Highlight Saturation : 0
Split Toning Balance : 0
Parametric Shadows : 0
Parametric Darks : 0
Parametric Lights : 0
Parametric Highlights : 0
Parametric Shadow Split : 20
Parametric Midtone Split : 48
Parametric Highlight Split : 75
Sharpen Radius : +1.0
Sharpen Detail : 25
Sharpen Edge Masking : 0
Post Crop Vignette Amount : 0
Grain Amount : 32
Grain Size : 20
Grain Frequency : 65
Color Noise Reduction Detail : 50
Color Noise Reduction Smoothness : 50
Lens Profile Enable : 0
Lens Manual Distortion Amount : 0
Perspective Vertical : 0
Perspective Horizontal : 0
Perspective Rotate : 0.0
Perspective Scale : 100
Perspective Aspect : 0
Perspective Upright : Off
Auto Lateral CA : 0
Exposure 2012 : +0.80
Contrast 2012 : +10
Highlights 2012 : -60
Shadows 2012 : +35
Whites 2012 : -30
Blacks 2012 : +25
Clarity 2012 : 0
Defringe Purple Amount : 0
Defringe Purple Hue Lo : 30
Defringe Purple Hue Hi : 70
Defringe Green Amount : 0
Defringe Green Hue Lo : 40
Defringe Green Hue Hi : 60
Convert To Grayscale : False
Tone Curve Name : Linear
Tone Curve Name 2012 : Custom
Camera Profile : Embedded
Lens Profile Setup : LensDefaults
Has Settings : True
Crop Top : 0
Crop Left : 0.038844
Crop Bottom : 1
Crop Right : 0.982736
Crop Angle : 1.54334
Crop Constrain To Warp : 0
Has Crop : True
Already Applied : True
Tone Curve : 0, 0, 255, 255
Tone Curve Red : 0, 0, 255, 255
Tone Curve Green : 0, 0, 255, 255
Tone Curve Blue : 0, 0, 255, 255
Tone Curve PV2012 : 0, 58, 97, 92, 191, 177, 255, 231
Tone Curve PV2012 Red : 0, 0, 45, 11, 78, 45, 127, 121, 182, 204, 255, 255
Tone Curve PV2012 Green : 0, 0, 37, 10, 75, 46, 126, 122, 178, 198, 217, 229, 255, 255
Tone Curve PV2012 Blue : 0, 0, 31, 7, 76, 44, 123, 116, 183, 202, 255, 255
Date/Time Digitized : 2016:06:20 05:58:13+07:00
Flash Fired : False
Flash Return : No return detection
Flash Mode : Off
Flash Function : False
Flash Red Eye Mode : False
Lens : FE 24-70mm F4 ZA OSS
Date Created : 2016:06:20
Creator Tool : Adobe Photoshop CS Windows
Format : image/jpeg
Image Width : 308
Image Height : 208
Bits Per Sample : 8
Color Components : 3
Aperture : 13.0
Image Size : 308x208
Megapixels : 0.064
Scale Factor To 35 mm Equivalent : 1.0
Shutter Speed : 1/30
Flash : Off, Did not fire
Circle Of Confusion : 0.030 mm
Field Of View : 34.5 deg
Focal Length : 58.0 mm (35 mm equivalent: 58.0 mm)
Hyperfocal Distance : 8.61 m
Light Value : 10.6
Lens ID : FE 24-70mm F4 ZA OSS