Uber Exif Photo
Make : SONY
Camera Model Name : ILCE-7
Orientation : Horizontal (normal)
Software : Adobe Photoshop Lightroom 6.5 (Macintosh)
Modify Date : 2016:11:01 23:19:10
Exposure Time : 20
F Number : 4.0
Exposure Program : Manual
ISO : 6400
Sensitivity Type : Recommended Exposure Index
Recommended Exposure Index : 6400
Date/Time Original : 2016:10:30 19:51:56
Create Date : 2016:10:30 19:51:56
Shutter Speed Value : 20
Aperture Value : 4.0
Brightness Value : -5.41640625
Exposure Compensation : 0
Max Aperture Value : 4.0
Metering Mode : Multi-segment
Light Source : Unknown
Flash : Off, Did not fire
Focal Length : 24.0 mm
Color Space : sRGB
Exif Image Width : 4000
Exif Image Height : 6000
Scene Type : Directly photographed
Custom Rendered : Normal
Exposure Mode : Manual
White Balance : Auto
Digital Zoom Ratio : 1
Focal Length In 35mm Format : 24 mm
Scene Capture Type : Standard
Contrast : Normal
Saturation : Normal
Sharpness : Normal
Lens Info : 24-70mm f/4
Lens Model : FE 24-70mm F4 ZA OSS
Sharpen Detail : 25
Blacks 2012 : -9
Luminance Adjustment Orange : 0
Hue Adjustment Yellow : 0
Saturation Adjustment Blue : 0
Parametric Highlight Split : 75
Lens Profile Enable : 1
Lens Profile Distortion Scale : 100
Split Toning Shadow Saturation : 0
Convert To Grayscale : False
Contrast 2012 : +46
Highlights 2012 : -44
Split Toning Highlight Hue : 0
Saturation Adjustment Aqua : 0
Perspective Scale : 100
Luminance Noise Reduction Contrast : 0
Perspective Vertical : 0
Parametric Shadow Split : 25
Luminance Adjustment Green : 0
Perspective Rotate : 0.0
Split Toning Shadow Hue : 0
Luminance Adjustment Yellow : 0
Shadows 2012 : +4
Lens Profile Setup : LensDefaults
Whites 2012 : +13
Perspective Horizontal : 0
Lens Profile Filename : SONY (Sony FE 24-70mm F4 ZA OSS) - RAW.lcp
Camera Profile : Adobe Standard
Saturation Adjustment Yellow : 0
Parametric Midtone Split : 50
Luminance Noise Reduction Detail : 50
Parametric Highlights : 0
Defringe Green Amount : 0
Parametric Darks : -26
Sharpen Radius : +1.0
Vibrance : +5
Lens Profile Vignetting Scale : 100
Shadow Tint : 0
Has Crop : False
Luminance Smoothing : 43
Tone Curve Name 2012 : Linear
Split Toning Highlight Saturation : 0
Defringe Purple Hue Hi : 70
Saturation Adjustment Orange : 0
Sharpen Edge Masking : 0
Color Temperature : 3588
Blue Saturation : 0
Hue Adjustment Green : 0
Vignette Amount : 0
Red Saturation : 0
Red Hue : 0
Parametric Lights : +40
Split Toning Balance : 0
Hue Adjustment Purple : 0
Dehaze : +13
Tone Curve Name : Linear
Color Noise Reduction Smoothness : 50
Exposure 2012 : +0.40
Color Noise Reduction Detail : 50
Saturation Adjustment Green : 0
Hue Adjustment Blue : 0
Luminance Adjustment Purple : 0
Perspective Aspect : 0
Perspective Upright : Off
Parametric Shadows : 0
Post Crop Vignette Amount : 0
Blue Hue : 0
Clarity 2012 : +4
Grain Amount : 0
Auto Lateral CA : 0
Hue Adjustment Aqua : 0
Process Version : 6.7
Tint : +8
Already Applied : True
Auto White Version : 134348800
Lens Profile Name : Adobe (Sony FE 24-70mm F4 ZA OSS)
Luminance Adjustment Blue : 0
Tone Map Strength : 0
Lens Profile Chromatic Aberration Scale : 100
Luminance Adjustment Red : 0
Color Noise Reduction : 25
Green Hue : 0
Hue Adjustment Magenta : 0
Has Settings : True
Saturation Adjustment Red : 0
Hue Adjustment Red : 0
Hue Adjustment Orange : 0
Lens Manual Distortion Amount : 0
Green Saturation : 0
Defringe Purple Hue Lo : 30
Defringe Green Hue Hi : 60
Saturation Adjustment Purple : 0
Saturation Adjustment Magenta : 0
Luminance Adjustment Aqua : 0
Version : 9.5
Defringe Green Hue Lo : 40
Defringe Purple Amount : 0
Luminance Adjustment Magenta : 0
Creator Tool : Adobe Photoshop Lightroom 6.5 (Macintosh)
Rating : 5
Lens Distort Info : 33700/32768 -114576113/1073741824 48005856/1073741824 1594103/1073741824
Lens : FE 24-70mm F4 ZA OSS
Format : image/jpeg
Date Created : 2016:10:30 19:51:56
Tone Curve Blue : 0, 0, 255, 255
Tone Curve Green : 0, 0, 255, 255
Paint Correction Defringe : 0.000000
Paint Correction Toning Hue : 0.000000
Paint Correction Contrast 2012 : 0.000000
Paint Correction Tint : 0.000000
Paint Correction Whites 2012 : 0.000000
Paint Correction Luminance Noise : 0.121189
Paint Correction Highlights 2012 : 0.000000
Paint Correction Brightness : 0.000000
Paint Correction Toning Saturation : 0.000000
Paint Correction Active : true
Paint Correction Saturation : 0.230564
Paint Correction Dehaze : 0.000000
Paint Correction Amount : 1.000000
Paint Correction Sharpness : 0.000000
Paint Correction Clarity 2012 : 0.496856
Paint Correction Moire : 0.000000
Paint Correction Exposure 2012 : 0.000000
Paint Correction Shadows 2012 : 0.000000
Paint Correction What : Correction
Paint Correction Blacks 2012 : 0.000000
Paint Correction Temperature : 0.000000
Paint Correction Mask What : Mask/Paint
Paint Correction Mask Radius : 0.161531
Paint Correction Mask Value : 0.432478
Paint Correction Mask Flow : 1.000000
Paint Correction Mask Center Weight : 0.000000
Tone Curve PV2012 Red : 0, 0, 255, 255
Tone Curve PV2012 : 0, 0, 255, 255
Tone Curve : 0, 0, 255, 255
Tone Curve Red : 0, 0, 255, 255
Tone Curve PV2012 Green : 0, 0, 255, 255
Tone Curve PV2012 Blue : 0, 0, 255, 255
Image Width : 300
Image Height : 450
Bits Per Sample : 8
Color Components : 3
Aperture : 4.0
Image Size : 300x450
Megapixels : 0.135
Scale Factor To 35 mm Equivalent : 1.0
Shutter Speed : 20
Circle Of Confusion : 0.030 mm
Field Of View : 73.7 deg
Focal Length : 24.0 mm (35 mm equivalent: 24.0 mm)
Hyperfocal Distance : 4.79 m
Light Value : -6.3
Lens ID : FE 24-70mm F4 ZA OSS