Uber Exif Photo
Make : SONY
Camera Model Name : ILCE-7RM2
Software : Adobe Photoshop Lightroom Classic 7.5 (Windows)
Modify Date : 2018:10:26 20:05:30
Exposure Time : 1/125
Exposure Program : Aperture-priority AE
ISO : 100
Sensitivity Type : Recommended Exposure Index
Recommended Exposure Index : 100
Date/Time Original : 2018:05:08 06:17:23
Create Date : 2018:05:08 06:17:23
Shutter Speed Value : 1/125
Brightness Value : 3.259375
Exposure Compensation : +1
Max Aperture Value : 1.0
Metering Mode : Multi-segment
Light Source : Unknown
Flash : Off, Did not fire
Color Space : Uncalibrated
Scene Type : Directly photographed
Custom Rendered : Normal
Exposure Mode : Auto
White Balance : Auto
Digital Zoom Ratio : 1
Scene Capture Type : Standard
Contrast : Normal
Saturation : Normal
Sharpness : Normal
Lens Model : ----
Profile Description : ProPhoto RGB
Creator Tool : Adobe Photoshop Lightroom Classic 7.5 (Windows)
Lens : ----
Lateral Chromatic Aberration Correction Already Applied : True
Date Created : 2018:05:08 06:17:23
Format : image/jpeg
Raw File Name : DSC06393.ARW
Version : 10.5
Process Version : 10.0
Color Temperature : 4750
Tint : -7
Luminance Smoothing : 0
Color Noise Reduction : 25
Vignette Amount : 0
Shadow Tint : 0
Red Hue : 0
Red Saturation : 0
Green Hue : 0
Green Saturation : 0
Blue Hue : 0
Blue Saturation : 0
Vibrance : +29
Hue Adjustment Red : 0
Hue Adjustment Orange : 0
Hue Adjustment Yellow : 0
Hue Adjustment Green : 0
Hue Adjustment Aqua : 0
Hue Adjustment Blue : 0
Hue Adjustment Purple : 0
Hue Adjustment Magenta : 0
Saturation Adjustment Red : 0
Saturation Adjustment Orange : 0
Saturation Adjustment Yellow : 0
Saturation Adjustment Green : 0
Saturation Adjustment Aqua : 0
Saturation Adjustment Blue : 0
Saturation Adjustment Purple : 0
Saturation Adjustment Magenta : 0
Luminance Adjustment Red : 0
Luminance Adjustment Orange : 0
Luminance Adjustment Yellow : 0
Luminance Adjustment Green : 0
Luminance Adjustment Aqua : 0
Luminance Adjustment Blue : 0
Luminance Adjustment Purple : 0
Luminance Adjustment Magenta : 0
Split Toning Shadow Hue : 0
Split Toning Shadow Saturation : 0
Split Toning Highlight Hue : 0
Split Toning Highlight Saturation : 0
Split Toning Balance : 0
Parametric Shadows : -32
Parametric Darks : -34
Parametric Lights : +34
Parametric Highlights : +22
Parametric Shadow Split : 25
Parametric Midtone Split : 50
Parametric Highlight Split : 75
Sharpen Radius : +3.0
Sharpen Detail : 50
Sharpen Edge Masking : 50
Post Crop Vignette Amount : -7
Post Crop Vignette Midpoint : 75
Post Crop Vignette Feather : 76
Post Crop Vignette Roundness : +76
Post Crop Vignette Style : Highlight Priority
Post Crop Vignette Highlight Contrast : 100
Grain Amount : 0
Color Noise Reduction Detail : 50
Color Noise Reduction Smoothness : 50
Lens Profile Enable : 1
Lens Manual Distortion Amount : 0
Perspective Vertical : 0
Perspective Horizontal : 0
Perspective Rotate : 0.0
Perspective Scale : 100
Perspective Aspect : 0
Perspective Upright : Full
Perspective X : 0.00
Perspective Y : 0.00
Auto Lateral CA : 1
Exposure 2012 : -1.55
Contrast 2012 : -98
Highlights 2012 : -43
Shadows 2012 : -12
Whites 2012 : -86
Blacks 2012 : -5
Clarity 2012 : +50
Defringe Purple Amount : 0
Defringe Purple Hue Lo : 30
Defringe Purple Hue Hi : 70
Defringe Green Amount : 0
Defringe Green Hue Lo : 40
Defringe Green Hue Hi : 60
Dehaze : +21
Tone Map Strength : 0
Convert To Grayscale : False
Override Look Vignette : True
Tone Curve Name : Linear
Tone Curve Name 2012 : Linear
Camera Profile : Adobe Standard
Lens Profile Setup : LensDefaults
Has Settings : True
Has Crop : False
Already Applied : True
Tone Curve : 0, 0, 255, 255
Tone Curve Red : 0, 0, 255, 255
Tone Curve Green : 0, 0, 255, 255
Tone Curve Blue : 0, 0, 255, 255
Tone Curve PV2012 : 0, 0, 255, 255
Tone Curve PV2012 Red : 0, 0, 255, 255
Tone Curve PV2012 Green : 0, 0, 255, 255
Tone Curve PV2012 Blue : 0, 0, 255, 255
Paint Correction What : Correction
Paint Correction Amount : 1.000000
Paint Correction Active : true
Paint Correction Saturation : 0.000000
Paint Correction Sharpness : 0.902910
Paint Correction Brightness : 0.000000
Paint Correction Toning Hue : 52.000000
Paint Correction Toning Saturation : 0.040000
Paint Correction Exposure 2012 : 0.000000
Paint Correction Contrast 2012 : -0.106800
Paint Correction Highlights 2012 : 0.478260
Paint Correction Shadows 2012 : 0.456520
Paint Correction Whites 2012 : 0.301890
Paint Correction Blacks 2012 : -0.145630
Paint Correction Clarity 2012 : 0.804350
Paint Correction Dehaze : 0.000000
Paint Correction Luminance Noise : 0.000000
Paint Correction Moire : 0.000000
Paint Correction Defringe : 0.000000
Paint Correction Temperature : 0.000000
Paint Correction Tint : 0.000000
Paint Correction Mask What : Mask/Paint
Paint Correction Mask Value : 1.000000
Paint Correction Mask Radius : 0.024234
Paint Correction Mask Flow : 1.000000
Paint Correction Mask Center Weight : 0.746064
Paint Correction Range Mask Version : +2
Paint Correction Range Mask Type : 0
Paint Correction Range Mask Color Amount : 0.500000
Paint Correction Range Mask Lum Min : 0.000000
Paint Correction Range Mask Lum Max : 1.000000
Paint Correction Range Mask Lum Feather : 0.500000
Look Name : Adobe Color
Look Amount : 1.000000
Look Supports Amount : false
Look Supports Monochrome : false
Look Supports Output Referred : false
Look Group : Profiles
Look Parameters Version : 10.5
Look Parameters Process Version : 10.0
Look Parameters Convert To Grayscale : False
Look Parameters Camera Profile : Adobe Standard
Look Parameters Look Table : E1095149FDB39D7A057BAB208837E2E1
Look Parameters Tone Curve PV2012 : 0, 0, 22, 16, 40, 35, 127, 127, 224, 230, 240, 246, 255, 255
Look Parameters Tone Curve PV2012 Red : 0, 0, 255, 255
Look Parameters Tone Curve PV2012 Green : 0, 0, 255, 255
Look Parameters Tone Curve PV2012 Blue : 0, 0, 255, 255
Image Width : 350
Image Height : 233
Bits Per Sample : 8
Color Components : 3
Image Size : 350x233
Megapixels : 0.082
Scale Factor To 35 mm Equivalent : 22.3
Shutter Speed : 1/125
Circle Of Confusion : 0.001 mm