Uber Exif Photo
By-line : Stepanov Alexander Vladimirovich
Copyright Notice : Stepanov Alexander Vladimirovich www.derx.ru
Photometric Interpretation : RGB
Make : Canon
Camera Model Name : Canon EOS 6D
Orientation : Horizontal (normal)
Samples Per Pixel : 3
Software : Adobe Photoshop CC 2017 (Windows)
Modify Date : 2018:07:13 16:52:26
Artist : Stepanov Alexander Vladimirovich www.derx.ru
Copyright : Stepanov Alexander Vladimirovich www.derx.ru
Exposure Time : 91
Exposure Program : Bulb
ISO : 50
Sensitivity Type : Recommended Exposure Index
Recommended Exposure Index : 50
Date/Time Original : 2018:07:10 20:41:11
Create Date : 2018:07:10 20:41:11
Shutter Speed Value : 91
Exposure Compensation : 0
Metering Mode : Multi-segment
Flash : Off, Did not fire
Color Space : sRGB
Exif Image Width : 5472
Exif Image Height : 3648
Custom Rendered : Normal
Exposure Mode : Auto
White Balance : Manual
Scene Capture Type : Standard
Serial Number : 158028007158
Lens Serial Number : 0000000000
Profile Description : sRGB IEC61966-2.1
Creator Tool : Adobe Photoshop Camera Raw 10.4 (Windows)
Format : image/jpeg
Image Number : 0
Flash Compensation : 0
Firmware : 1.1.3
Lateral Chromatic Aberration Correction Already Applied : True
Date Created : 2018:07:10 20:41:11.052
Color Mode : RGB
ICC Profile Name : sRGB IEC61966-2.1
Raw File Name : IMG_2374.CR2
Version : 10.4
Process Version : 10.0
Color Temperature : 4950
Tint : -12
Saturation : -21
Sharpness : 53
Luminance Smoothing : 0
Color Noise Reduction : 60
Vignette Amount : -22
Vignette Midpoint : 0
Shadow Tint : 0
Red Hue : 0
Red Saturation : 0
Green Hue : 0
Green Saturation : 0
Blue Hue : 0
Blue Saturation : 0
Vibrance : +25
Hue Adjustment Red : -38
Hue Adjustment Orange : -3
Hue Adjustment Yellow : -62
Hue Adjustment Green : -21
Hue Adjustment Aqua : -17
Hue Adjustment Blue : +50
Hue Adjustment Purple : +16
Hue Adjustment Magenta : -44
Saturation Adjustment Red : +36
Saturation Adjustment Orange : +8
Saturation Adjustment Yellow : +16
Saturation Adjustment Green : +55
Saturation Adjustment Aqua : +7
Saturation Adjustment Blue : +71
Saturation Adjustment Purple : -5
Saturation Adjustment Magenta : -59
Luminance Adjustment Red : +11
Luminance Adjustment Orange : +100
Luminance Adjustment Yellow : -84
Luminance Adjustment Green : +28
Luminance Adjustment Aqua : -88
Luminance Adjustment Blue : -61
Luminance Adjustment Purple : +3
Luminance Adjustment Magenta : -93
Split Toning Shadow Hue : 0
Split Toning Shadow Saturation : 0
Split Toning Highlight Hue : 0
Split Toning Highlight Saturation : 0
Split Toning Balance : 0
Parametric Shadows : -9
Parametric Darks : +63
Parametric Lights : -59
Parametric Highlights : -65
Parametric Shadow Split : 10
Parametric Midtone Split : 60
Parametric Highlight Split : 90
Sharpen Radius : +1.5
Sharpen Detail : 40
Sharpen Edge Masking : 9
Post Crop Vignette Amount : -7
Post Crop Vignette Midpoint : 4
Post Crop Vignette Feather : 100
Post Crop Vignette Roundness : +61
Post Crop Vignette Style : Highlight Priority
Post Crop Vignette Highlight Contrast : 27
Grain Amount : 0
Color Noise Reduction Detail : 50
Color Noise Reduction Smoothness : 50
Lens Profile Enable : 0
Lens Manual Distortion Amount : 0
Perspective Vertical : 0
Perspective Horizontal : 0
Perspective Rotate : 0.0
Perspective Scale : 100
Perspective Aspect : 0
Perspective Upright : Off
Perspective X : 0.00
Perspective Y : 0.00
Auto Lateral CA : 1
Exposure 2012 : -0.15
Contrast 2012 : +13
Highlights 2012 : +79
Shadows 2012 : +83
Whites 2012 : +9
Blacks 2012 : +63
Clarity 2012 : +76
Defringe Purple Amount : 0
Defringe Purple Hue Lo : 30
Defringe Purple Hue Hi : 70
Defringe Green Amount : 0
Defringe Green Hue Lo : 40
Defringe Green Hue Hi : 60
Dehaze : -1
Tone Map Strength : 0
Convert To Grayscale : False
Override Look Vignette : False
Tone Curve Name : Medium Contrast
Tone Curve Name 2012 : Custom
Camera Profile : Adobe Standard
Lens Profile Setup : Custom
Lens Profile Name : Adobe (Canon EF 70-200mm f/4 L USM)
Lens Profile Filename : Canon EOS 5D Mark II (Canon EF 70-200mm f4L USM) - RAW.lcp
Lens Profile Distortion Scale : 0
Lens Profile Chromatic Aberration Scale : 100
Lens Profile Vignetting Scale : 0
Has Settings : True
Has Crop : False
Already Applied : True
Creator : Stepanov Alexander Vladimirovich www.derx.ru
Rights : Stepanov Alexander Vladimirovich www.derx.ru
Tone Curve : 0, 0, 32, 22, 64, 56, 128, 128, 192, 196, 255, 255
Tone Curve Red : 0, 0, 255, 255
Tone Curve Green : 0, 0, 255, 255
Tone Curve Blue : 0, 0, 255, 255
Tone Curve PV2012 : 0, 0, 32, 22, 64, 56, 142, 120, 192, 196, 255, 255
Tone Curve PV2012 Red : 0, 0, 128, 124, 255, 255
Tone Curve PV2012 Green : 0, 0, 126, 126, 255, 255
Tone Curve PV2012 Blue : 0, 0, 255, 255
Image Width : 350
Image Height : 233
Bits Per Sample : 8
Color Components : 3
Image Size : 350x233
Megapixels : 0.082
Scale Factor To 35 mm Equivalent : 1.0
Shutter Speed : 91
Create Date : 2018:07:10 20:41:11.52
Date/Time Original : 2018:07:10 20:41:11.52
Circle Of Confusion : 0.030 mm