Uber Exif Photo
Copyright Notice : Ken Zaret
Make : Canon
Camera Model Name : Canon EOS 5D Mark III
Software : Adobe Photoshop Lightroom 4.4 (Windows)
Modify Date : 2015:12:20 20:15:43
Copyright : Ken Zaret
Exposure Time : 1/2000
F Number : 2.0
Exposure Program : Aperture-priority AE
ISO : 1600
Sensitivity Type : Recommended Exposure Index
Recommended Exposure Index : 1600
Date/Time Original : 2014:07:13 08:26:55
Create Date : 2014:07:13 08:26:55
Shutter Speed Value : 1/2000
Aperture Value : 2.0
Exposure Compensation : 0
Max Aperture Value : 2.0
Metering Mode : Partial
Flash : Off, Did not fire
Focal Length : 50.0 mm
Custom Rendered : Normal
Exposure Mode : Auto
White Balance : Auto
Scene Capture Type : Standard
Serial Number : 032023002792
Lens Info : 50mm f/?
Lens Model : Zeiss Makro-Planar T* 2/50 ZE
Lens Serial Number : 0000000000
Profile Description : sRGB IEC61966-2.1
Rating : 3
Label : Red
Creator Tool : Adobe Photoshop Lightroom 4.4 (Windows)
Format : image/jpeg
Lens : Zeiss Makro-Planar T* 2/50 ZE
Image Number : 0
Flash Compensation : 0
Firmware : 1.2.3
Date Created : 2014:07:13 08:26:55.00
Version : 7.4
Process Version : 6.7
Color Temperature : 5650
Tint : +24
Saturation : 0
Sharpness : 45
Luminance Smoothing : 0
Color Noise Reduction : 25
Vignette Amount : 0
Shadow Tint : 0
Red Hue : 0
Red Saturation : 0
Green Hue : 0
Green Saturation : 0
Blue Hue : 0
Blue Saturation : 0
Vibrance : 0
Hue Adjustment Red : 0
Hue Adjustment Orange : 0
Hue Adjustment Yellow : 0
Hue Adjustment Green : 0
Hue Adjustment Aqua : 0
Hue Adjustment Blue : 0
Hue Adjustment Purple : 0
Hue Adjustment Magenta : 0
Saturation Adjustment Red : 0
Saturation Adjustment Orange : 0
Saturation Adjustment Yellow : 0
Saturation Adjustment Green : 0
Saturation Adjustment Aqua : 0
Saturation Adjustment Blue : 0
Saturation Adjustment Purple : 0
Saturation Adjustment Magenta : 0
Luminance Adjustment Red : 0
Luminance Adjustment Orange : 0
Luminance Adjustment Yellow : 0
Luminance Adjustment Green : 0
Luminance Adjustment Aqua : 0
Luminance Adjustment Blue : 0
Luminance Adjustment Purple : 0
Luminance Adjustment Magenta : 0
Split Toning Shadow Hue : 0
Split Toning Shadow Saturation : 0
Split Toning Highlight Hue : 0
Split Toning Highlight Saturation : 0
Split Toning Balance : 0
Parametric Shadows : 0
Parametric Darks : -10
Parametric Lights : +10
Parametric Highlights : 0
Parametric Shadow Split : 25
Parametric Midtone Split : 50
Parametric Highlight Split : 75
Sharpen Radius : +1.4
Sharpen Detail : 25
Sharpen Edge Masking : 0
Post Crop Vignette Amount : 0
Grain Amount : 0
Color Noise Reduction Detail : 50
Lens Profile Enable : 0
Lens Manual Distortion Amount : 0
Perspective Vertical : 0
Perspective Horizontal : 0
Perspective Rotate : 0.0
Perspective Scale : 100
Auto Lateral CA : 0
Exposure 2012 : 0.00
Contrast 2012 : 0
Highlights 2012 : 0
Shadows 2012 : 0
Whites 2012 : 0
Blacks 2012 : 0
Clarity 2012 : +20
Defringe Purple Amount : 0
Defringe Purple Hue Lo : 30
Defringe Purple Hue Hi : 70
Defringe Green Amount : 0
Defringe Green Hue Lo : 40
Defringe Green Hue Hi : 60
Convert To Grayscale : False
Tone Curve Name 2012 : Linear
Camera Profile : Adobe Standard
Lens Profile Setup : LensDefaults
Has Settings : True
Crop Top : 0.039417
Crop Left : 0.025408
Crop Bottom : 0.733595
Crop Right : 0.728595
Crop Angle : -0.976377
Crop Constrain To Warp : 0
Crop Width : 1000
Crop Height : 683
Crop Unit : pixels
Has Crop : True
Already Applied : True
Rights : Ken Zaret
Tone Curve PV2012 : 0, 0, 255, 255
Tone Curve PV2012 Red : 0, 0, 255, 255
Tone Curve PV2012 Green : 0, 0, 255, 255
Tone Curve PV2012 Blue : 0, 0, 255, 255
Image Width : 205
Image Height : 300
Bits Per Sample : 8
Color Components : 3
Aperture : 2.0
Image Size : 205x300
Megapixels : 0.061
Scale Factor To 35 mm Equivalent : 19.1
Shutter Speed : 1/2000
Create Date : 2014:07:13 08:26:55.00
Date/Time Original : 2014:07:13 08:26:55.00
Circle Of Confusion : 0.002 mm
Field Of View : 2.2 deg
Focal Length : 50.0 mm (35 mm equivalent: 952.6 mm)
Hyperfocal Distance : 792.62 m
Light Value : 9.0
Lens ID : Carl Zeiss Makro-Planar T* 50mm f/2 ZE