Uber Exif Photo
Make : SONY
Camera Model Name : ILCE-7RM2
Orientation : Horizontal (normal)
Software : Adobe Photoshop Lightroom 6.2.1 (Macintosh)
Modify Date : 2015:12:08 15:04:44
Exposure Time : 1/60
F Number : 1.8
Exposure Program : Aperture-priority AE
ISO : 640
Sensitivity Type : Recommended Exposure Index
Recommended Exposure Index : 640
Date/Time Original : 2015:12:08 14:43:57
Create Date : 2015:12:08 14:43:57
Shutter Speed Value : 1/60
Aperture Value : 1.8
Brightness Value : -0.19765625
Exposure Compensation : 0
Max Aperture Value : 1.8
Metering Mode : Multi-segment
Light Source : Unknown
Flash : Off, Did not fire
Focal Length : 55.0 mm
Color Space : sRGB
Exif Image Width : 5304
Exif Image Height : 7952
Scene Type : Directly photographed
Custom Rendered : Normal
Exposure Mode : Auto
White Balance : Auto
Digital Zoom Ratio : 1
Focal Length In 35mm Format : 55 mm
Scene Capture Type : Standard
Contrast : Normal
Saturation : Normal
Sharpness : Normal
Lens Info : 55mm f/1.8
Lens Model : FE 55mm F1.8 ZA
Highlights 2012 : -77
Defringe Purple Hue Lo : 30
Exposure 2012 : +0.30
Grain Amount : 0
Tint : 0
Hue Adjustment Purple : 0
Green Hue : 0
Lens Manual Distortion Amount : 0
Whites 2012 : 0
Parametric Highlight Split : 75
Luminance Adjustment Aqua : 0
Version : 9.2
Lens Profile Enable : 0
Parametric Shadow Split : 25
Contrast 2012 : +7
Saturation Adjustment Yellow : 0
Perspective Vertical : 0
Sharpen Edge Masking : 0
Luminance Adjustment Yellow : 0
Defringe Green Hue Hi : 60
Red Saturation : 0
Perspective Rotate : 0.0
Tone Curve Name : Linear
Saturation Adjustment Aqua : 0
Parametric Shadows : 0
Vibrance : 0
Split Toning Shadow Hue : 0
Tone Map Strength : 0
Color Temperature : 4250
Hue Adjustment Green : 0
Luminance Adjustment Green : 0
Hue Adjustment Yellow : 0
Perspective Aspect : 0
Parametric Highlights : 0
Luminance Adjustment Orange : 0
Saturation Adjustment Green : 0
Saturation Adjustment Orange : 0
Luminance Adjustment Purple : 0
Already Applied : True
Defringe Green Amount : 0
Shadows 2012 : -44
Process Version : 6.7
Luminance Adjustment Blue : 0
Has Settings : True
Clarity 2012 : +27
Hue Adjustment Orange : 0
Luminance Adjustment Magenta : 0
Lens Profile Setup : LensDefaults
Shadow Tint : 0
Hue Adjustment Blue : 0
Post Crop Vignette Amount : 0
Defringe Purple Hue Hi : 70
Split Toning Highlight Hue : 0
Perspective Upright : Off
Has Crop : False
Blue Hue : 0
Split Toning Shadow Saturation : 0
Perspective Scale : 100
Split Toning Highlight Saturation : 0
Parametric Lights : 0
Convert To Grayscale : False
Saturation Adjustment Magenta : 0
Blacks 2012 : 0
Auto White Version : 134348800
Defringe Green Hue Lo : 40
Luminance Smoothing : 0
Perspective Horizontal : 0
Saturation Adjustment Blue : 0
Tone Curve Name 2012 : Linear
Dehaze : 0
Green Saturation : 0
Saturation Adjustment Purple : 0
Blue Saturation : 0
Camera Profile : Adobe Standard
Color Noise Reduction Smoothness : 50
Parametric Midtone Split : 50
Red Hue : 0
Parametric Darks : 0
Defringe Purple Amount : 0
Sharpen Detail : 25
Saturation Adjustment Red : 0
Hue Adjustment Red : 0
Luminance Adjustment Red : 0
Auto Lateral CA : 0
Hue Adjustment Aqua : 0
Split Toning Balance : 0
Sharpen Radius : +1.0
Color Noise Reduction Detail : 50
Vignette Amount : 0
Hue Adjustment Magenta : 0
Color Noise Reduction : 25
Lens : FE 55mm F1.8 ZA
Lens Distort Info : 1050455268/1073741824 35568216/1073741824 -6272437/1073741824 -6044133/1073741824
Creator Tool : Adobe Photoshop Lightroom 6.2.1 (Macintosh)
Format : image/jpeg
Date Created : 2015:12:08 14:43:57
Tone Curve Blue : 0, 0, 255, 255
Tone Curve PV2012 Red : 0, 0, 255, 255
Tone Curve : 0, 0, 255, 255
Tone Curve PV2012 Green : 0, 0, 255, 255
Tone Curve Green : 0, 0, 255, 255
Tone Curve Red : 0, 0, 255, 255
Tone Curve PV2012 Blue : 0, 0, 255, 255
Tone Curve PV2012 : 0, 0, 255, 255
Image Width : 200
Image Height : 300
Bits Per Sample : 8
Color Components : 3
Aperture : 1.8
Image Size : 200x300
Megapixels : 0.060
Scale Factor To 35 mm Equivalent : 1.0
Shutter Speed : 1/60
Circle Of Confusion : 0.030 mm
Field Of View : 36.2 deg
Focal Length : 55.0 mm (35 mm equivalent: 55.0 mm)
Hyperfocal Distance : 55.93 m
Light Value : 4.9
Lens ID : FE 55mm F1.8 ZA