Uber Exif Photo
Make : SONY
Camera Model Name : ILCE-7
Orientation : Horizontal (normal)
Software : Adobe Photoshop Lightroom 5.6 (Macintosh)
Modify Date : 2015:11:04 22:44:18
Exposure Time : 1/250
F Number : 1.8
Exposure Program : Aperture-priority AE
ISO : 100
Sensitivity Type : Recommended Exposure Index
Recommended Exposure Index : 100
Date/Time Original : 2014:12:31 12:31:07
Create Date : 2014:12:31 12:31:07
Shutter Speed Value : 1/250
Aperture Value : 1.8
Brightness Value : 4.93515625
Exposure Compensation : 0
Max Aperture Value : 1.8
Metering Mode : Multi-segment
Light Source : Unknown
Flash : Off, Did not fire
Focal Length : 55.0 mm
Color Space : sRGB
Exif Image Width : 4000
Exif Image Height : 6000
Scene Type : Directly photographed
Custom Rendered : Normal
Exposure Mode : Auto
White Balance : Auto
Digital Zoom Ratio : 1
Focal Length In 35mm Format : 55 mm
Scene Capture Type : Standard
Contrast : Normal
Saturation : Normal
Sharpness : Normal
Lens Info : 55mm f/1.8
Lens Model : FE 55mm F1.8 ZA
Luminance Adjustment Green : 0
Hue Adjustment Green : 0
Saturation Adjustment Yellow : 0
Parametric Darks : 0
Perspective Scale : 100
Clarity 2012 : 0
Hue Adjustment Magenta : 0
Color Noise Reduction : 25
Perspective Upright : Off
Has Crop : False
Hue Adjustment Aqua : 0
Red Saturation : 0
Parametric Shadows : 0
Hue Adjustment Orange : 0
Hue Adjustment Yellow : 0
Split Toning Shadow Saturation : 0
Lens Manual Distortion Amount : 0
Tone Curve Name : Linear
Shadows 2012 : 0
Hue Adjustment Blue : 0
Blacks 2012 : -6
Tone Curve Name 2012 : Linear
Luminance Adjustment Magenta : 0
Convert To Grayscale : False
Luminance Smoothing : 0
Highlights 2012 : 0
Luminance Adjustment Yellow : 0
Parametric Midtone Split : 50
Perspective Aspect : 0
Shadow Tint : 0
Hue Adjustment Red : 0
Split Toning Highlight Saturation : 0
Split Toning Shadow Hue : 0
Has Settings : True
Lens Profile Setup : LensDefaults
Defringe Purple Hue Hi : 70
Saturation Adjustment Orange : 0
Defringe Purple Hue Lo : 30
Post Crop Vignette Amount : 0
Split Toning Balance : 0
Lens Profile Enable : 0
Vignette Amount : 0
Perspective Rotate : 0.0
Process Version : 6.7
Saturation Adjustment Purple : 0
Saturation Adjustment Green : 0
Vibrance : 0
Parametric Highlights : 0
Green Saturation : 0
Parametric Shadow Split : 25
Luminance Adjustment Purple : 0
Luminance Adjustment Orange : 0
Green Hue : 0
Perspective Vertical : 0
Blue Saturation : 0
Sharpen Detail : 25
Perspective Horizontal : 0
Blue Hue : 0
Luminance Adjustment Aqua : 0
Parametric Highlight Split : 75
Auto Lateral CA : 0
Color Noise Reduction Smoothness : 50
Red Hue : 0
Tint : 0
Split Toning Highlight Hue : 0
Camera Profile : Adobe Standard
Saturation Adjustment Red : 0
Saturation Adjustment Aqua : 0
Defringe Purple Amount : 0
Parametric Lights : 0
Sharpen Radius : +1.0
Luminance Adjustment Blue : 0
Luminance Adjustment Red : 0
Hue Adjustment Purple : 0
Auto White Version : 134348800
Saturation Adjustment Blue : 0
Contrast 2012 : +17
Already Applied : True
Defringe Green Hue Hi : 60
Grain Amount : 0
Defringe Green Amount : 0
Version : 8.6
Whites 2012 : +23
Defringe Green Hue Lo : 40
Sharpen Edge Masking : 0
Color Noise Reduction Detail : 50
Exposure 2012 : +0.85
Saturation Adjustment Magenta : 0
Color Temperature : 5750
Creator Tool : Adobe Photoshop Lightroom 5.6 (Macintosh)
Lens Distort Info : 1059763004/1073741824 28871245/1073741824 -10206732/1073741824 -5218544/1073741824
Lens : FE 55mm F1.8 ZA
Format : image/jpeg
Date Created : 2014:12:31 12:31:07
Tone Curve PV2012 Red : 0, 0, 255, 255
Tone Curve PV2012 Green : 0, 0, 255, 255
Tone Curve PV2012 : 0, 0, 255, 255
Tone Curve Green : 0, 0, 255, 255
Tone Curve Red : 0, 0, 255, 255
Tone Curve Blue : 0, 0, 255, 255
Tone Curve : 0, 0, 255, 255
Tone Curve PV2012 Blue : 0, 0, 255, 255
Image Width : 200
Image Height : 300
Bits Per Sample : 8
Color Components : 3
Aperture : 1.8
Image Size : 200x300
Megapixels : 0.060
Scale Factor To 35 mm Equivalent : 1.0
Shutter Speed : 1/250
Circle Of Confusion : 0.030 mm
Field Of View : 36.2 deg
Focal Length : 55.0 mm (35 mm equivalent: 55.0 mm)
Hyperfocal Distance : 55.93 m
Light Value : 9.7
Lens ID : FE 55mm F1.8 ZA