Uber Exif Photo
Make : SONY
Camera Model Name : ILCE-7
Orientation : Horizontal (normal)
Software : Adobe Photoshop Lightroom 5.6 (Macintosh)
Modify Date : 2015:11:04 22:40:04
Exposure Time : 1/8000
F Number : 2.8
Exposure Program : Aperture-priority AE
ISO : 100
Sensitivity Type : Recommended Exposure Index
Recommended Exposure Index : 100
Date/Time Original : 2014:12:10 15:48:55
Create Date : 2014:12:10 15:48:55
Shutter Speed Value : 1/8000
Aperture Value : 2.8
Brightness Value : 11.26328217
Exposure Compensation : +0.3
Max Aperture Value : 1.8
Metering Mode : Multi-segment
Light Source : Unknown
Flash : Off, Did not fire
Focal Length : 55.0 mm
Color Space : sRGB
Exif Image Width : 6000
Exif Image Height : 4000
Scene Type : Directly photographed
Custom Rendered : Normal
Exposure Mode : Auto
White Balance : Auto
Digital Zoom Ratio : 1
Focal Length In 35mm Format : 55 mm
Scene Capture Type : Standard
Contrast : Normal
Saturation : Normal
Sharpness : Normal
Lens Info : 55mm f/1.8
Lens Model : FE 55mm F1.8 ZA
Parametric Darks : 0
Perspective Scale : 100
Clarity 2012 : 0
Color Noise Reduction : 25
Perspective Upright : Off
Has Crop : False
Lens Profile Filename : SONY (Sony FE 55mm F1.8 ZA) - RAW.lcp
Red Saturation : 0
Lens Profile Chromatic Aberration Scale : 100
Parametric Shadows : 0
Gray Mixer Magenta : +5
Gray Mixer Yellow : -20
Split Toning Shadow Saturation : 0
Lens Manual Distortion Amount : 0
Tone Curve Name : Linear
Shadows 2012 : 0
Blacks 2012 : 0
Tone Curve Name 2012 : Linear
Luminance Smoothing : 0
Convert To Grayscale : True
Highlights 2012 : -24
Parametric Midtone Split : 50
Perspective Aspect : 0
Shadow Tint : 0
Split Toning Highlight Saturation : 0
Split Toning Shadow Hue : 0
Has Settings : True
Lens Profile Setup : LensDefaults
Gray Mixer Red : -7
Lens Profile Name : Adobe (Sony FE 55mm F1.8 ZA)
Post Crop Vignette Amount : 0
Split Toning Balance : 0
Lens Profile Enable : 1
Vignette Amount : 0
Perspective Rotate : 0.0
Process Version : 6.7
Gray Mixer Blue : +7
Parametric Highlights : 0
Green Saturation : 0
Lens Profile Distortion Scale : 100
Gray Mixer Orange : -16
Parametric Shadow Split : 25
Sharpen Detail : 25
Green Hue : 0
Perspective Vertical : 0
Blue Saturation : 0
Perspective Horizontal : 0
Blue Hue : 0
Lens Profile Vignetting Scale : 100
Parametric Highlight Split : 75
Auto Lateral CA : 1
Color Noise Reduction Smoothness : 50
Red Hue : 0
Tint : +6
Split Toning Highlight Hue : 0
Camera Profile : Adobe Standard
Parametric Lights : 0
Sharpen Radius : +1.0
Contrast 2012 : +56
Auto White Version : 134348800
Already Applied : True
Gray Mixer Aqua : -19
Gray Mixer Green : -25
Grain Amount : 0
Gray Mixer Purple : +14
Version : 8.6
Whites 2012 : 0
Sharpen Edge Masking : 0
Color Noise Reduction Detail : 50
Exposure 2012 : 0.00
Color Temperature : 5850
Creator Tool : Adobe Photoshop Lightroom 5.6 (Macintosh)
Lens Distort Info : 1070133172/1073741824 15614291/1073741824 -15471426/1073741824 -3591030/1073741824
Lens : FE 55mm F1.8 ZA
Format : image/jpeg
Date Created : 2014:12:10 15:48:55
Tone Curve PV2012 Red : 0, 0, 255, 255
Tone Curve PV2012 Green : 0, 0, 255, 255
Tone Curve PV2012 : 0, 0, 255, 255
Tone Curve Green : 0, 0, 255, 255
Tone Curve Red : 0, 0, 255, 255
Tone Curve Blue : 0, 0, 255, 255
Tone Curve : 0, 0, 255, 255
Tone Curve PV2012 Blue : 0, 0, 255, 255
Image Width : 300
Image Height : 200
Bits Per Sample : 8
Color Components : 1
Aperture : 2.8
Image Size : 300x200
Megapixels : 0.060
Scale Factor To 35 mm Equivalent : 1.0
Shutter Speed : 1/8000
Circle Of Confusion : 0.030 mm
Field Of View : 36.2 deg
Focal Length : 55.0 mm (35 mm equivalent: 55.0 mm)
Hyperfocal Distance : 35.96 m
Light Value : 15.9
Lens ID : FE 55mm F1.8 ZA