Uber Exif Photo
Make : SONY
Camera Model Name : ILCE-7
Orientation : Horizontal (normal)
Software : Adobe Photoshop Lightroom 5.6 (Macintosh)
Modify Date : 2015:11:04 22:52:15
Exposure Time : 1/2000
F Number : 5.6
Exposure Program : Aperture-priority AE
ISO : 100
Sensitivity Type : Recommended Exposure Index
Recommended Exposure Index : 100
Date/Time Original : 2015:02:02 15:56:06
Create Date : 2015:02:02 15:56:06
Shutter Speed Value : 1/2000
Aperture Value : 5.6
Brightness Value : 12.61484453
Exposure Compensation : 0
Max Aperture Value : 1.8
Metering Mode : Multi-segment
Light Source : Unknown
Flash : Off, Did not fire
Focal Length : 55.0 mm
Color Space : sRGB
Exif Image Width : 6000
Exif Image Height : 4000
Scene Type : Directly photographed
Custom Rendered : Normal
Exposure Mode : Auto
White Balance : Auto
Digital Zoom Ratio : 1
Focal Length In 35mm Format : 55 mm
Scene Capture Type : Standard
Contrast : Normal
Saturation : Normal
Sharpness : Normal
Lens Info : 55mm f/1.8
Lens Model : FE 55mm F1.8 ZA
Parametric Darks : 0
Perspective Scale : 100
Clarity 2012 : 0
Color Noise Reduction : 25
Perspective Upright : Off
Has Crop : False
Red Saturation : 0
Parametric Shadows : 0
Gray Mixer Magenta : +3
Gray Mixer Yellow : -22
Split Toning Shadow Saturation : 0
Lens Manual Distortion Amount : 0
Tone Curve Name : Linear
Shadows 2012 : +100
Blacks 2012 : 0
Tone Curve Name 2012 : Linear
Luminance Smoothing : 0
Convert To Grayscale : True
Highlights 2012 : -47
Parametric Midtone Split : 50
Perspective Aspect : 0
Shadow Tint : 0
Split Toning Highlight Saturation : 0
Split Toning Shadow Hue : 0
Has Settings : True
Lens Profile Setup : LensDefaults
Gray Mixer Red : -9
Post Crop Vignette Amount : 0
Split Toning Balance : 0
Lens Profile Enable : 0
Vignette Amount : 0
Perspective Rotate : 0.0
Process Version : 6.7
Gray Mixer Blue : +8
Parametric Highlights : 0
Green Saturation : 0
Gray Mixer Orange : -18
Parametric Shadow Split : 25
Sharpen Detail : 25
Green Hue : 0
Perspective Vertical : 0
Blue Saturation : 0
Perspective Horizontal : 0
Blue Hue : 0
Parametric Highlight Split : 75
Auto Lateral CA : 0
Color Noise Reduction Smoothness : 50
Red Hue : 0
Tint : +5
Split Toning Highlight Hue : 0
Camera Profile : Adobe Standard
Parametric Lights : 0
Sharpen Radius : +1.0
Auto White Version : 134348800
Contrast 2012 : +7
Already Applied : True
Gray Mixer Aqua : -18
Gray Mixer Green : -26
Grain Amount : 0
Gray Mixer Purple : +15
Version : 8.6
Whites 2012 : -14
Sharpen Edge Masking : 0
Color Noise Reduction Detail : 50
Exposure 2012 : -0.35
Color Temperature : 5250
Creator Tool : Adobe Photoshop Lightroom 5.6 (Macintosh)
Lens Distort Info : 1070253411/1073741824 15722371/1073741824 -16611359/1073741824 -2992223/1073741824
Lens : FE 55mm F1.8 ZA
Format : image/jpeg
Date Created : 2015:02:02 15:56:06
Tone Curve PV2012 Red : 0, 0, 255, 255
Tone Curve PV2012 Green : 0, 0, 255, 255
Tone Curve PV2012 : 0, 0, 255, 255
Tone Curve Green : 0, 0, 255, 255
Tone Curve Red : 0, 0, 255, 255
Tone Curve Blue : 0, 0, 255, 255
Tone Curve : 0, 0, 255, 255
Tone Curve PV2012 Blue : 0, 0, 255, 255
Image Width : 300
Image Height : 200
Bits Per Sample : 8
Color Components : 1
Aperture : 5.6
Image Size : 300x200
Megapixels : 0.060
Scale Factor To 35 mm Equivalent : 1.0
Shutter Speed : 1/2000
Circle Of Confusion : 0.030 mm
Field Of View : 36.2 deg
Focal Length : 55.0 mm (35 mm equivalent: 55.0 mm)
Hyperfocal Distance : 17.98 m
Light Value : 15.9
Lens ID : FE 55mm F1.8 ZA