Uber Exif Photo
Make : SONY
Camera Model Name : ILCE-7RM2
Software : Adobe Photoshop Lightroom 6.1.1 (Macintosh)
Modify Date : 2015:10:03 17:03:54
Exposure Time : 1/160
F Number : 10.0
Exposure Program : Aperture-priority AE
ISO : 100
Sensitivity Type : Recommended Exposure Index
Recommended Exposure Index : 100
Date/Time Original : 2015:10:03 14:41:25
Create Date : 2015:10:03 14:41:25
Shutter Speed Value : 1/160
Aperture Value : 10.0
Brightness Value : 10.73203125
Exposure Compensation : -0.3
Max Aperture Value : 2.8
Metering Mode : Multi-segment
Light Source : Unknown
Flash : Off, Did not fire
Focal Length : 90.0 mm
Color Space : sRGB
Scene Type : Directly photographed
Custom Rendered : Normal
Exposure Mode : Auto
White Balance : Auto
Digital Zoom Ratio : 1
Focal Length In 35mm Format : 90 mm
Scene Capture Type : Standard
Contrast : Normal
Saturation : Normal
Sharpness : Normal
Lens Info : 90mm f/2.8
Lens Model : FE 90mm F2.8 Macro G OSS
Profile Description : sRGB IEC61966-2.1
Creator Tool : Adobe Photoshop Lightroom 6.1.1 (Macintosh)
Lens : FE 90mm F2.8 Macro G OSS
Lens Distort Info : 32786/32768 -811579/1073741824 -4256794/1073741824 688479/1073741824
Date Created : 2015:10:03 14:41:25
Format : image/jpeg
Version : 9.1.1
Process Version : 6.7
Auto White Version : 134348800
Color Temperature : 4350
Tint : +16
Luminance Smoothing : 0
Color Noise Reduction : 25
Vignette Amount : 0
Shadow Tint : +2
Red Hue : +10
Red Saturation : +5
Green Hue : +10
Green Saturation : -10
Blue Hue : -10
Blue Saturation : +25
Vibrance : 0
Hue Adjustment Red : +12
Hue Adjustment Orange : 0
Hue Adjustment Yellow : 0
Hue Adjustment Green : +12
Hue Adjustment Aqua : 0
Hue Adjustment Blue : +5
Hue Adjustment Purple : +20
Hue Adjustment Magenta : +15
Saturation Adjustment Red : -15
Saturation Adjustment Orange : -5
Saturation Adjustment Yellow : 0
Saturation Adjustment Green : -30
Saturation Adjustment Aqua : 0
Saturation Adjustment Blue : +10
Saturation Adjustment Purple : -10
Saturation Adjustment Magenta : -15
Luminance Adjustment Red : -20
Luminance Adjustment Orange : -12
Luminance Adjustment Yellow : 0
Luminance Adjustment Green : -25
Luminance Adjustment Aqua : -15
Luminance Adjustment Blue : -25
Luminance Adjustment Purple : -10
Luminance Adjustment Magenta : -15
Split Toning Shadow Hue : 0
Split Toning Shadow Saturation : 0
Split Toning Highlight Hue : 220
Split Toning Highlight Saturation : 5
Split Toning Balance : 0
Parametric Shadows : +27
Parametric Darks : +15
Parametric Lights : 0
Parametric Highlights : -69
Parametric Shadow Split : 14
Parametric Midtone Split : 60
Parametric Highlight Split : 75
Sharpen Radius : +1.2
Sharpen Detail : 25
Sharpen Edge Masking : 0
Post Crop Vignette Amount : 0
Grain Amount : 0
Color Noise Reduction Detail : 50
Color Noise Reduction Smoothness : 50
Lens Profile Enable : 0
Lens Manual Distortion Amount : 0
Perspective Vertical : 0
Perspective Horizontal : 0
Perspective Rotate : 0.0
Perspective Scale : 100
Perspective Aspect : 0
Perspective Upright : Off
Auto Lateral CA : 0
Exposure 2012 : -0.20
Contrast 2012 : 0
Highlights 2012 : -25
Shadows 2012 : +15
Whites 2012 : 0
Blacks 2012 : +25
Clarity 2012 : 0
Defringe Purple Amount : 0
Defringe Purple Hue Lo : 30
Defringe Purple Hue Hi : 70
Defringe Green Amount : 0
Defringe Green Hue Lo : 40
Defringe Green Hue Hi : 60
Dehaze : 0
Tone Map Strength : 0
Convert To Grayscale : False
Tone Curve Name : Linear
Tone Curve Name 2012 : Provia 100F
Camera Profile : Fuji Provia 100F - SO
Lens Profile Setup : LensDefaults
Has Settings : True
Crop Top : 0
Crop Left : 0
Crop Bottom : 0.723391
Crop Right : 1
Crop Angle : 0
Crop Constrain To Warp : 0
Has Crop : True
Already Applied : True
Tone Curve : 0, 0, 255, 255
Tone Curve Red : 0, 0, 255, 255
Tone Curve Green : 0, 0, 255, 255
Tone Curve Blue : 0, 0, 255, 255
Tone Curve PV2012 : 0, 0, 255, 255
Tone Curve PV2012 Red : 0, 0, 43, 20, 112, 122, 177, 204, 255, 255
Tone Curve PV2012 Green : 0, 0, 43, 22, 112, 120, 177, 204, 219, 236, 255, 255
Tone Curve PV2012 Blue : 0, 0, 44, 20, 114, 122, 177, 203, 255, 255
Image Width : 300
Image Height : 145
Bits Per Sample : 8
Color Components : 3
Aperture : 10.0
Image Size : 300x145
Megapixels : 0.043
Scale Factor To 35 mm Equivalent : 1.0
Shutter Speed : 1/160
Circle Of Confusion : 0.030 mm
Field Of View : 22.6 deg
Focal Length : 90.0 mm (35 mm equivalent: 90.0 mm)
Hyperfocal Distance : 26.96 m
Light Value : 14.0
Lens ID : FE 90mm F2.8 Macro G OSS