Uber Exif Photo
Keywords : Architektur, Fernmeldeturm, Fernsehturm, Mannheim, Nebel
By-line : Sebastian Fischer
Copyright Notice : Sebastian Fischer, all rights reserved
Copyright Flag : True
Make : SONY
Camera Model Name : ILCE-7S
Software : Adobe Photoshop Lightroom 6.1.1 (Macintosh)
Modify Date : 2015:11:01 14:39:46
Artist : Sebastian Fischer
Copyright : Sebastian Fischer, all rights reserved
Exposure Time : 1/125
F Number : 8.0
Exposure Program : Manual
ISO : 100
Sensitivity Type : Recommended Exposure Index
Recommended Exposure Index : 100
Date/Time Original : 2015:11:01 12:09:24
Create Date : 2015:11:01 12:09:24
Shutter Speed Value : 1/125
Aperture Value : 8.0
Brightness Value : 9.76328125
Exposure Compensation : 0
Max Aperture Value : 4.0
Metering Mode : Spot
Light Source : Unknown
Flash : Off, Did not fire
Focal Length : 35.0 mm
Color Space : sRGB
Scene Type : Directly photographed
Custom Rendered : Normal
Exposure Mode : Manual
White Balance : Auto
Digital Zoom Ratio : 1
Focal Length In 35mm Format : 35 mm
Scene Capture Type : Standard
Contrast : Normal
Saturation : Normal
Sharpness : Normal
Lens Info : 16-35mm f/4
Lens Model : FE 16-35mm F4 ZA OSS
Creator Tool : Adobe Photoshop Lightroom 6.1.1 (Macintosh)
Rating : 5
Lens : FE 16-35mm F4 ZA OSS
Lens Distort Info : 1048810886/1073741824 11152247/1073741824 15613354/1073741824 -1847597/1073741824
Date Created : 2015:11:01 12:09:24
Format : image/jpeg
Marked : True
Version : 9.1.1
Process Version : 6.7
Auto White Version : 134348800
Color Temperature : 5350
Tint : +10
Luminance Smoothing : 0
Color Noise Reduction : 25
Vignette Amount : 0
Shadow Tint : 0
Red Hue : 0
Red Saturation : 0
Green Hue : 0
Green Saturation : 0
Blue Hue : 0
Blue Saturation : 0
Gray Mixer Red : 0
Gray Mixer Orange : 0
Gray Mixer Yellow : 0
Gray Mixer Green : 0
Gray Mixer Aqua : 0
Gray Mixer Blue : 0
Gray Mixer Purple : 0
Gray Mixer Magenta : 0
Split Toning Shadow Hue : 0
Split Toning Shadow Saturation : 0
Split Toning Highlight Hue : 0
Split Toning Highlight Saturation : 0
Split Toning Balance : 0
Parametric Shadows : 0
Parametric Darks : 0
Parametric Lights : 0
Parametric Highlights : 0
Parametric Shadow Split : 25
Parametric Midtone Split : 50
Parametric Highlight Split : 75
Sharpen Radius : +1.0
Sharpen Detail : 25
Sharpen Edge Masking : 54
Post Crop Vignette Amount : 0
Grain Amount : 0
Color Noise Reduction Detail : 50
Color Noise Reduction Smoothness : 50
Lens Profile Enable : 1
Lens Manual Distortion Amount : 0
Perspective Vertical : 0
Perspective Horizontal : 0
Perspective Rotate : 0.0
Perspective Scale : 100
Perspective Aspect : 0
Perspective Upright : Auto
Auto Lateral CA : 0
Exposure 2012 : 0.00
Contrast 2012 : +100
Highlights 2012 : -100
Shadows 2012 : -22
Whites 2012 : +26
Blacks 2012 : 0
Clarity 2012 : -10
Dehaze : +64
Tone Map Strength : 0
Convert To Grayscale : True
Tone Curve Name : Linear
Tone Curve Name 2012 : Linear
Camera Profile : Adobe Standard
Lens Profile Setup : LensDefaults
Lens Profile Name : Adobe (Sony FE 16-35mm F4 ZA OSS)
Lens Profile Filename : SONY (Sony FE 16-35mm F4 ZA OSS) - RAW.lcp
Lens Profile Distortion Scale : 100
Lens Profile Chromatic Aberration Scale : 100
Lens Profile Vignetting Scale : 100
Has Settings : True
Has Crop : False
Already Applied : True
Creator : Sebastian Fischer
Rights : Sebastian Fischer, all rights reserved
Subject : Architektur, Fernmeldeturm, Fernsehturm, Mannheim, Nebel
Creator Postal Code : 69469
Creator City : Weinheim
Creator Address : Mühlgäßchen 1
Creator Work Email : seelenpfluecker@gmx.net
Creator Work URL : www.2wielicht.com
Tone Curve : 0, 0, 255, 255
Tone Curve Red : 0, 0, 255, 255
Tone Curve Green : 0, 0, 255, 255
Tone Curve Blue : 0, 0, 255, 255
Tone Curve PV2012 : 0, 0, 255, 255
Tone Curve PV2012 Red : 0, 0, 255, 255
Tone Curve PV2012 Green : 0, 0, 255, 255
Tone Curve PV2012 Blue : 0, 0, 255, 255
Gradient Based Corr What : Correction
Gradient Based Corr Amount : 1.000000
Gradient Based Corr Active : true
Gradient Based Corr Saturation : 0.000000
Gradient Based Corr Sharpness : 0.000000
Gradient Based Corr Brightness : 0.000000
Gradient Based Corr Toning Hue : 240.000000
Gradient Based Corr Toning Saturation : 0.000000
Gradient Based Corr Exposure 2012 : -0.075000
Gradient Based Corr Contrast 2012 : 0.000000
Gradient Based Corr Highlights 2012 : 0.000000
Gradient Based Corr Shadows 2012 : -1.000000
Gradient Based Corr Whites 2012 : 0.000000
Gradient Based Corr Blacks 2012 : 0.000000
Gradient Based Corr Clarity 2012 : 0.000000
Gradient Based Corr Luminance Noise : 0.000000
Gradient Based Corr Moire : 0.000000
Gradient Based Corr Defringe : 0.000000
Gradient Based Corr Temperature : 0.000000
Gradient Based Corr Tint : 0.000000
Gradient Based Corr Mask What : Mask/Gradient
Gradient Based Corr Mask Value : 1.000000
Gradient Based Corr Mask Zero X : 0.446955
Gradient Based Corr Mask Zero Y : 0.681510
Gradient Based Corr Mask Full X : 0.011717
Gradient Based Corr Mask Full Y : 0.664474
Image Width : 200
Image Height : 300
Bits Per Sample : 8
Color Components : 1
Aperture : 8.0
Image Size : 200x300
Megapixels : 0.060
Scale Factor To 35 mm Equivalent : 1.0
Shutter Speed : 1/125
Circle Of Confusion : 0.030 mm
Field Of View : 54.4 deg
Focal Length : 35.0 mm (35 mm equivalent: 35.0 mm)
Hyperfocal Distance : 5.10 m
Light Value : 13.0
Lens ID : FE 16-35mm F4 ZA OSS