Uber Exif Photo
Caption-Abstract : SONY DSC
Image Description : SONY DSC
Make : SONY
Camera Model Name : DSLR-A350
Orientation : Horizontal (normal)
Software : Adobe Photoshop Elements 8.0 Windows
Modify Date : 2011:10:28 16:44:33
Exposure Time : 1/160
F Number : 5.6
Exposure Program : Aperture-priority AE
ISO : 100
Date/Time Original : 2011:10:27 09:15:06
Create Date : 2011:10:27 09:15:06
Shutter Speed Value : 1/160
Aperture Value : 5.6
Brightness Value : 7
Exposure Compensation : -0.3
Max Aperture Value : 4.5
Metering Mode : Multi-segment
Light Source : Unknown
Focal Length : 60.0 mm
Color Space : sRGB
Exif Image Width : 4482
Exif Image Height : 2890
Scene Type : Directly photographed
Custom Rendered : Normal
Exposure Mode : Auto
White Balance : Auto
Focal Length In 35mm Format : 90 mm
Scene Capture Type : Standard
Contrast : Normal
Saturation : Normal
Sharpness : Normal
Lens Info : 16-80mm f/3.5-4.5
Lens Model : DT 16-80mm F3.5-4.5 ZA
Profile Description : sRGB IEC61966-2.1
Creator Tool : Adobe Photoshop Lightroom 3.5 (Windows)
Lens : DT 16-80mm F3.5-4.5 ZA
Date Created : 2011:10:27
Color Mode : RGB
ICC Profile Name : sRGB IEC61966-2.1
Version : 6.5
Process Version : 5.7
Color Temperature : 5218
Tint : +11
Exposure : -0.78
Shadows : 5
Brightness : +50
Luminance Smoothing : 0
Color Noise Reduction : 25
Chromatic Aberration R : 0
Chromatic Aberration B : 0
Vignette Amount : 0
Shadow Tint : 0
Red Hue : 0
Red Saturation : 0
Green Hue : 0
Green Saturation : 0
Blue Hue : 0
Blue Saturation : 0
Fill Light : 0
Vibrance : 0
Highlight Recovery : 0
Clarity : 0
Defringe : 0
Hue Adjustment Red : 0
Hue Adjustment Orange : 0
Hue Adjustment Yellow : 0
Hue Adjustment Green : 0
Hue Adjustment Aqua : 0
Hue Adjustment Blue : 0
Hue Adjustment Purple : 0
Hue Adjustment Magenta : 0
Saturation Adjustment Red : 0
Saturation Adjustment Orange : 0
Saturation Adjustment Yellow : 0
Saturation Adjustment Green : 0
Saturation Adjustment Aqua : 0
Saturation Adjustment Blue : 0
Saturation Adjustment Purple : 0
Saturation Adjustment Magenta : 0
Luminance Adjustment Red : 0
Luminance Adjustment Orange : 0
Luminance Adjustment Yellow : 0
Luminance Adjustment Green : 0
Luminance Adjustment Aqua : 0
Luminance Adjustment Blue : 0
Luminance Adjustment Purple : 0
Luminance Adjustment Magenta : 0
Split Toning Shadow Hue : 0
Split Toning Shadow Saturation : 0
Split Toning Highlight Hue : 0
Split Toning Highlight Saturation : 0
Split Toning Balance : 0
Parametric Shadows : -12
Parametric Darks : -12
Parametric Lights : 0
Parametric Highlights : 0
Parametric Shadow Split : 25
Parametric Midtone Split : 50
Parametric Highlight Split : 75
Sharpen Radius : +1.0
Sharpen Detail : 25
Sharpen Edge Masking : 0
Post Crop Vignette Amount : -29
Post Crop Vignette Midpoint : 50
Post Crop Vignette Feather : 50
Post Crop Vignette Roundness : 0
Post Crop Vignette Style : Highlight Priority
Post Crop Vignette Highlight Contrast : 0
Grain Amount : 0
Color Noise Reduction Detail : 50
Lens Profile Enable : 1
Lens Manual Distortion Amount : 0
Perspective Vertical : 0
Perspective Horizontal : 0
Perspective Rotate : 0.0
Perspective Scale : 100
Convert To Grayscale : False
Tone Curve Name : Medium Contrast
Camera Profile : Adobe Standard
Lens Profile Setup : Custom
Lens Profile Name : Adobe (Zeiss Distagon T* 3,5/18 ZE)
Lens Profile Filename : Canon (Zeiss Distagon T 18 f35 ZE).lcp
Lens Profile Distortion Scale : 100
Lens Profile Chromatic Aberration Scale : 100
Lens Profile Vignetting Scale : 100
Has Settings : True
Crop Top : 0
Crop Left : 0.006686
Crop Bottom : 0.942611
Crop Right : 0.979943
Crop Angle : 0
Crop Constrain To Warp : 0
Crop Width : 4469
Crop Height : 2881
Crop Unit : pixels
Has Crop : True
Already Applied : True
Format : image/jpeg
Date/Time Digitized : 2011:10:27 09:15:06+02:00
Tone Curve : 0, 0, 32, 22, 64, 56, 128, 128, 192, 196, 255, 255
Paint Correction What : Correction
Paint Correction Amount : 1.000000
Paint Correction Active : true
Paint Correction Exposure : -0.567750
Paint Correction Saturation : 0.244000
Paint Correction Contrast : 0.878050
Paint Correction Clarity : 0.658540
Paint Correction Sharpness : 0.390240
Paint Correction Brightness : -0.146340
Paint Correction Toning Hue : 230.000000
Paint Correction Toning Saturation : 0.106000
Paint Correction Mask What : Mask/Paint
Paint Correction Mask Value : 0.452000
Paint Correction Mask Radius : 0.203182
Paint Correction Mask Flow : 0.552000
Paint Correction Mask Center Weight : 0.010061
Description : SONY DSC
Flash Fired : False
Flash Return : No return detection
Flash Mode : Off
Flash Function : False
Flash Red Eye Mode : False
Image Width : 300
Image Height : 194
Bits Per Sample : 8
Color Components : 3
Aperture : 5.6
Image Size : 300x194
Megapixels : 0.058
Scale Factor To 35 mm Equivalent : 1.5
Shutter Speed : 1/160
Flash : Off, Did not fire
Circle Of Confusion : 0.020 mm
Field Of View : 22.6 deg
Focal Length : 60.0 mm (35 mm equivalent: 90.0 mm)
Hyperfocal Distance : 32.09 m
Light Value : 12.3
Lens ID : Carl Zeiss Vario-Sonnar T* DT 16-80mm F3.5-4.5 ZA (SAL1680Z)