Uber Exif Photo
Caption-Abstract : SONY DSC
Image Description : SONY DSC
Make : SONY
Camera Model Name : DSLR-A350
Orientation : Horizontal (normal)
Software : Adobe Photoshop Elements 8.0 Windows
Modify Date : 2011:09:25 20:20:40
Exposure Time : 1/500
F Number : 10.0
Exposure Program : Aperture-priority AE
ISO : 100
Sensitivity Type : Unknown
Date/Time Original : 2011:08:30 14:32:01
Create Date : 2011:08:30 14:32:01
Shutter Speed Value : 1/500
Aperture Value : 10.0
Brightness Value : 10.25
Exposure Compensation : -0.3
Max Aperture Value : 3.5
Metering Mode : Center-weighted average
Light Source : Unknown
Focal Length : 16.0 mm
Color Space : sRGB
Exif Image Width : 3065
Exif Image Height : 4335
Scene Type : Directly photographed
Custom Rendered : Normal
Exposure Mode : Auto
White Balance : Auto
Focal Length In 35mm Format : 24 mm
Scene Capture Type : Standard
Contrast : Normal
Saturation : Normal
Sharpness : Normal
Lens Info : 16-80mm f/3.5-4.5
Lens Model : DT 16-80mm F3.5-4.5 ZA
Profile Description : sRGB IEC61966-2.1
Version : 6.2
Process Version : 5.7
Color Temperature : 4900
Tint : +5
Exposure : +0.14
Shadows : 9
Brightness : +50
Luminance Smoothing : 46
Color Noise Reduction : 32
Chromatic Aberration R : 0
Chromatic Aberration B : 0
Vignette Amount : 0
Shadow Tint : 0
Red Hue : 0
Red Saturation : 0
Green Hue : 0
Green Saturation : 0
Blue Hue : 0
Blue Saturation : 0
Fill Light : 47
Vibrance : 0
Highlight Recovery : 0
Clarity : 0
Defringe : 0
Hue Adjustment Red : 0
Hue Adjustment Orange : 0
Hue Adjustment Yellow : 0
Hue Adjustment Green : 0
Hue Adjustment Aqua : 0
Hue Adjustment Blue : 0
Hue Adjustment Purple : 0
Hue Adjustment Magenta : 0
Saturation Adjustment Red : 0
Saturation Adjustment Orange : 0
Saturation Adjustment Yellow : 0
Saturation Adjustment Green : 0
Saturation Adjustment Aqua : 0
Saturation Adjustment Blue : 0
Saturation Adjustment Purple : 0
Saturation Adjustment Magenta : 0
Luminance Adjustment Red : 0
Luminance Adjustment Orange : 0
Luminance Adjustment Yellow : +52
Luminance Adjustment Green : +52
Luminance Adjustment Aqua : 0
Luminance Adjustment Blue : -48
Luminance Adjustment Purple : 0
Luminance Adjustment Magenta : 0
Split Toning Shadow Hue : 0
Split Toning Shadow Saturation : 0
Split Toning Highlight Hue : 0
Split Toning Highlight Saturation : 0
Split Toning Balance : 0
Parametric Shadows : 0
Parametric Darks : 0
Parametric Lights : 0
Parametric Highlights : 0
Parametric Shadow Split : 25
Parametric Midtone Split : 50
Parametric Highlight Split : 75
Sharpen Radius : +1.0
Sharpen Detail : 45
Sharpen Edge Masking : 8
Post Crop Vignette Amount : 0
Grain Amount : 0
Luminance Noise Reduction Detail : 50
Color Noise Reduction Detail : 50
Luminance Noise Reduction Contrast : 23
Lens Profile Enable : 1
Lens Manual Distortion Amount : 0
Perspective Vertical : 0
Perspective Horizontal : 0
Perspective Rotate : 0.0
Perspective Scale : 100
Convert To Grayscale : False
Tone Curve Name : Medium Contrast
Camera Profile : Adobe Standard
Lens Profile Setup : Custom
Lens Profile Name : Adobe (Zeiss Distagon T* 3,5/18 ZE)
Lens Profile Filename : Canon (Zeiss Distagon T 18 f35 ZE).lcp
Lens Profile Distortion Scale : 100
Lens Profile Chromatic Aberration Scale : 100
Lens Profile Vignetting Scale : 100
Has Settings : True
Crop Top : 0
Crop Left : 0.058824
Crop Bottom : 1
Crop Right : 1
Crop Angle : 0
Crop Constrain To Warp : 0
Crop Width : 4322
Crop Height : 3056
Crop Unit : pixels
Has Crop : True
Already Applied : True
Date/Time Digitized : 2011:08:30 14:32:01+01:00
Lens : DT 16-80mm F3.5-4.5 ZA
Color Mode : RGB
ICC Profile Name : sRGB IEC61966-2.1
Creator Tool : Adobe Photoshop CS Windows
Format : image/jpeg
Tone Curve : 0, 0, 32, 22, 64, 56, 128, 128, 192, 196, 255, 255
Gradient Based Corr Masks : , ,
Gradient Based Corr What : Correction
Gradient Based Corr Amount : 1.000000
Gradient Based Corr Active : true
Gradient Based Corr Exposure : -0.268000
Gradient Based Corr Saturation : 0.073000
Gradient Based Corr Contrast : 0.098000
Gradient Based Corr Clarity : 0.000000
Gradient Based Corr Sharpness : 0.317000
Gradient Based Corr Brightness : 0.098000
Gradient Based Corr Toning Hue : 0.000000
Gradient Based Corr Toning Saturation : 0.000000
Flash Fired : False
Flash Return : No return detection
Flash Mode : Off
Flash Function : False
Flash Red Eye Mode : False
Description : SONY DSC
Image Width : 212
Image Height : 300
Bits Per Sample : 8
Color Components : 3
Aperture : 10.0
Image Size : 212x300
Megapixels : 0.064
Scale Factor To 35 mm Equivalent : 1.5
Shutter Speed : 1/500
Flash : Off, Did not fire
Circle Of Confusion : 0.020 mm
Field Of View : 73.7 deg
Focal Length : 16.0 mm (35 mm equivalent: 24.0 mm)
Hyperfocal Distance : 1.28 m
Light Value : 15.6
Lens ID : Carl Zeiss Vario-Sonnar T* DT 16-80mm F3.5-4.5 ZA (SAL1680Z)