Uber Exif Photo
Make : SONY
Camera Model Name : ILCE-7M2
Orientation : Horizontal (normal)
Software : Adobe Photoshop Lightroom 6.0 (Windows)
Modify Date : 2015:11:17 21:22:38
Exposure Time : 1/15
F Number : 11.0
Exposure Program : Aperture-priority AE
ISO : 100
Sensitivity Type : Recommended Exposure Index
Recommended Exposure Index : 100
Date/Time Original : 2015:11:17 18:17:27
Create Date : 2015:11:17 18:17:27
Shutter Speed Value : 1/15
Aperture Value : 11.0
Brightness Value : 4.27890625
Exposure Compensation : -2
Max Aperture Value : 4.0
Metering Mode : Multi-segment
Light Source : Unknown
Flash : Off, Did not fire
Focal Length : 24.0 mm
Color Space : sRGB
Scene Type : Directly photographed
Custom Rendered : Normal
Exposure Mode : Auto bracket
White Balance : Auto
Digital Zoom Ratio : 1
Focal Length In 35mm Format : 24 mm
Scene Capture Type : Standard
Contrast : Normal
Saturation : Low
Sharpness : Hard
Lens Info : 24-70mm f/4
Lens Model : FE 24-70mm F4 ZA OSS
Profile Description : sRGB IEC61966-2.1
Creator Tool : Adobe Photoshop Lightroom 6.0 (Windows)
Lens : FE 24-70mm F4 ZA OSS
Lens Distort Info : 33709/32768 -115840710/1073741824 49530422/1073741824 406818/1073741824
Is Merged HDR : True
Lateral Chromatic Aberration Correction Already Applied : True
Date Created : 2015:11:17 18:17:27
Format : image/jpeg
Version : 9.0
Process Version : 6.7
Auto White Version : 134348800
Color Temperature : 6300
Tint : +11
Luminance Smoothing : 7
Color Noise Reduction : 33
Vignette Amount : 0
Shadow Tint : 0
Red Hue : 0
Red Saturation : 0
Green Hue : 0
Green Saturation : 0
Blue Hue : 0
Blue Saturation : 0
Vibrance : +25
Hue Adjustment Red : 0
Hue Adjustment Orange : -13
Hue Adjustment Yellow : -29
Hue Adjustment Green : 0
Hue Adjustment Aqua : 0
Hue Adjustment Blue : 0
Hue Adjustment Purple : 0
Hue Adjustment Magenta : 0
Saturation Adjustment Red : 0
Saturation Adjustment Orange : 0
Saturation Adjustment Yellow : 0
Saturation Adjustment Green : 0
Saturation Adjustment Aqua : 0
Saturation Adjustment Blue : 0
Saturation Adjustment Purple : 0
Saturation Adjustment Magenta : 0
Luminance Adjustment Red : 0
Luminance Adjustment Orange : -26
Luminance Adjustment Yellow : -24
Luminance Adjustment Green : 0
Luminance Adjustment Aqua : 0
Luminance Adjustment Blue : 0
Luminance Adjustment Purple : 0
Luminance Adjustment Magenta : 0
Split Toning Shadow Hue : 0
Split Toning Shadow Saturation : 0
Split Toning Highlight Hue : 0
Split Toning Highlight Saturation : 0
Split Toning Balance : 0
Parametric Shadows : 0
Parametric Darks : 0
Parametric Lights : 0
Parametric Highlights : 0
Parametric Shadow Split : 25
Parametric Midtone Split : 50
Parametric Highlight Split : 75
Sharpen Radius : +1.0
Sharpen Detail : 42
Sharpen Edge Masking : 53
Post Crop Vignette Amount : 0
Grain Amount : 0
Luminance Noise Reduction Detail : 59
Color Noise Reduction Detail : 57
Luminance Noise Reduction Contrast : 0
Color Noise Reduction Smoothness : 50
Lens Profile Enable : 1
Lens Manual Distortion Amount : 0
Perspective Vertical : 0
Perspective Horizontal : 0
Perspective Rotate : 0.0
Perspective Scale : 100
Perspective Aspect : 0
Perspective Upright : Off
Auto Lateral CA : 0
Exposure 2012 : -0.20
Contrast 2012 : +54
Highlights 2012 : -100
Shadows 2012 : +100
Whites 2012 : +20
Blacks 2012 : -27
Clarity 2012 : +35
Defringe Purple Amount : 0
Defringe Purple Hue Lo : 30
Defringe Purple Hue Hi : 70
Defringe Green Amount : 0
Defringe Green Hue Lo : 40
Defringe Green Hue Hi : 60
Convert To Grayscale : False
Tone Curve Name : Linear
Tone Curve Name 2012 : Linear
Camera Profile : Adobe Standard
Lens Profile Setup : LensDefaults
Lens Profile Name : Adobe (Sony FE 24-70mm F4 ZA OSS)
Lens Profile Filename : SONY (Sony FE 24-70mm F4 ZA OSS) - RAW.lcp
Lens Profile Distortion Scale : 100
Lens Profile Chromatic Aberration Scale : 100
Lens Profile Vignetting Scale : 100
Has Settings : True
Crop Top : 0
Crop Left : 0.00201
Crop Bottom : 1
Crop Right : 0.99799
Crop Angle : 0.1
Crop Constrain To Warp : 1
Has Crop : True
Already Applied : True
Raw File Name : 043-HDR.jpg
Tone Curve : 0, 0, 255, 255
Tone Curve Red : 0, 0, 255, 255
Tone Curve Green : 0, 0, 255, 255
Tone Curve Blue : 0, 0, 255, 255
Tone Curve PV2012 : 0, 0, 255, 255
Tone Curve PV2012 Red : 0, 0, 255, 255
Tone Curve PV2012 Green : 0, 0, 255, 255
Tone Curve PV2012 Blue : 0, 0, 255, 255
Paint Correction What : Correction
Paint Correction Amount : 1.000000
Paint Correction Active : true
Paint Correction Saturation : 0.000000
Paint Correction Sharpness : 0.000000
Paint Correction Brightness : 0.000000
Paint Correction Toning Hue : 240.000000
Paint Correction Toning Saturation : 0.000000
Paint Correction Exposure 2012 : 0.269500
Paint Correction Contrast 2012 : 0.000000
Paint Correction Highlights 2012 : 0.000000
Paint Correction Shadows 2012 : 0.286960
Paint Correction Clarity 2012 : 0.000000
Paint Correction Luminance Noise : 0.000000
Paint Correction Moire : 0.000000
Paint Correction Defringe : 0.000000
Paint Correction Temperature : 0.000000
Paint Correction Tint : 0.000000
Paint Correction Mask What : Mask/Paint
Paint Correction Mask Value : 1.000000
Paint Correction Mask Radius : 0.060208
Paint Correction Mask Flow : 1.000000
Paint Correction Mask Center Weight : 0.159505
Gradient Based Corr What : Correction
Gradient Based Corr Amount : 1.000000
Gradient Based Corr Active : true
Gradient Based Corr Saturation : 0.000000
Gradient Based Corr Sharpness : 0.000000
Gradient Based Corr Brightness : 0.000000
Gradient Based Corr Toning Hue : 240.000000
Gradient Based Corr Toning Saturation : 0.000000
Gradient Based Corr Exposure 2012 : -0.165250
Gradient Based Corr Contrast 2012 : 0.000000
Gradient Based Corr Highlights 2012 : 0.000000
Gradient Based Corr Shadows 2012 : 0.000000
Gradient Based Corr Clarity 2012 : 0.000000
Gradient Based Corr Luminance Noise : 0.000000
Gradient Based Corr Moire : 0.000000
Gradient Based Corr Defringe : 0.000000
Gradient Based Corr Temperature : 0.000000
Gradient Based Corr Tint : 0.000000
Gradient Based Corr Mask Zero X : 0.515159
Gradient Based Corr Mask Zero Y : 0.721110
Gradient Based Corr Mask Full X : 0.515625
Gradient Based Corr Mask Full Y : 0.404366
Gradient Based Corr Mask What : Mask/Paint
Gradient Based Corr Mask Value : 0.000000
Gradient Based Corr Mask Radius : 0.059022
Gradient Based Corr Mask Flow : 1.000000
Gradient Based Corr Mask Center Weight : 0.202922
Image Width : 300
Image Height : 200
Bits Per Sample : 8
Color Components : 3
Aperture : 11.0
Image Size : 300x200
Megapixels : 0.060
Scale Factor To 35 mm Equivalent : 1.0
Shutter Speed : 1/15
Circle Of Confusion : 0.030 mm
Field Of View : 73.7 deg
Focal Length : 24.0 mm (35 mm equivalent: 24.0 mm)
Hyperfocal Distance : 1.74 m
Light Value : 10.8
Lens ID : FE 24-70mm F4 ZA OSS