Uber Exif Photo
By-line : YURI-KRUZHNOV
Copyright Notice : yuriylux
Photometric Interpretation : RGB
Make : NIKON CORPORATION
Camera Model Name : NIKON D3
Orientation : Horizontal (normal)
Samples Per Pixel : 3
Software : Adobe Photoshop CS6 (Macintosh)
Modify Date : 2013:10:18 19:43:11
Artist : YURI-KRUZHNOV
Copyright : yuriylux
Exposure Time : 1/800
F Number : 2.0
Exposure Program : Aperture-priority AE
ISO : 200
Date/Time Original : 2013:09:18 12:23:59
Create Date : 2013:09:18 12:23:59
Shutter Speed Value : 1/800
Aperture Value : 2.0
Exposure Compensation : -1/3
Max Aperture Value : 2.0
Metering Mode : Center-weighted average
Light Source : Unknown
Flash : No Flash
Focal Length : 100.0 mm
Color Space : sRGB
Exif Image Width : 2832
Exif Image Height : 4256
Sensing Method : One-chip color area
Scene Type : Directly photographed
CFA Pattern : [Red,Green][Green,Blue]
Custom Rendered : Normal
Exposure Mode : Auto
White Balance : Auto
Digital Zoom Ratio : 1
Focal Length In 35mm Format : 100 mm
Scene Capture Type : Standard
Gain Control : None
Contrast : Normal
Saturation : Normal
Sharpness : Normal
Subject Distance Range : Unknown
Serial Number : 2057367
Lens Info : 100mm f/2
Lens Model : Zeiss Makro-Planar T* 2/100 ZF.2
Profile Description : sRGB IEC61966-2.1
Format : image/jpeg
Creator Tool : Adobe Photoshop Lightroom 4.1 (Macintosh)
Lens : Zeiss Makro-Planar T* 2/100 ZF.2
Image Number : 40247
Date Created : 2013:09:18 12:23:59.042
Color Mode : RGB
ICC Profile Name : sRGB IEC61966-2.1
Version : 7.1
Process Version : 6.7
Color Temperature : 4100
Tint : -2
Luminance Smoothing : 0
Color Noise Reduction : 25
Vignette Amount : 0
Shadow Tint : 0
Red Hue : 0
Red Saturation : 0
Green Hue : 0
Green Saturation : 0
Blue Hue : 0
Blue Saturation : 0
Vibrance : 0
Hue Adjustment Red : 0
Hue Adjustment Orange : 0
Hue Adjustment Yellow : 0
Hue Adjustment Green : 0
Hue Adjustment Aqua : 0
Hue Adjustment Blue : 0
Hue Adjustment Purple : 0
Hue Adjustment Magenta : 0
Saturation Adjustment Red : 0
Saturation Adjustment Orange : 0
Saturation Adjustment Yellow : 0
Saturation Adjustment Green : 0
Saturation Adjustment Aqua : 0
Saturation Adjustment Blue : 0
Saturation Adjustment Purple : 0
Saturation Adjustment Magenta : 0
Luminance Adjustment Red : 0
Luminance Adjustment Orange : 0
Luminance Adjustment Yellow : 0
Luminance Adjustment Green : 0
Luminance Adjustment Aqua : 0
Luminance Adjustment Blue : 0
Luminance Adjustment Purple : 0
Luminance Adjustment Magenta : 0
Split Toning Shadow Hue : 0
Split Toning Shadow Saturation : 0
Split Toning Highlight Hue : 0
Split Toning Highlight Saturation : 0
Split Toning Balance : 0
Parametric Shadows : 0
Parametric Darks : 0
Parametric Lights : 0
Parametric Highlights : 0
Parametric Shadow Split : 25
Parametric Midtone Split : 50
Parametric Highlight Split : 75
Sharpen Radius : +1.0
Sharpen Detail : 25
Sharpen Edge Masking : 0
Post Crop Vignette Amount : 0
Grain Amount : 0
Color Noise Reduction Detail : 50
Lens Profile Enable : 0
Lens Manual Distortion Amount : 0
Perspective Vertical : 0
Perspective Horizontal : 0
Perspective Rotate : 0.0
Perspective Scale : 100
Auto Lateral CA : 0
Exposure 2012 : -0.85
Contrast 2012 : +25
Highlights 2012 : 0
Shadows 2012 : 0
Whites 2012 : +25
Blacks 2012 : 0
Clarity 2012 : 0
Defringe Purple Amount : 0
Defringe Purple Hue Lo : 30
Defringe Purple Hue Hi : 70
Defringe Green Amount : 0
Defringe Green Hue Lo : 40
Defringe Green Hue Hi : 60
Convert To Grayscale : False
Tone Curve Name 2012 : Linear
Camera Profile : Adobe Standard
Lens Profile Setup : LensDefaults
Has Settings : True
Has Crop : False
Already Applied : True
Creator : YURI-KRUZHNOV
Rights : yuriylux
Tone Curve PV2012 : 0, 0, 255, 255
Tone Curve PV2012 Red : 0, 0, 255, 255
Tone Curve PV2012 Green : 0, 0, 255, 255
Tone Curve PV2012 Blue : 0, 0, 255, 255
Image Width : 200
Image Height : 300
Bits Per Sample : 8
Color Components : 3
Aperture : 2.0
Image Size : 200x300
Megapixels : 0.060
Scale Factor To 35 mm Equivalent : 1.0
Shutter Speed : 1/800
Create Date : 2013:09:18 12:23:59.42
Date/Time Original : 2013:09:18 12:23:59.42
Circle Of Confusion : 0.030 mm
Field Of View : 20.4 deg
Focal Length : 100.0 mm (35 mm equivalent: 100.0 mm)
Hyperfocal Distance : 166.41 m
Light Value : 10.6