Uber Exif Photo
By-line : KRUZHNOV_YURII
Copyright Notice : UKRAINE
Photometric Interpretation : RGB
Make : NIKON CORPORATION
Camera Model Name : NIKON D5500
Orientation : Horizontal (normal)
Samples Per Pixel : 3
Software : Adobe Photoshop CC 2019 (Macintosh)
Modify Date : 2020:12:26 18:28:39
Artist : KRUZHNOV_YURII
Copyright : UKRAINE
Exposure Time : 1/60
F Number : 9.0
Exposure Program : Aperture-priority AE
ISO : 100
Date/Time Original : 2020:11:27 15:18:40
Create Date : 2020:11:27 15:18:40
Shutter Speed Value : 1/60
Aperture Value : 9.0
Exposure Compensation : 0
Max Aperture Value : 2.0
Metering Mode : Multi-segment
Light Source : Unknown
Flash : Off, Did not fire
Focal Length : 35.0 mm
Color Space : sRGB
Exif Image Width : 5315
Exif Image Height : 2502
Sensing Method : One-chip color area
Scene Type : Directly photographed
Exposure Mode : Auto
White Balance : Auto
Digital Zoom Ratio : 1
Focal Length In 35mm Format : 52 mm
Scene Capture Type : Standard
Gain Control : None
Contrast : Normal
Saturation : High
Sharpness : Normal
Subject Distance Range : Unknown
Serial Number : 6121241
Lens Info : 35mm f/2
Lens Model : Zeiss Milvus 2/35 ZF.2
Profile Description : sRGB IEC61966-2.1
Approximate Focus Distance : 4294967295
Distortion Correction Already Applied : True
Image Number : 22701
Is Merged Panorama : True
Lateral Chromatic Aberration Correction Already Applied : True
Lens : Zeiss Milvus 2/35 ZF.2
Vignette Correction Already Applied : True
Format : image/jpeg
Creator Tool : Adobe Photoshop CC 2019 (Macintosh)
Photographic Sensitivity : 100
Date Created : 2020:11:27 15:18:40.093
Color Mode : RGB
ICC Profile Name : sRGB IEC61966-2.1
Preserved File Name : _KYA0226.NEF
Raw File Name : Version : 11.4.1
Process Version : 11.0
Incremental Temperature : 0
Incremental Tint : 0
Luminance Smoothing : 0
Color Noise Reduction : 0
Vignette Amount : 0
Shadow Tint : 0
Red Hue : 0
Red Saturation : 0
Green Hue : 0
Green Saturation : 0
Blue Hue : 0
Blue Saturation : 0
Vibrance : +10
Hue Adjustment Red : 0
Hue Adjustment Orange : 0
Hue Adjustment Yellow : 0
Hue Adjustment Green : 0
Hue Adjustment Aqua : 0
Hue Adjustment Blue : 0
Hue Adjustment Purple : 0
Hue Adjustment Magenta : 0
Saturation Adjustment Red : 0
Saturation Adjustment Orange : +19
Saturation Adjustment Yellow : +16
Saturation Adjustment Green : 0
Saturation Adjustment Aqua : 0
Saturation Adjustment Blue : +6
Saturation Adjustment Purple : 0
Saturation Adjustment Magenta : 0
Luminance Adjustment Red : 0
Luminance Adjustment Orange : +33
Luminance Adjustment Yellow : +17
Luminance Adjustment Green : +23
Luminance Adjustment Aqua : 0
Luminance Adjustment Blue : -2
Luminance Adjustment Purple : 0
Luminance Adjustment Magenta : 0
Split Toning Shadow Hue : 0
Split Toning Shadow Saturation : 0
Split Toning Highlight Hue : 0
Split Toning Highlight Saturation : 0
Split Toning Balance : 0
Parametric Shadows : 0
Parametric Darks : 0
Parametric Lights : 0
Parametric Highlights : 0
Parametric Shadow Split : 25
Parametric Midtone Split : 50
Parametric Highlight Split : 75
Sharpen Radius : +1.0
Sharpen Detail : 25
Sharpen Edge Masking : 0
Post Crop Vignette Amount : 0
Grain Amount : 0
Lens Profile Enable : 0
Lens Manual Distortion Amount : 0
Perspective Vertical : 0
Perspective Horizontal : 0
Perspective Rotate : 0.0
Perspective Scale : 100
Perspective Aspect : 0
Perspective Upright : Off
Perspective X : 0.00
Perspective Y : 0.00
Auto Lateral CA : 0
Exposure 2012 : 0.00
Contrast 2012 : +7
Highlights 2012 : -16
Shadows 2012 : +29
Whites 2012 : +21
Blacks 2012 : -6
Clarity 2012 : 0
Defringe Purple Amount : 0
Defringe Purple Hue Lo : 30
Defringe Purple Hue Hi : 70
Defringe Green Amount : 0
Defringe Green Hue Lo : 40
Defringe Green Hue Hi : 60
Dehaze : 0
Texture : 0
Tone Map Strength : 0
Convert To Grayscale : False
Override Look Vignette : False
Tone Curve Name : Linear
Tone Curve Name 2012 : Linear
Camera Profile : Embedded
Lens Profile Setup : LensDefaults
Has Settings : True
Has Crop : False
Already Applied : True
Creator : KRUZHNOV_YURII
Rights : UKRAINE
Tone Curve : 0, 0, 255, 255
Tone Curve Red : 0, 0, 255, 255
Tone Curve Green : 0, 0, 255, 255
Tone Curve Blue : 0, 0, 255, 255
Tone Curve PV2012 : 0, 0, 255, 255
Tone Curve PV2012 Red : 0, 0, 255, 255
Tone Curve PV2012 Green : 0, 0, 255, 255
Tone Curve PV2012 Blue : 0, 0, 255, 255
Image Width : 400
Image Height : 188
Bits Per Sample : 8
Color Components : 3
Aperture : 9.0
Image Size : 400x188
Megapixels : 0.075
Scale Factor To 35 mm Equivalent : 1.5
Shutter Speed : 1/60
Create Date : 2020:11:27 15:18:40.931
Date/Time Original : 2020:11:27 15:18:40.931
Modify Date : 2020:12:26 18:28:39+02:00
Circle Of Confusion : 0.020 mm
Depth Of Field : inf (6.73 m - inf)
Field Of View : 38.2 deg
Focal Length : 35.0 mm (35 mm equivalent: 52.0 mm)
Hyperfocal Distance : 6.73 m
Light Value : 12.2
Lens ID : Zeiss Milvus 35mm f/2