Uber Exif Photo
Copyright Notice : Jim Orsetti
By-line : Jim Orsetti
Make : NIKON CORPORATION
Camera Model Name : NIKON D810
Orientation : Horizontal (normal)
Software : Adobe Photoshop Lightroom 6.0 (Macintosh)
Modify Date : 2016:07:11 16:12:35
Artist : Jim Orsetti
Copyright : Jim Orsetti
Exposure Time : 1/500
F Number : 10.0
Exposure Program : Aperture-priority AE
ISO : 1400
Sensitivity Type : Recommended Exposure Index
Date/Time Original : 2016:07:09 17:49:51
Create Date : 2016:07:09 17:49:51
Shutter Speed Value : 1/500
Aperture Value : 10.0
Exposure Compensation : +2/3
Max Aperture Value : 3.5
Metering Mode : Multi-segment
Light Source : Unknown
Flash : Off, Did not fire
Focal Length : 18.0 mm
Color Space : sRGB
Exif Image Width : 1024
Exif Image Height : 683
Sensing Method : One-chip color area
Scene Type : Directly photographed
Custom Rendered : Normal
Exposure Mode : Auto
White Balance : Auto
Digital Zoom Ratio : 1
Focal Length In 35mm Format : 18 mm
Scene Capture Type : Standard
Gain Control : High gain up
Contrast : Normal
Saturation : Normal
Sharpness : Normal
Subject Distance Range : Unknown
Serial Number : 3026303
Lens Info : 18mm f/3.5
Lens Model : Zeiss Distagon T* 3.5/18 ZF.2
Sharpen Detail : 25
Blacks 2012 : -15
Luminance Adjustment Orange : 0
Hue Adjustment Yellow : 0
Saturation Adjustment Blue : 0
Parametric Highlight Split : 75
Lens Profile Enable : 0
Post Crop Vignette Midpoint : 50
Split Toning Shadow Saturation : 0
Convert To Grayscale : False
Contrast 2012 : 0
Highlights 2012 : 0
Post Crop Vignette Highlight Contrast : 0
Split Toning Highlight Hue : 0
Saturation Adjustment Aqua : 0
Perspective Scale : 100
Perspective Vertical : 0
Post Crop Vignette Feather : 50
Parametric Shadow Split : 25
Luminance Adjustment Green : 0
Perspective Rotate : 0.0
Split Toning Shadow Hue : 0
Luminance Adjustment Yellow : 0
Shadows 2012 : 0
Lens Profile Setup : LensDefaults
Whites 2012 : 0
Perspective Horizontal : 0
Camera Profile : Adobe Standard
Saturation Adjustment Yellow : 0
Parametric Midtone Split : 50
Parametric Highlights : 0
Defringe Green Amount : 0
Parametric Darks : +5
Sharpen Radius : +1.0
Vibrance : -25
Shadow Tint : +8
Has Crop : False
Luminance Smoothing : 0
Tone Curve Name 2012 : Linear
Split Toning Highlight Saturation : 0
Defringe Purple Hue Hi : 70
Saturation Adjustment Orange : 0
Sharpen Edge Masking : 0
Color Temperature : 12500
Hue Adjustment Green : 0
Vignette Amount : 0
Blue Saturation : -70
Post Crop Vignette Roundness : 0
Red Saturation : +3
Red Hue : +96
Parametric Lights : +35
Split Toning Balance : 0
Hue Adjustment Purple : 0
Exposure 2012 : -1.10
Tone Curve Name : Linear
Color Noise Reduction Smoothness : 50
Color Noise Reduction Detail : 50
Saturation Adjustment Green : 0
Post Crop Vignette Style : Highlight Priority
Hue Adjustment Blue : 0
Luminance Adjustment Purple : 0
Perspective Aspect : 0
Perspective Upright : Off
Parametric Shadows : 0
Post Crop Vignette Amount : -14
Blue Hue : +11
Clarity 2012 : +100
Grain Amount : 0
Auto Lateral CA : 0
Hue Adjustment Aqua : 0
Process Version : 6.7
Tint : +20
Already Applied : True
Auto White Version : 134348800
Luminance Adjustment Blue : 0
Luminance Adjustment Red : 0
Color Noise Reduction : 25
Green Hue : +11
Hue Adjustment Magenta : 0
Has Settings : True
Saturation Adjustment Red : 0
Hue Adjustment Red : 0
Hue Adjustment Orange : 0
Lens Manual Distortion Amount : 0
Green Saturation : +25
Defringe Purple Hue Lo : 30
Defringe Green Hue Hi : 60
Saturation Adjustment Purple : 0
Saturation Adjustment Magenta : 0
Luminance Adjustment Aqua : 0
Version : 9.0
Defringe Green Hue Lo : 40
Defringe Purple Amount : 0
Raw File Name : Sea Ranch FB 3B.jpg
Luminance Adjustment Magenta : 0
Creator Tool : Adobe Photoshop Lightroom 6.0 (Macintosh)
Format : image/jpeg
Image Number : 5559
Lens : Zeiss Distagon T* 3.5/18 ZF.2
Date Created : 2016:07:09 17:49:51.15
Tone Curve Blue : 0, 0, 255, 255
Tone Curve Green : 0, 0, 255, 255
Paint Correction Defringe : 0.000000
Paint Correction Highlights 2012 : 0.000000
Paint Correction Clarity 2012 : 0.000000
Paint Correction Temperature : 0.000000
Paint Correction Saturation : 0.000000
Paint Correction What : Correction
Paint Correction Tint : 0.000000
Paint Correction Brightness : 0.000000
Paint Correction Shadows 2012 : 0.000000
Paint Correction Sharpness : 0.000000
Paint Correction Toning Saturation : 0.000000
Paint Correction Amount : 1.000000
Paint Correction Toning Hue : 240.000000
Paint Correction Active : true
Paint Correction Contrast 2012 : 0.000000
Paint Correction Luminance Noise : 0.000000
Paint Correction Exposure 2012 : 0.522294
Paint Correction Moire : 0.000000
Paint Correction Mask What : Mask/Paint
Paint Correction Mask Radius : 0.013340
Paint Correction Mask Value : 0.000000
Paint Correction Mask Flow : 1.000000
Paint Correction Mask Center Weight : 0.000000
Tone Curve PV2012 Red : 0, 0, 255, 255
Tone Curve PV2012 : 0, 0, 255, 255
Tone Curve : 0, 0, 255, 255
Tone Curve Red : 0, 0, 255, 255
Tone Curve PV2012 Green : 0, 0, 255, 255
Tone Curve PV2012 Blue : 0, 0, 255, 255
Creator : Jim Orsetti
Rights : Jim Orsetti
Image Width : 300
Image Height : 200
Bits Per Sample : 8
Color Components : 3
Aperture : 10.0
Image Size : 300x200
Megapixels : 0.060
Scale Factor To 35 mm Equivalent : 1.0
Shutter Speed : 1/500
Create Date : 2016:07:09 17:49:51.15
Date/Time Original : 2016:07:09 17:49:51.15
Circle Of Confusion : 0.030 mm
Field Of View : 90.0 deg
Focal Length : 18.0 mm (35 mm equivalent: 18.0 mm)
Hyperfocal Distance : 1.08 m
Light Value : 11.8