Uber Exif Photo
Copyright Notice : Jim Orsetti
By-line : Jim Orsetti
Make : NIKON CORPORATION
Camera Model Name : NIKON D810
Orientation : Horizontal (normal)
Software : Adobe Photoshop Lightroom 6.0 (Macintosh)
Modify Date : 2016:07:11 16:04:17
Artist : Jim Orsetti
Copyright : Jim Orsetti
Exposure Time : 1/800
F Number : 8.0
Exposure Program : Aperture-priority AE
ISO : 400
Sensitivity Type : Recommended Exposure Index
Date/Time Original : 2016:07:09 17:03:10
Create Date : 2016:07:09 17:03:10
Shutter Speed Value : 1/800
Aperture Value : 8.0
Exposure Compensation : 0
Max Aperture Value : 3.5
Metering Mode : Multi-segment
Light Source : Unknown
Flash : Off, Did not fire
Focal Length : 18.0 mm
Color Space : sRGB
Exif Image Width : 1024
Exif Image Height : 683
Sensing Method : One-chip color area
Scene Type : Directly photographed
Custom Rendered : Normal
Exposure Mode : Auto
White Balance : Auto
Digital Zoom Ratio : 1
Focal Length In 35mm Format : 18 mm
Scene Capture Type : Standard
Gain Control : Low gain up
Contrast : Normal
Saturation : Normal
Sharpness : Normal
Subject Distance Range : Unknown
Serial Number : 3026303
Lens Info : 18mm f/3.5
Lens Model : Zeiss Distagon T* 3.5/18 ZF.2
Parametric Darks : +14
Perspective Scale : 100
Clarity 2012 : +44
Color Noise Reduction : 25
Perspective Upright : Off
Has Crop : False
Red Saturation : 0
Parametric Shadows : +45
Gray Mixer Magenta : -40
Gray Mixer Yellow : +36
Split Toning Shadow Saturation : 0
Lens Manual Distortion Amount : 0
Tone Curve Name : Linear
Shadows 2012 : -30
Blacks 2012 : -28
Tone Curve Name 2012 : Strong Contrast
Luminance Smoothing : 0
Convert To Grayscale : True
Highlights 2012 : -55
Parametric Midtone Split : 50
Perspective Aspect : 0
Shadow Tint : 0
Split Toning Highlight Saturation : 0
Split Toning Shadow Hue : 0
Has Settings : True
Lens Profile Setup : LensDefaults
Gray Mixer Red : +50
Post Crop Vignette Amount : 0
Split Toning Balance : 0
Lens Profile Enable : 0
Vignette Amount : 0
Perspective Rotate : 0.0
Process Version : 6.7
Gray Mixer Blue : 0
Parametric Highlights : -18
Green Saturation : 0
Raw File Name : Sea Ranch FB 2.jpg
Parametric Shadow Split : 25
Sharpen Detail : 25
Green Hue : 0
Perspective Vertical : 0
Blue Saturation : 0
Gray Mixer Orange : +38
Perspective Horizontal : 0
Blue Hue : 0
Parametric Highlight Split : 75
Auto Lateral CA : 0
Color Noise Reduction Smoothness : 50
Red Hue : 0
Tint : +3
Split Toning Highlight Hue : 0
Camera Profile : Adobe Standard
Parametric Lights : +14
Sharpen Radius : +1.0
Auto White Version : 134348800
Contrast 2012 : 0
Already Applied : True
Gray Mixer Aqua : +25
Gray Mixer Green : -5
Grain Amount : 0
Gray Mixer Purple : -30
Version : 9.0
Whites 2012 : -1
Sharpen Edge Masking : 0
Color Noise Reduction Detail : 50
Exposure 2012 : 0.00
Color Temperature : 5400
Image Number : 5551
Lens : Zeiss Distagon T* 3.5/18 ZF.2
Creator Tool : Adobe Photoshop Lightroom 6.0 (Macintosh)
Format : image/jpeg
Date Created : 2016:07:09 17:03:10.5
Tone Curve PV2012 Red : 0, 0, 255, 255
Tone Curve PV2012 Green : 0, 0, 255, 255
Tone Curve PV2012 : 0, 0, 32, 16, 64, 50, 128, 128, 192, 202, 255, 255
Tone Curve Green : 0, 0, 255, 255
Tone Curve Red : 0, 0, 255, 255
Tone Curve Blue : 0, 0, 255, 255
Tone Curve : 0, 0, 255, 255
Tone Curve PV2012 Blue : 0, 0, 255, 255
Creator : Jim Orsetti
Rights : Jim Orsetti
Image Width : 300
Image Height : 200
Bits Per Sample : 8
Color Components : 1
Aperture : 8.0
Image Size : 300x200
Megapixels : 0.060
Scale Factor To 35 mm Equivalent : 1.0
Shutter Speed : 1/800
Create Date : 2016:07:09 17:03:10.5
Date/Time Original : 2016:07:09 17:03:10.5
Circle Of Confusion : 0.030 mm
Field Of View : 90.0 deg
Focal Length : 18.0 mm (35 mm equivalent: 18.0 mm)
Hyperfocal Distance : 1.35 m
Light Value : 13.6