Uber Exif Photo
Photometric Interpretation : RGB
Make : SONY
Camera Model Name : DSC-RX100
Orientation : Horizontal (normal)
Samples Per Pixel : 3
Software : Adobe Photoshop CC 2015 (Windows)
Modify Date : 2016:04:26 16:43:46
Exposure Time : 1/30
F Number : 2.2
Exposure Program : Aperture-priority AE
ISO : 640
Sensitivity Type : Recommended Exposure Index
Recommended Exposure Index : 640
Date/Time Original : 2016:03:23 19:06:15
Create Date : 2016:03:23 19:06:15
Shutter Speed Value : 1/30
Aperture Value : 2.2
Brightness Value : 1.05234375
Exposure Compensation : 0
Max Aperture Value : 1.8
Metering Mode : Multi-segment
Light Source : Unknown
Flash : On, Return not detected
Focal Length : 10.4 mm
Color Space : sRGB
Exif Image Width : 443
Exif Image Height : 665
Scene Type : Directly photographed
Custom Rendered : Normal
Exposure Mode : Auto
White Balance : Auto
Digital Zoom Ratio : 1
Focal Length In 35mm Format : 28 mm
Scene Capture Type : Standard
Contrast : Normal
Saturation : Normal
Sharpness : Normal
Lens Info : 10.4-37.1mm f/1.8-4.9
Lens Model : 28-100mm F1.8-4.9
Profile Description : sRGB IEC61966-2.1
Creator Tool : Adobe Photoshop Lightroom 5.6 (Windows)
Lens : 28-100mm F1.8-4.9
Lens Distort Info : 34683/32768 -219328315/1073741824 52441832/1073741824 -7678158/1073741824
Date Created : 2016:03:23 19:06:15
Color Mode : RGB
ICC Profile Name : sRGB IEC61966-2.1
Format : image/jpeg
Version : 8.6
Process Version : 6.7
Auto White Version : 134348800
Color Temperature : 6150
Tint : +8
Luminance Smoothing : 14
Color Noise Reduction : 25
Vignette Amount : 0
Shadow Tint : +2
Red Hue : +17
Red Saturation : +5
Green Hue : +7
Green Saturation : -12
Blue Hue : -10
Blue Saturation : -19
Vibrance : +42
Hue Adjustment Red : -16
Hue Adjustment Orange : +2
Hue Adjustment Yellow : +4
Hue Adjustment Green : +13
Hue Adjustment Aqua : -11
Hue Adjustment Blue : -7
Hue Adjustment Purple : 0
Hue Adjustment Magenta : 0
Saturation Adjustment Red : +16
Saturation Adjustment Orange : +2
Saturation Adjustment Yellow : -45
Saturation Adjustment Green : +14
Saturation Adjustment Aqua : +7
Saturation Adjustment Blue : -20
Saturation Adjustment Purple : 0
Saturation Adjustment Magenta : 0
Luminance Adjustment Red : -4
Luminance Adjustment Orange : +13
Luminance Adjustment Yellow : +14
Luminance Adjustment Green : +20
Luminance Adjustment Aqua : -7
Luminance Adjustment Blue : +11
Luminance Adjustment Purple : 0
Luminance Adjustment Magenta : 0
Split Toning Shadow Hue : 231
Split Toning Shadow Saturation : 0
Split Toning Highlight Hue : 47
Split Toning Highlight Saturation : 0
Split Toning Balance : 0
Parametric Shadows : -15
Parametric Darks : -4
Parametric Lights : +34
Parametric Highlights : -22
Parametric Shadow Split : 25
Parametric Midtone Split : 50
Parametric Highlight Split : 75
Sharpen Radius : +1.0
Sharpen Detail : 25
Sharpen Edge Masking : 17
Post Crop Vignette Amount : 0
Grain Amount : 0
Luminance Noise Reduction Detail : 50
Color Noise Reduction Detail : 50
Luminance Noise Reduction Contrast : 0
Color Noise Reduction Smoothness : 50
Lens Profile Enable : 0
Lens Manual Distortion Amount : 0
Perspective Vertical : 0
Perspective Horizontal : 0
Perspective Rotate : 0.0
Perspective Scale : 100
Perspective Aspect : 0
Perspective Upright : Off
Auto Lateral CA : 1
Exposure 2012 : +0.10
Contrast 2012 : +7
Highlights 2012 : -40
Shadows 2012 : -56
Whites 2012 : +18
Blacks 2012 : +100
Clarity 2012 : +21
Defringe Purple Amount : 0
Defringe Purple Hue Lo : 30
Defringe Purple Hue Hi : 70
Defringe Green Amount : 0
Defringe Green Hue Lo : 40
Defringe Green Hue Hi : 60
Convert To Grayscale : False
Tone Curve Name : Linear
Tone Curve Name 2012 : Custom
Camera Profile : Adobe Standard
Lens Profile Setup : LensDefaults
Has Settings : True
Has Crop : False
Already Applied : True
Tone Curve : 0, 0, 255, 255
Tone Curve Red : 0, 0, 255, 255
Tone Curve Green : 0, 0, 255, 255
Tone Curve Blue : 0, 0, 255, 255
Tone Curve PV2012 : 5, 2, 22, 16, 72, 63, 255, 255
Tone Curve PV2012 Red : 3, 0, 34, 31, 97, 94, 189, 185, 225, 219, 255, 255
Tone Curve PV2012 Green : 4, 0, 255, 255
Tone Curve PV2012 Blue : 0, 0, 18, 23, 45, 51, 79, 82, 133, 132, 205, 200, 255, 255
Image Width : 300
Image Height : 450
Bits Per Sample : 8
Color Components : 3
Aperture : 2.2
Image Size : 300x450
Megapixels : 0.135
Scale Factor To 35 mm Equivalent : 2.7
Shutter Speed : 1/30
Circle Of Confusion : 0.011 mm
Field Of View : 65.5 deg
Focal Length : 10.4 mm (35 mm equivalent: 28.0 mm)
Hyperfocal Distance : 4.41 m
Light Value : 4.5
Lens ID : 28-100mm F1.8-4.9