Uber Exif Photo
Object Name : Consumerism in Iran
Keywords : Baazar, Iran, Isfahan, Islam, Islamic Republic, Tehran, Yazd, capitalism, censorship, consumerism, culture, eastern, hijab, malls, middle east, muslim, religion, shopping, tradition, travel, travel photography, western
By-line : Thomas Cristofoletti
Country-Primary Location Code : 98
Country-Primary Location Name : Iran
Copyright Notice : © Thomas Cristofoletti / Ruom
Caption-Abstract : June 29, 2014 - Shiraz, Iran. A woman shops at Hyperstar, Iran’s first international-style hypermarket, built inside the Persian Gulf Complex, a huge mall built a few kilometers outside Shiraz. Hyperstar plans to open 15 branches by 2015 in 5 different cities. © Thomas Cristofoletti / Ruom
Copyright Flag : True
URL : © Thomas Cristofoletti / Ruom 2014
Image Description : June 29, 2014 - Shiraz, Iran. A woman shops at Hyperstar, Iran’s first international-style hypermarket, built inside the Persian Gulf Complex, a huge mall built a few kilometers outside Shiraz. Hyperstar plans to open 15 branches by 2015 in 5 different cities. © Thomas Cristofoletti / Ruom
Make : SONY
Camera Model Name : ILCE-7
Software : Adobe Photoshop Lightroom 5.6 (Macintosh)
Modify Date : 2014:12:01 09:07:25
Artist : Thomas Cristofoletti
Copyright : © Thomas Cristofoletti / Ruom
Exposure Time : 1/160
F Number : 4.0
Exposure Program : Shutter speed priority AE
ISO : 1600
Sensitivity Type : Recommended Exposure Index
Recommended Exposure Index : 1600
Date/Time Original : 2014:06:29 12:35:13
Create Date : 2014:06:29 12:35:13
Shutter Speed Value : 1/160
Aperture Value : 4.0
Brightness Value : 3.55234375
Exposure Compensation : 0
Max Aperture Value : 2.8
Metering Mode : Center-weighted average
Light Source : Unknown
Flash : Off, Did not fire
Focal Length : 35.0 mm
Color Space : sRGB
Scene Type : Directly photographed
Custom Rendered : Normal
Exposure Mode : Auto
White Balance : Auto
Digital Zoom Ratio : 1
Focal Length In 35mm Format : 35 mm
Scene Capture Type : Standard
Contrast : Normal
Saturation : Normal
Sharpness : Normal
Lens Info : 35mm f/2.8
Lens Model : FE 35mm F2.8 ZA
Profile Description : sRGB IEC61966-2.1
Creator Tool : Adobe Photoshop Lightroom 5.6 (Macintosh)
Label : Blue
Lens : FE 35mm F2.8 ZA
Lens Distort Info : 1070017172/1073741824 19928792/1073741824 -26906874/1073741824 87029/1073741824
Date Created : 2014:06:29 12:35:13
Country : Iran
Format : image/jpeg
Country Code : 98
Marked : True
Web Statement : © Thomas Cristofoletti / Ruom 2014
Version : 8.6
Process Version : 6.7
Auto White Version : 134348800
Color Temperature : 4200
Tint : +50
Luminance Smoothing : 0
Color Noise Reduction : 25
Vignette Amount : 0
Shadow Tint : 0
Red Hue : 0
Red Saturation : 0
Green Hue : 0
Green Saturation : 0
Blue Hue : 0
Blue Saturation : 0
Vibrance : +35
Hue Adjustment Red : 0
Hue Adjustment Orange : 0
Hue Adjustment Yellow : 0
Hue Adjustment Green : 0
Hue Adjustment Aqua : 0
Hue Adjustment Blue : 0
Hue Adjustment Purple : 0
Hue Adjustment Magenta : 0
Saturation Adjustment Red : 0
Saturation Adjustment Orange : 0
Saturation Adjustment Yellow : 0
Saturation Adjustment Green : 0
Saturation Adjustment Aqua : 0
Saturation Adjustment Blue : 0
Saturation Adjustment Purple : 0
Saturation Adjustment Magenta : 0
Luminance Adjustment Red : 0
Luminance Adjustment Orange : 0
Luminance Adjustment Yellow : -15
Luminance Adjustment Green : 0
Luminance Adjustment Aqua : 0
Luminance Adjustment Blue : 0
Luminance Adjustment Purple : 0
Luminance Adjustment Magenta : 0
Split Toning Shadow Hue : 59
Split Toning Shadow Saturation : 6
Split Toning Highlight Hue : 57
Split Toning Highlight Saturation : 19
Split Toning Balance : 0
Parametric Shadows : 0
Parametric Darks : -2
Parametric Lights : 0
Parametric Highlights : 0
Parametric Shadow Split : 25
Parametric Midtone Split : 50
Parametric Highlight Split : 75
Sharpen Radius : +1.0
Sharpen Detail : 25
Sharpen Edge Masking : 0
Post Crop Vignette Amount : 0
Grain Amount : 0
Color Noise Reduction Detail : 50
Color Noise Reduction Smoothness : 50
Lens Profile Enable : 0
Lens Manual Distortion Amount : 0
Perspective Vertical : 0
Perspective Horizontal : 0
Perspective Rotate : 0.0
Perspective Scale : 100
Perspective Aspect : 0
Perspective Upright : Off
Auto Lateral CA : 1
Exposure 2012 : +0.30
Contrast 2012 : 0
Highlights 2012 : -95
Shadows 2012 : +3
Whites 2012 : +8
Blacks 2012 : -7
Clarity 2012 : +4
Defringe Purple Amount : 0
Defringe Purple Hue Lo : 30
Defringe Purple Hue Hi : 70
Defringe Green Amount : 0
Defringe Green Hue Lo : 40
Defringe Green Hue Hi : 60
Convert To Grayscale : False
Tone Curve Name : Linear
Tone Curve Name 2012 : Linear
Camera Profile : Adobe Standard
Lens Profile Setup : LensDefaults
Has Settings : True
Crop Top : 0.078499
Crop Left : 0.030237
Crop Bottom : 0.936599
Crop Right : 0.833685
Crop Angle : 1.76134
Crop Constrain To Warp : 0
Has Crop : True
Already Applied : True
Title : Consumerism in Iran
Creator : Thomas Cristofoletti
Rights : © Thomas Cristofoletti / Ruom
Subject : Baazar, Iran, Isfahan, Islam, Islamic Republic, Tehran, Yazd, capitalism, censorship, consumerism, culture, eastern, hijab, malls, middle east, muslim, religion, shopping, tradition, travel, travel photography, western
Description : June 29, 2014 - Shiraz, Iran. A woman shops at Hyperstar, Iran’s first international-style hypermarket, built inside the Persian Gulf Complex, a huge mall built a few kilometers outside Shiraz. Hyperstar plans to open 15 branches by 2015 in 5 different cities. © Thomas Cristofoletti / Ruom
Creator City : Phnom Penh
Creator Work Email : thomas@ruom.net
Creator Country : Cambodia
Creator Work URL : www.thomascristofoletti.com
Tone Curve : 0, 0, 255, 255
Tone Curve Red : 0, 0, 255, 255
Tone Curve Green : 0, 0, 255, 255
Tone Curve Blue : 0, 0, 255, 255
Tone Curve PV2012 : 0, 0, 255, 255
Tone Curve PV2012 Red : 0, 0, 255, 255
Tone Curve PV2012 Green : 0, 0, 255, 255
Tone Curve PV2012 Blue : 0, 0, 255, 255
Image Width : 300
Image Height : 200
Bits Per Sample : 8
Color Components : 3
Aperture : 4.0
Image Size : 300x200
Megapixels : 0.060
Scale Factor To 35 mm Equivalent : 1.0
Shutter Speed : 1/160
Circle Of Confusion : 0.030 mm
Field Of View : 54.4 deg
Focal Length : 35.0 mm (35 mm equivalent: 35.0 mm)
Hyperfocal Distance : 10.19 m
Light Value : 7.3
Lens ID : FE 35mm F2.8 ZA