Uber Exif Photo
Keywords : 2010, Cold, Hockey, January, Russia, Snow, Vladivostok, Winter
By-line : Matt MacDonald
Sub-location : Vladivostok Russia
Copyright Notice : Matt MacDonald Photography
Make : NIKON CORPORATION
Camera Model Name : NIKON D700
Software : Ver.1.01
Modify Date : 2010:01:17 16:26:03
Artist : Matt MacDonald
Copyright : Matt MacDonald Photography
Exposure Time : 3
F Number : 4.0
Exposure Program : Manual
ISO : 2500
Date/Time Original : 2010:01:05 17:59:24
Create Date : 2010:01:05 17:59:24
Shutter Speed Value : 3
Aperture Value : 4.0
Exposure Compensation : 0
Max Aperture Value : 1.0
Metering Mode : Multi-segment
Light Source : Unknown
Focal Length : 35.0 mm
Sensing Method : One-chip color area
Scene Type : Directly photographed
CFA Pattern : [Red,Green][Green,Blue]
Custom Rendered : Normal
Exposure Mode : Manual
White Balance : Manual
Digital Zoom Ratio : 1
Focal Length In 35mm Format : 35 mm
Scene Capture Type : Standard
Gain Control : High gain up
Contrast : Normal
Saturation : Normal
Sharpness : Normal
Subject Distance Range : Unknown
Profile Description : Adobe RGB (1998)
Date/Time Digitized : 2010:01:05 17:59:24.67+09:00
Exif Image Width : 1000
Exif Image Height : 786
Creator Tool : Adobe Photoshop Lightroom
Serial Number : 2024489
Lens Info : 0mm f/0
Lens : 0.0 mm f/0.0
Image Number : 28985
Location : Vladivostok Russia
Version : 5.2
Incremental Temperature : 0
Incremental Tint : 0
Exposure : 0.00
Shadows : 23
Brightness : +4
Luminance Smoothing : 62
Color Noise Reduction : 17
Chromatic Aberration R : 0
Chromatic Aberration B : 0
Vignette Amount : 0
Shadow Tint : 0
Red Hue : 0
Red Saturation : 0
Green Hue : 0
Green Saturation : 0
Blue Hue : 0
Blue Saturation : 0
Fill Light : 32
Vibrance : -14
Highlight Recovery : 43
Clarity : +36
Defringe : 0
Hue Adjustment Red : +5
Hue Adjustment Orange : +5
Hue Adjustment Yellow : +5
Hue Adjustment Green : +12
Hue Adjustment Aqua : +5
Hue Adjustment Blue : +5
Hue Adjustment Purple : +5
Hue Adjustment Magenta : +2
Saturation Adjustment Red : 0
Saturation Adjustment Orange : 0
Saturation Adjustment Yellow : 0
Saturation Adjustment Green : 0
Saturation Adjustment Aqua : 0
Saturation Adjustment Blue : 0
Saturation Adjustment Purple : 0
Saturation Adjustment Magenta : 0
Luminance Adjustment Red : 0
Luminance Adjustment Orange : 0
Luminance Adjustment Yellow : 0
Luminance Adjustment Green : 0
Luminance Adjustment Aqua : 0
Luminance Adjustment Blue : 0
Luminance Adjustment Purple : 0
Luminance Adjustment Magenta : 0
Split Toning Shadow Hue : 0
Split Toning Shadow Saturation : 0
Split Toning Highlight Hue : 0
Split Toning Highlight Saturation : 0
Split Toning Balance : 0
Parametric Shadows : +26
Parametric Darks : +3
Parametric Lights : -7
Parametric Highlights : +12
Parametric Shadow Split : 25
Parametric Midtone Split : 50
Parametric Highlight Split : 75
Sharpen Radius : +0.6
Sharpen Detail : 60
Sharpen Edge Masking : 100
Post Crop Vignette Amount : 0
Convert To Grayscale : False
Tone Curve Name : Linear
Camera Profile : Embedded
Has Settings : True
Crop Top : 0.008969
Crop Left : 0.086567
Crop Bottom : 1
Crop Right : 0.925373
Crop Angle : 0
Crop Width : 1000
Crop Height : 786
Crop Unit : pixels
Has Crop : True
Already Applied : True
Flash Fired : False
Flash Return : No return detection
Flash Mode : Unknown
Flash Function : False
Flash Red Eye Mode : False
Creator Work Email : macmatt78@hotmail.com
Creator : Matt MacDonald
Rights : Matt MacDonald Photography
Subject : 2010, Cold, Hockey, January, Russia, Snow, Vladivostok, Winter
Tone Curve : 0, 0, 255, 255
Image Width : 300
Image Height : 236
Bits Per Sample : 8
Color Components : 3
Aperture : 4.0
Image Size : 300x236
Megapixels : 0.071
Scale Factor To 35 mm Equivalent : 1.0
Shutter Speed : 3
Create Date : 2010:01:05 17:59:24.67
Date/Time Original : 2010:01:05 17:59:24.67
Flash : No Flash
Circle Of Confusion : 0.030 mm
Field Of View : 54.4 deg
Focal Length : 35.0 mm (35 mm equivalent: 35.0 mm)
Hyperfocal Distance : 10.19 m
Light Value : -2.2
Lens ID : 0.0mm f/0.0