Uber Exif Photo
By-line : Matt MacDonald
Keywords : 2010, Beach, Jeju, July, clouds, storm
Copyright Notice : Matt MacDonald Photography
Make : NIKON CORPORATION
Camera Model Name : NIKON D700
Orientation : Horizontal (normal)
Software : Adobe Photoshop CS4 Windows
Modify Date : 2010:07:28 21:09:59
Artist : Matt MacDonald
Copyright : Matt MacDonald Photography
Exposure Time : 1/60
F Number : 11.0
Exposure Program : Manual
ISO : 100
Date/Time Original : 2010:07:24 19:11:07
Create Date : 2010:07:24 19:43:57
Shutter Speed Value : 1/60
Aperture Value : 11.0
Exposure Compensation : 0
Max Aperture Value : 1.0
Metering Mode : Multi-segment
Light Source : Cloudy
Focal Length : 35.0 mm
Color Space : Uncalibrated
Exif Image Width : 2100
Exif Image Height : 1397
Sensing Method : One-chip color area
Scene Type : Directly photographed
CFA Pattern : [Red,Green][Green,Blue]
Custom Rendered : Custom
Exposure Mode : Manual
White Balance : Manual
Digital Zoom Ratio : 1
Focal Length In 35mm Format : 35 mm
Scene Capture Type : Standard
Gain Control : None
Contrast : Normal
Saturation : Normal
Sharpness : Normal
Subject Distance Range : Unknown
Profile Description : Adobe RGB (1998)
Date/Time Digitized : 2010:07:24 19:43:57.84+09:00
Creator Tool : Adobe Photoshop Lightroom
Serial Number : 2024489
Lens Info : 0mm f/0
Lens : 0.0 mm f/0.0
Image Number : 31450
Version : 5.2
Incremental Temperature : 0
Incremental Tint : 0
Exposure : +0.29
Shadows : 17
Brightness : +64
Luminance Smoothing : 30
Color Noise Reduction : 0
Chromatic Aberration R : 0
Chromatic Aberration B : 0
Vignette Amount : 0
Shadow Tint : 0
Red Hue : 0
Red Saturation : 0
Green Hue : 0
Green Saturation : 0
Blue Hue : 0
Blue Saturation : 0
Fill Light : 10
Highlight Recovery : 30
Clarity : +81
Defringe : 0
Gray Mixer Red : +24
Gray Mixer Orange : 0
Gray Mixer Yellow : 0
Gray Mixer Green : +37
Gray Mixer Aqua : 0
Gray Mixer Blue : +29
Gray Mixer Purple : 0
Gray Mixer Magenta : 0
Split Toning Shadow Hue : 0
Split Toning Shadow Saturation : 0
Split Toning Highlight Hue : 0
Split Toning Highlight Saturation : 0
Split Toning Balance : 0
Parametric Shadows : 0
Parametric Darks : 0
Parametric Lights : 0
Parametric Highlights : 0
Parametric Shadow Split : 25
Parametric Midtone Split : 50
Parametric Highlight Split : 75
Sharpen Radius : +0.8
Sharpen Detail : 39
Sharpen Edge Masking : 100
Post Crop Vignette Amount : 0
Convert To Grayscale : True
Tone Curve Name : Strong Contrast
Camera Profile : Embedded
Has Settings : True
Has Crop : False
Already Applied : True
Color Mode : RGB
ICC Profile Name : Adobe RGB (1998)
Format : image/jpeg
Flash Fired : False
Flash Return : No return detection
Flash Mode : Unknown
Flash Function : False
Flash Red Eye Mode : False
Tone Curve : 0, 0, 32, 16, 64, 50, 128, 128, 192, 202, 255, 255
Paint Correction What : Correction
Paint Correction Amount : 1.000000
Paint Correction Active : true
Paint Correction Exposure : 0.400000
Paint Correction Saturation : 0.000000
Paint Correction Contrast : 0.000000
Paint Correction Clarity : 0.000000
Paint Correction Sharpness : 0.000000
Paint Correction Brightness : 0.000000
Paint Correction Toning Hue : 0.000000
Paint Correction Toning Saturation : 0.000000
Paint Correction Mask What : Mask/Paint
Paint Correction Mask Value : 1.000000
Paint Correction Mask Radius : 0.091095
Paint Correction Mask Flow : 0.505000
Paint Correction Mask Center Weight : 0.000000
Creator Work Email : macmatt78@hotmail.com
Creator Work URL : www.flickr.com/photo/matt_macdonald_shots/
Creator : Matt MacDonald
Rights : Matt MacDonald Photography
Subject : 2010, Beach, Jeju, July, clouds, storm
Image Width : 300
Image Height : 200
Bits Per Sample : 8
Color Components : 3
Aperture : 11.0
Image Size : 300x200
Megapixels : 0.060
Scale Factor To 35 mm Equivalent : 1.0
Shutter Speed : 1/60
Create Date : 2010:07:24 19:43:57.84
Date/Time Original : 2010:07:24 19:11:07.16
Flash : No Flash
Circle Of Confusion : 0.030 mm
Field Of View : 54.4 deg
Focal Length : 35.0 mm (35 mm equivalent: 35.0 mm)
Hyperfocal Distance : 3.71 m
Light Value : 12.8
Lens ID : 0.0mm f/0.0