Uber Exif Photo
Software : Adobe Photoshop Lightroom 5.7 (Windows)
Modify Date : 2014:12:26 22:41:22
Exposure Time : 1/125
F Number : 8.0
Sensitivity Type : Recommended Exposure Index
Recommended Exposure Index : 800
Shutter Speed Value : 1/125
Aperture Value : 8.0
Brightness Value : 3.98203125
Exposure Compensation : -0.3
Max Aperture Value : 4.0
Focal Length : 70.0 mm
Scene Type : Directly photographed
Custom Rendered : Normal
Exposure Mode : Auto
Digital Zoom Ratio : 1
Scene Capture Type : Standard
Lens Info : 16-70mm f/4
Lens Model : E 16-70mm F4 ZA OSS
Profile Description : sRGB IEC61966-2.1
Creator Tool : Adobe Photoshop Lightroom 5.7 (Windows)
Lens : E 16-70mm F4 ZA OSS
Lens Distort Info : 1057605383/1073741824 16356257/1073741824 702242/1073741824 -943233/1073741824
Date Created : 2014:05:25 03:53:25
Format : image/jpeg
Version : 8.7
Process Version : 6.7
White Balance : As Shot
Auto White Version : 134348800
Color Temperature : 4300
Tint : +11
Sharpness : 40
Luminance Smoothing : 0
Color Noise Reduction : 25
Vignette Amount : 0
Shadow Tint : 0
Red Hue : 0
Red Saturation : 0
Green Hue : 0
Green Saturation : 0
Blue Hue : 0
Blue Saturation : 0
Gray Mixer Red : -10
Gray Mixer Orange : -19
Gray Mixer Yellow : -23
Gray Mixer Green : -27
Gray Mixer Aqua : -18
Gray Mixer Blue : +10
Gray Mixer Purple : +16
Gray Mixer Magenta : +4
Split Toning Shadow Hue : 0
Split Toning Shadow Saturation : 0
Split Toning Highlight Hue : 0
Split Toning Highlight Saturation : 0
Split Toning Balance : 0
Parametric Shadows : 0
Parametric Darks : 0
Parametric Lights : 0
Parametric Highlights : 0
Parametric Shadow Split : 25
Parametric Midtone Split : 50
Parametric Highlight Split : 75
Sharpen Radius : +0.8
Sharpen Detail : 35
Sharpen Edge Masking : 0
Post Crop Vignette Amount : 0
Grain Amount : 0
Color Noise Reduction Detail : 50
Color Noise Reduction Smoothness : 50
Lens Profile Enable : 0
Lens Manual Distortion Amount : 0
Perspective Vertical : 0
Perspective Horizontal : 0
Perspective Rotate : 0.0
Perspective Scale : 100
Perspective Aspect : 0
Perspective Upright : Off
Auto Lateral CA : 0
Exposure 2012 : +1.37
Contrast 2012 : +40
Highlights 2012 : -58
Shadows 2012 : -22
Whites 2012 : 0
Blacks 2012 : -12
Clarity 2012 : +8
Convert To Grayscale : True
Tone Curve Name : Linear
Tone Curve Name 2012 : Linear
Camera Profile : Adobe Standard
Lens Profile Setup : LensDefaults
Has Settings : True
Crop Top : 0
Crop Left : 0.145594
Crop Bottom : 0.91092
Crop Right : 0.927203
Crop Angle : 0
Crop Constrain To Warp : 0
Has Crop : True
Already Applied : True
Tone Curve : 0, 0, 255, 255
Tone Curve Red : 0, 0, 255, 255
Tone Curve Green : 0, 0, 255, 255
Tone Curve Blue : 0, 0, 255, 255
Tone Curve PV2012 : 0, 0, 255, 255
Tone Curve PV2012 Red : 0, 0, 255, 255
Tone Curve PV2012 Green : 0, 0, 255, 255
Tone Curve PV2012 Blue : 0, 0, 255, 255
Circ Grad Based Corr What : Correction
Circ Grad Based Corr Amount : 1.000000
Circ Grad Based Corr Active : true
Circ Grad Based Corr Saturation : 0.000000
Circ Grad Based Corr Sharpness : 0.195400
Circ Grad Based Corr Brightness : 0.000000
Circ Grad Based Corr Toning Hue : 13.000000
Circ Grad Based Corr Toning Saturation : 0.050000
Circ Grad Based Corr Exposure 2012 : 0.272750
Circ Grad Based Corr Contrast 2012 : 0.080460
Circ Grad Based Corr Highlights 2012 : -0.363640
Circ Grad Based Corr Shadows 2012 : 0.000000
Circ Grad Based Corr Clarity 2012 : 0.000000
Circ Grad Based Corr Luminance Noise : 0.011490
Circ Grad Based Corr Moire : 0.000000
Circ Grad Based Corr Defringe : 0.000000
Circ Grad Based Corr Temperature : 0.000000
Circ Grad Based Corr Tint : 0.000000
Circ Grad Based Corr Mask What : Mask/CircularGradient
Circ Grad Based Corr Mask Value : 1.000000
Circ Grad Based Corr Mask Top : 0.407566
Circ Grad Based Corr Mask Left : 0.396264
Circ Grad Based Corr Mask Bottom : 0.540002
Circ Grad Based Corr Mask Right : 0.418323
Circ Grad Based Corr Mask Angle : 18.438700
Circ Grad Based Corr Mask Midpoint : +50
Circ Grad Based Corr Mask Roundness : 0
Circ Grad Based Corr Mask Feather : +50
Circ Grad Based Corr Mask Flipped : true
Circ Grad Based Corr Mask Version : +2
Image Width : 300
Image Height : 233
Bits Per Sample : 8
Color Components : 3
Aperture : 8.0
Image Size : 300x233
Megapixels : 0.070
Scale Factor To 35 mm Equivalent : 29.1
Shutter Speed : 1/125
Circle Of Confusion : 0.001 mm
Field Of View : 1.0 deg
Focal Length : 70.0 mm (35 mm equivalent: 2035.7 mm)
Hyperfocal Distance : 592.84 m
Lens ID : E 16-70mm F4 ZA OSS