Uber Exif Photo
Object Name : Skyscrapers of Hong Kong, IFC Tower
Keywords : 50mm, A7R, C Sonnar T* 1.5/50 ZM, Hong Kong, Sonnar, Sony, Zeiss
Caption-Abstract : Zeiss C Sonnar T* 1,5/50 ZM @ f/8.0
Image Description : Zeiss C Sonnar T* 1,5/50 ZM @ f/8.0
Make : SONY
Camera Model Name : ILCE-7R
Software : Adobe Photoshop Lightroom 5.3 (Macintosh)
Modify Date : 2014:02:10 19:43:37
Exposure Time : 1/250
Exposure Program : Aperture-priority AE
ISO : 100
Sensitivity Type : Recommended Exposure Index
Recommended Exposure Index : 100
Date/Time Original : 2013:11:23 16:53:47
Create Date : 2013:11:23 16:53:47
Shutter Speed Value : 1/250
Brightness Value : 2.79453125
Exposure Compensation : 0
Max Aperture Value : 1.0
Metering Mode : Multi-segment
Light Source : Unknown
Flash : Off, Did not fire
Scene Type : Directly photographed
Custom Rendered : Normal
Exposure Mode : Auto
White Balance : Auto
Digital Zoom Ratio : 1
Scene Capture Type : Standard
Contrast : Normal
Saturation : Normal
Sharpness : Normal
Lens Model : ----
Profile Description : sRGB IEC61966-2.1
Creator Tool : Adobe Photoshop Lightroom 5.3 (Macintosh)
Rating : 2
Lens : ----
Date Created : 2013:11:23 16:53:47
Format : image/jpeg
Version : 8.3
Process Version : 6.7
Auto White Version : 134348800
Color Temperature : 6250
Tint : +20
Luminance Smoothing : 0
Color Noise Reduction : 25
Vignette Amount : +43
Vignette Midpoint : 33
Shadow Tint : -5
Red Hue : +10
Red Saturation : +10
Green Hue : +10
Green Saturation : -10
Blue Hue : -10
Blue Saturation : +30
Vibrance : +11
Hue Adjustment Red : +12
Hue Adjustment Orange : -10
Hue Adjustment Yellow : -15
Hue Adjustment Green : +18
Hue Adjustment Aqua : +10
Hue Adjustment Blue : +20
Hue Adjustment Purple : +30
Hue Adjustment Magenta : +15
Saturation Adjustment Red : -10
Saturation Adjustment Orange : 0
Saturation Adjustment Yellow : 0
Saturation Adjustment Green : -10
Saturation Adjustment Aqua : 0
Saturation Adjustment Blue : 0
Saturation Adjustment Purple : 0
Saturation Adjustment Magenta : -15
Luminance Adjustment Red : -20
Luminance Adjustment Orange : -15
Luminance Adjustment Yellow : 0
Luminance Adjustment Green : -25
Luminance Adjustment Aqua : -15
Luminance Adjustment Blue : -25
Luminance Adjustment Purple : -5
Luminance Adjustment Magenta : -15
Split Toning Shadow Hue : 0
Split Toning Shadow Saturation : 0
Split Toning Highlight Hue : 275
Split Toning Highlight Saturation : 0
Split Toning Balance : 0
Parametric Shadows : 0
Parametric Darks : 0
Parametric Lights : 0
Parametric Highlights : 0
Parametric Shadow Split : 14
Parametric Midtone Split : 60
Parametric Highlight Split : 75
Sharpen Radius : +0.9
Sharpen Detail : 15
Sharpen Edge Masking : 50
Post Crop Vignette Amount : 0
Grain Amount : 0
Color Noise Reduction Detail : 50
Color Noise Reduction Smoothness : 50
Lens Profile Enable : 1
Lens Manual Distortion Amount : 0
Perspective Vertical : 0
Perspective Horizontal : 0
Perspective Rotate : +0.3
Perspective Scale : 100
Perspective Aspect : 0
Perspective Upright : Auto
Auto Lateral CA : 1
Exposure 2012 : 0.00
Contrast 2012 : 0
Highlights 2012 : -25
Shadows 2012 : +15
Whites 2012 : 0
Blacks 2012 : +15
Clarity 2012 : 0
Defringe Purple Amount : 0
Defringe Purple Hue Lo : 30
Defringe Purple Hue Hi : 70
Defringe Green Amount : 0
Defringe Green Hue Lo : 40
Defringe Green Hue Hi : 60
Convert To Grayscale : False
Tone Curve Name 2012 : Custom
Camera Profile : Adobe Standard
Lens Profile Setup : LensDefaults
Has Settings : True
Crop Top : 0.003762
Crop Left : 0.003753
Crop Bottom : 0.996247
Crop Right : 0.996238
Crop Angle : 0
Crop Constrain To Warp : 1
Has Crop : True
Already Applied : True
Title : Skyscrapers of Hong Kong, IFC Tower
Subject : 50mm, A7R, C Sonnar T* 1.5/50 ZM, Hong Kong, Sonnar, Sony, Zeiss
Description : Zeiss C Sonnar T* 1,5/50 ZM @ f/8.0
Tone Curve PV2012 : 0, 0, 255, 255
Tone Curve PV2012 Red : 0, 0, 50, 21, 113, 123, 178, 204, 255, 255
Tone Curve PV2012 Green : 0, 0, 49, 22, 113, 122, 174, 202, 255, 255
Tone Curve PV2012 Blue : 0, 0, 50, 22, 112, 123, 172, 207, 255, 255
Image Width : 200
Image Height : 300
Bits Per Sample : 8
Color Components : 3
Image Size : 200x300
Megapixels : 0.060
Scale Factor To 35 mm Equivalent : 24.6
Shutter Speed : 1/250
Circle Of Confusion : 0.001 mm