Uber Exif Photo
Keywords : alpha7, environment, fuji, japan, land, mountain, scenery, shiraito, sony, taki, waterfall, yamanashi
By-line : Rodrigo Herweg
By-line Title : Fotógrafo
Copyright Notice : ©Rodrigo Herweg - 2013
Copyright Flag : True
Make : SONY
Camera Model Name : ILCE-7
Software : Adobe Photoshop Lightroom 5.3 (Macintosh)
Modify Date : 2014:01:09 00:42:12
Artist : Rodrigo Herweg
Copyright : ©Rodrigo Herweg - 2013
Exposure Time : 1/1000
F Number : 1.8
Exposure Program : Manual
ISO : 50
Sensitivity Type : Recommended Exposure Index
Recommended Exposure Index : 50
Date/Time Original : 2014:01:05 23:29:34
Create Date : 2014:01:05 23:29:34
Shutter Speed Value : 1/1000
Aperture Value : 1.8
Brightness Value : 8.08359375
Exposure Compensation : 0
Max Aperture Value : 1.8
Metering Mode : Center-weighted average
Light Source : Unknown
Flash : Off, Did not fire
Focal Length : 55.0 mm
Color Space : sRGB
Scene Type : Directly photographed
Custom Rendered : Normal
Exposure Mode : Manual
White Balance : Auto
Digital Zoom Ratio : 1
Focal Length In 35mm Format : 55 mm
Scene Capture Type : Standard
Contrast : Normal
Saturation : Normal
Sharpness : Normal
Lens Info : 55mm f/1.8
Lens Model : FE 55mm F1.8 ZA
Profile Description : sRGB IEC61966-2.1
Creator Tool : Adobe Photoshop Lightroom 5.3 (Macintosh)
Lens : FE 55mm F1.8 ZA
Lens Distort Info : 1068674280/1073741824 18996470/1073741824 -16596850/1073741824 -2561261/1073741824
Date Created : 2014:01:05 23:29:34
Authors Position : Fotógrafo
Format : image/jpeg
Marked : True
Version : 8.3
Process Version : 6.7
Auto White Version : 134348800
Color Temperature : 5200
Tint : +4
Luminance Smoothing : 0
Color Noise Reduction : 25
Vignette Amount : 0
Shadow Tint : 0
Red Hue : 0
Red Saturation : 0
Green Hue : 0
Green Saturation : 0
Blue Hue : 0
Blue Saturation : 0
Gray Mixer Red : +33
Gray Mixer Orange : +26
Gray Mixer Yellow : -23
Gray Mixer Green : -27
Gray Mixer Aqua : -14
Gray Mixer Blue : -12
Gray Mixer Purple : +13
Gray Mixer Magenta : +16
Split Toning Shadow Hue : 0
Split Toning Shadow Saturation : 0
Split Toning Highlight Hue : 23
Split Toning Highlight Saturation : 9
Split Toning Balance : 0
Parametric Shadows : -4
Parametric Darks : +9
Parametric Lights : +10
Parametric Highlights : -26
Parametric Shadow Split : 25
Parametric Midtone Split : 50
Parametric Highlight Split : 75
Sharpen Radius : +1.5
Sharpen Detail : 36
Sharpen Edge Masking : 0
Post Crop Vignette Amount : -47
Post Crop Vignette Midpoint : 28
Post Crop Vignette Feather : 100
Post Crop Vignette Roundness : 0
Post Crop Vignette Style : Highlight Priority
Post Crop Vignette Highlight Contrast : 0
Grain Amount : 0
Color Noise Reduction Detail : 50
Color Noise Reduction Smoothness : 50
Lens Profile Enable : 1
Lens Manual Distortion Amount : 0
Perspective Vertical : 0
Perspective Horizontal : 0
Perspective Rotate : 0.0
Perspective Scale : 100
Perspective Aspect : 0
Perspective Upright : Off
Auto Lateral CA : 0
Exposure 2012 : -0.45
Contrast 2012 : +48
Highlights 2012 : -100
Shadows 2012 : +100
Whites 2012 : +51
Blacks 2012 : -21
Clarity 2012 : +21
Convert To Grayscale : True
Tone Curve Name 2012 : Linear
Camera Profile : Adobe Standard
Lens Profile Setup : Custom
Lens Profile Name : Adobe (Sony FE 55mm F1.8 ZA)
Lens Profile Filename : SONY (Sony FE 55mm F1.8 ZA) - RAW.lcp
Lens Profile Distortion Scale : 100
Lens Profile Chromatic Aberration Scale : 100
Lens Profile Vignetting Scale : 0
Has Settings : True
Has Crop : False
Already Applied : True
Creator : Rodrigo Herweg
Rights : ©Rodrigo Herweg - 2013
Subject : alpha7, environment, fuji, japan, land, mountain, scenery, shiraito, sony, taki, waterfall, yamanashi
Usage Terms : Todos os direitos reservados.
Creator Postal Code : 470-0353
Creator Work Telephone : 090-4267-4630
Creator Region : Aichi
Creator Country : Japão
Creator Work Email : rodrigoherweg@yahoo.com
Creator Address : Homigaoka 5-1-1 Homikoudan 141-914
Creator City : Toyota
Tone Curve PV2012 : 0, 0, 255, 255
Tone Curve PV2012 Red : 0, 0, 255, 255
Tone Curve PV2012 Green : 0, 0, 255, 255
Tone Curve PV2012 Blue : 0, 0, 255, 255
Image Width : 300
Image Height : 200
Bits Per Sample : 8
Color Components : 3
Aperture : 1.8
Image Size : 300x200
Megapixels : 0.060
Scale Factor To 35 mm Equivalent : 1.0
Shutter Speed : 1/1000
Circle Of Confusion : 0.030 mm
Field Of View : 36.2 deg
Focal Length : 55.0 mm (35 mm equivalent: 55.0 mm)
Hyperfocal Distance : 55.93 m
Light Value : 12.7
Lens ID : FE 55mm F1.8 ZA