Uber Exif Photo
Keywords : LensTagger
By-line : Edward Arthur
Make : Canon
Camera Model Name : Canon EOS 6D
Software : Adobe Photoshop Lightroom 5.0 (Windows)
Modify Date : 2013:11:09 15:46:00
Artist : Edward Arthur
Exposure Time : 1/1000
F Number : 5.6
Exposure Program : Manual
ISO : 640
Sensitivity Type : Recommended Exposure Index
Recommended Exposure Index : 640
Date/Time Original : 2013:11:09 14:14:19
Create Date : 2013:11:09 14:14:19
Shutter Speed Value : 1/1000
Aperture Value : 5.6
Exposure Compensation : 0
Max Aperture Value : 4.0
Metering Mode : Multi-segment
Flash : Off, Did not fire
Focal Length : 400.0 mm
Color Space : sRGB
Custom Rendered : Normal
Exposure Mode : Manual
White Balance : Auto
Scene Capture Type : Standard
Serial Number : 052024000854
Lens Info : 50mm f/?
Lens Model : Carl Zeiss Vario-Sonnar 80-200 f/4 + Mutar I 2x
Lens Serial Number : 0000000000
Profile Description : sRGB IEC61966-2.1
Lens : Carl Zeiss Vario-Sonnar 80-200 f/4 + Mutar I 2x
Image Number : 0
Flash Compensation : 0
Firmware : 1.1.3
Rating : 5
Creator Tool : Adobe Photoshop Lightroom 5.0 (Windows)
Date Created : 2013:11:09 14:14:19.11
Format : image/jpeg
Version : 8.2
Process Version : 6.7
Auto White Version : 134348800
Color Temperature : 4800
Tint : 0
Saturation : 0
Sharpness : 60
Luminance Smoothing : 20
Color Noise Reduction : 25
Vignette Amount : 0
Shadow Tint : 0
Red Hue : 0
Red Saturation : 0
Green Hue : 0
Green Saturation : 0
Blue Hue : 0
Blue Saturation : 0
Vibrance : 0
Hue Adjustment Red : 0
Hue Adjustment Orange : 0
Hue Adjustment Yellow : 0
Hue Adjustment Green : 0
Hue Adjustment Aqua : 0
Hue Adjustment Blue : 0
Hue Adjustment Purple : 0
Hue Adjustment Magenta : 0
Saturation Adjustment Red : 0
Saturation Adjustment Orange : 0
Saturation Adjustment Yellow : 0
Saturation Adjustment Green : 0
Saturation Adjustment Aqua : 0
Saturation Adjustment Blue : 0
Saturation Adjustment Purple : 0
Saturation Adjustment Magenta : 0
Luminance Adjustment Red : 0
Luminance Adjustment Orange : 0
Luminance Adjustment Yellow : 0
Luminance Adjustment Green : 0
Luminance Adjustment Aqua : 0
Luminance Adjustment Blue : 0
Luminance Adjustment Purple : 0
Luminance Adjustment Magenta : 0
Split Toning Shadow Hue : 0
Split Toning Shadow Saturation : 0
Split Toning Highlight Hue : 0
Split Toning Highlight Saturation : 0
Split Toning Balance : 0
Parametric Shadows : 0
Parametric Darks : 0
Parametric Lights : 0
Parametric Highlights : 0
Parametric Shadow Split : 25
Parametric Midtone Split : 50
Parametric Highlight Split : 75
Sharpen Radius : +0.8
Sharpen Detail : 25
Sharpen Edge Masking : 30
Post Crop Vignette Amount : 0
Grain Amount : 0
Luminance Noise Reduction Detail : 50
Color Noise Reduction Detail : 50
Luminance Noise Reduction Contrast : 0
Color Noise Reduction Smoothness : 50
Lens Profile Enable : 0
Lens Manual Distortion Amount : 0
Perspective Vertical : 0
Perspective Horizontal : 0
Perspective Rotate : 0.0
Perspective Scale : 100
Perspective Aspect : 0
Perspective Upright : Off
Auto Lateral CA : 0
Exposure 2012 : +0.60
Contrast 2012 : 0
Highlights 2012 : -10
Shadows 2012 : 0
Whites 2012 : 0
Blacks 2012 : 0
Clarity 2012 : +10
Defringe Purple Amount : 0
Defringe Purple Hue Lo : 30
Defringe Purple Hue Hi : 70
Defringe Green Amount : 0
Defringe Green Hue Lo : 40
Defringe Green Hue Hi : 60
Convert To Grayscale : False
Tone Curve Name 2012 : Linear
Camera Profile : Adobe Standard
Lens Profile Setup : LensDefaults
Has Settings : True
Crop Top : 0.35802
Crop Left : 0.260663
Crop Bottom : 0.973395
Crop Right : 0.609683
Crop Angle : -0.290103
Crop Constrain To Warp : 0
Has Crop : True
Already Applied : True
Creator : Edward Arthur
Subject : LensTagger
Tone Curve PV2012 : 0, 0, 255, 255
Tone Curve PV2012 Red : 0, 0, 255, 255
Tone Curve PV2012 Green : 0, 0, 255, 255
Tone Curve PV2012 Blue : 0, 0, 255, 255
Image Width : 253
Image Height : 300
Bits Per Sample : 8
Color Components : 3
Aperture : 5.6
Image Size : 253x300
Megapixels : 0.076
Scale Factor To 35 mm Equivalent : 16.8
Shutter Speed : 1/1000
Create Date : 2013:11:09 14:14:19.11
Date/Time Original : 2013:11:09 14:14:19.11
Circle Of Confusion : 0.002 mm
Field Of View : 0.3 deg
Focal Length : 400.0 mm (35 mm equivalent: 6703.2 mm)
Hyperfocal Distance : 15935.47 m
Light Value : 12.3
Lens ID : Canon EF 35-80mm f/4-5.6