Uber Exif Photo
By-line : Mac_Kwan
Make : Canon
Camera Model Name : Canon EOS 5DS R
Software : Adobe Photoshop Lightroom 6.1.1 (Windows)
Modify Date : 2015:10:13 23:10:59
Artist : Mac_Kwan
Exposure Time : 1/640
F Number : 2.8
Exposure Program : Aperture-priority AE
ISO : 200
Sensitivity Type : Recommended Exposure Index
Recommended Exposure Index : 200
Date/Time Original : 2015:10:05 05:24:07
Create Date : 2015:10:05 05:24:07
Shutter Speed Value : 1/640
Aperture Value : 2.8
Exposure Compensation : 0
Max Aperture Value : 2.8
Metering Mode : Multi-segment
Flash : Off, Did not fire
Focal Length : 15.0 mm
Color Space : sRGB
Custom Rendered : Normal
Exposure Mode : Auto
White Balance : Auto
Scene Capture Type : Standard
Serial Number : 024021000174
Lens Info : 15mm f/?
Lens Model : Zeiss Distagon T* 2.8/15 ZE
Lens Serial Number : 0000000000
Rating : 3
Creator Tool : Adobe Photoshop Lightroom 6.1.1 (Windows)
Format : image/jpeg
Lens : Zeiss Distagon T* 2.8/15 ZE
Image Number : 0
Flash Compensation : 0
Firmware : 1.0.1
Date Created : 2015:10:05 05:24:07.18
Version : 9.1.1
Process Version : 6.7
Auto White Version : 134348800
Color Temperature : 5600
Tint : +5
Saturation : +10
Sharpness : 35
Luminance Smoothing : 10
Color Noise Reduction : 30
Vignette Amount : 0
Shadow Tint : 0
Red Hue : 0
Red Saturation : 0
Green Hue : 0
Green Saturation : 0
Blue Hue : 0
Blue Saturation : 0
Vibrance : +30
Hue Adjustment Red : 0
Hue Adjustment Orange : 0
Hue Adjustment Yellow : 0
Hue Adjustment Green : 0
Hue Adjustment Aqua : 0
Hue Adjustment Blue : 0
Hue Adjustment Purple : 0
Hue Adjustment Magenta : 0
Saturation Adjustment Red : 0
Saturation Adjustment Orange : 0
Saturation Adjustment Yellow : 0
Saturation Adjustment Green : 0
Saturation Adjustment Aqua : 0
Saturation Adjustment Blue : 0
Saturation Adjustment Purple : 0
Saturation Adjustment Magenta : 0
Luminance Adjustment Red : 0
Luminance Adjustment Orange : 0
Luminance Adjustment Yellow : 0
Luminance Adjustment Green : 0
Luminance Adjustment Aqua : 0
Luminance Adjustment Blue : 0
Luminance Adjustment Purple : 0
Luminance Adjustment Magenta : 0
Split Toning Shadow Hue : 0
Split Toning Shadow Saturation : 0
Split Toning Highlight Hue : 0
Split Toning Highlight Saturation : 0
Split Toning Balance : 0
Parametric Shadows : 0
Parametric Darks : 0
Parametric Lights : 0
Parametric Highlights : 0
Parametric Shadow Split : 25
Parametric Midtone Split : 50
Parametric Highlight Split : 75
Sharpen Radius : +1.0
Sharpen Detail : 25
Sharpen Edge Masking : 0
Post Crop Vignette Amount : -12
Post Crop Vignette Midpoint : 50
Post Crop Vignette Feather : 50
Post Crop Vignette Roundness : 0
Post Crop Vignette Style : Highlight Priority
Post Crop Vignette Highlight Contrast : 0
Grain Amount : 0
Luminance Noise Reduction Detail : 50
Color Noise Reduction Detail : 50
Luminance Noise Reduction Contrast : 0
Color Noise Reduction Smoothness : 50
Lens Profile Enable : 0
Lens Manual Distortion Amount : 0
Perspective Vertical : 0
Perspective Horizontal : 0
Perspective Rotate : 0.0
Perspective Scale : 100
Perspective Aspect : 0
Perspective Upright : Off
Auto Lateral CA : 0
Exposure 2012 : +0.70
Contrast 2012 : +30
Highlights 2012 : -30
Shadows 2012 : +30
Whites 2012 : +30
Blacks 2012 : -30
Clarity 2012 : +35
Defringe Purple Amount : 0
Defringe Purple Hue Lo : 30
Defringe Purple Hue Hi : 70
Defringe Green Amount : 0
Defringe Green Hue Lo : 40
Defringe Green Hue Hi : 60
Dehaze : 0
Tone Map Strength : 0
Convert To Grayscale : False
Tone Curve Name : Linear
Tone Curve Name 2012 : Linear
Camera Profile : Camera Landscape
Lens Profile Setup : LensDefaults
Has Settings : True
Has Crop : False
Already Applied : True
Creator : Mac_Kwan
Tone Curve : 0, 0, 255, 255
Tone Curve Red : 0, 0, 255, 255
Tone Curve Green : 0, 0, 255, 255
Tone Curve Blue : 0, 0, 255, 255
Tone Curve PV2012 : 0, 0, 255, 255
Tone Curve PV2012 Red : 0, 0, 255, 255
Tone Curve PV2012 Green : 0, 0, 255, 255
Tone Curve PV2012 Blue : 0, 0, 255, 255
Image Width : 200
Image Height : 300
Bits Per Sample : 8
Color Components : 3
Aperture : 2.8
Image Size : 200x300
Megapixels : 0.060
Scale Factor To 35 mm Equivalent : 29.0
Shutter Speed : 1/640
Create Date : 2015:10:05 05:24:07.18
Date/Time Original : 2015:10:05 05:24:07.18
Circle Of Confusion : 0.001 mm
Field Of View : 4.7 deg
Focal Length : 15.0 mm (35 mm equivalent: 434.4 mm)
Hyperfocal Distance : 77.45 m
Light Value : 11.3
Lens ID : Carl Zeiss Distagon T* 15mm f/2.8 ZE