Uber Exif Photo
By-line : Mac_Kwan
Make : Canon
Camera Model Name : Canon EOS 5DS R
Orientation : Horizontal (normal)
Software : Adobe Photoshop Lightroom 6.0 (Windows)
Modify Date : 2015:07:05 22:46:02
Artist : Mac_Kwan
Exposure Time : 1/80
F Number : 11.0
Exposure Program : Aperture-priority AE
ISO : 100
Sensitivity Type : Recommended Exposure Index
Recommended Exposure Index : 100
Date/Time Original : 2015:06:25 09:32:37
Create Date : 2015:06:25 09:32:37
Shutter Speed Value : 1/80
Aperture Value : 11.0
Exposure Compensation : -1/3
Max Aperture Value : 1.4
Metering Mode : Multi-segment
Flash : Off, Did not fire
Focal Length : 55.0 mm
Color Space : sRGB
Custom Rendered : Normal
Exposure Mode : Auto
White Balance : Auto
Scene Capture Type : Standard
Serial Number : 024021000174
Lens Info : 55mm f/?
Lens Model : Zeiss Otus 1.4/55 ZE
Lens Serial Number : 0000000000
Rating : 5
Creator Tool : Adobe Photoshop Lightroom 6.0 (Windows)
Format : image/jpeg
Lens : Zeiss Otus 1.4/55 ZE
Image Number : 0
Flash Compensation : 0
Firmware : 1.0.1
Date Created : 2015:06:25 09:32:37.00
Version : 9.0
Process Version : 6.7
Auto White Version : 134348800
Color Temperature : 4700
Tint : -9
Saturation : +10
Sharpness : 35
Luminance Smoothing : 20
Color Noise Reduction : 25
Vignette Amount : 0
Shadow Tint : 0
Red Hue : 0
Red Saturation : 0
Green Hue : 0
Green Saturation : 0
Blue Hue : 0
Blue Saturation : 0
Vibrance : +30
Hue Adjustment Red : 0
Hue Adjustment Orange : 0
Hue Adjustment Yellow : 0
Hue Adjustment Green : 0
Hue Adjustment Aqua : 0
Hue Adjustment Blue : 0
Hue Adjustment Purple : 0
Hue Adjustment Magenta : 0
Saturation Adjustment Red : 0
Saturation Adjustment Orange : 0
Saturation Adjustment Yellow : 0
Saturation Adjustment Green : 0
Saturation Adjustment Aqua : 0
Saturation Adjustment Blue : 0
Saturation Adjustment Purple : 0
Saturation Adjustment Magenta : 0
Luminance Adjustment Red : 0
Luminance Adjustment Orange : 0
Luminance Adjustment Yellow : 0
Luminance Adjustment Green : 0
Luminance Adjustment Aqua : 0
Luminance Adjustment Blue : 0
Luminance Adjustment Purple : 0
Luminance Adjustment Magenta : 0
Split Toning Shadow Hue : 0
Split Toning Shadow Saturation : 0
Split Toning Highlight Hue : 0
Split Toning Highlight Saturation : 0
Split Toning Balance : 0
Parametric Shadows : 0
Parametric Darks : 0
Parametric Lights : 0
Parametric Highlights : 0
Parametric Shadow Split : 25
Parametric Midtone Split : 50
Parametric Highlight Split : 75
Sharpen Radius : +1.0
Sharpen Detail : 25
Sharpen Edge Masking : 0
Post Crop Vignette Amount : -15
Post Crop Vignette Midpoint : 50
Post Crop Vignette Feather : 50
Post Crop Vignette Roundness : 0
Post Crop Vignette Style : Highlight Priority
Post Crop Vignette Highlight Contrast : 0
Grain Amount : 0
Luminance Noise Reduction Detail : 50
Color Noise Reduction Detail : 50
Luminance Noise Reduction Contrast : 0
Color Noise Reduction Smoothness : 50
Lens Profile Enable : 0
Lens Manual Distortion Amount : 0
Perspective Vertical : 0
Perspective Horizontal : 0
Perspective Rotate : 0.0
Perspective Scale : 100
Perspective Aspect : 0
Perspective Upright : Level
Auto Lateral CA : 0
Exposure 2012 : +0.33
Contrast 2012 : +30
Highlights 2012 : -30
Shadows 2012 : +50
Whites 2012 : +30
Blacks 2012 : -30
Clarity 2012 : +35
Defringe Purple Amount : 0
Defringe Purple Hue Lo : 30
Defringe Purple Hue Hi : 70
Defringe Green Amount : 0
Defringe Green Hue Lo : 40
Defringe Green Hue Hi : 60
Convert To Grayscale : False
Tone Curve Name : Linear
Tone Curve Name 2012 : Linear
Camera Profile : Camera Landscape
Lens Profile Setup : LensDefaults
Has Settings : True
Has Crop : False
Already Applied : True
Raw File Name : 20150625-0H4A1495.jpg
Creator : Mac_Kwan
Tone Curve : 0, 0, 255, 255
Tone Curve Red : 0, 0, 255, 255
Tone Curve Green : 0, 0, 255, 255
Tone Curve Blue : 0, 0, 255, 255
Tone Curve PV2012 : 0, 0, 255, 255
Tone Curve PV2012 Red : 0, 0, 255, 255
Tone Curve PV2012 Green : 0, 0, 255, 255
Tone Curve PV2012 Blue : 0, 0, 255, 255
Image Width : 200
Image Height : 300
Bits Per Sample : 8
Color Components : 3
Aperture : 11.0
Image Size : 200x300
Megapixels : 0.060
Scale Factor To 35 mm Equivalent : 29.0
Shutter Speed : 1/80
Circle Of Confusion : 0.001 mm
Field Of View : 1.3 deg
Focal Length : 55.0 mm (35 mm equivalent: 1592.8 mm)
Hyperfocal Distance : 265.06 m
Light Value : 13.2
Lens ID : Zeiss Otus 55mm f/1.4 ZE