Uber Exif Photo
Make : Canon
Camera Model Name : Canon EOS 5D Mark II
Software : Adobe Photoshop Lightroom 4.2 (Windows)
Modify Date : 2013:12:12 16:56:16
Exposure Time : 1/80
F Number : 2.0
Exposure Program : Manual
ISO : 12800
Date/Time Original : 2013:05:16 05:41:19
Create Date : 2013:05:16 05:41:19
Shutter Speed Value : 1/80
Aperture Value : 2.0
Exposure Compensation : 0
Max Aperture Value : 2.0
Metering Mode : Multi-segment
Flash : Off, Did not fire
Focal Length : 25.0 mm
Custom Rendered : Normal
Exposure Mode : Manual
White Balance : Manual
Scene Capture Type : Standard
Serial Number : 3021504432
Lens Info : 25mm f/?
Lens Model : Zeiss Distagon T* 2/25 ZE
Lens : Zeiss Distagon T* 2/25 ZE
Image Number : 0
Flash Compensation : 0
Firmware : 2.0.8
Rating : 4
Creator Tool : Adobe Photoshop Lightroom 4.2 (Windows)
Date Created : 2013:05:16 05:41:19.64
Format : image/jpeg
Version : 7.2
Process Version : 6.7
Color Temperature : 6762
Tint : -1
Sharpness : 25
Luminance Smoothing : 40
Color Noise Reduction : 25
Vignette Amount : 0
Shadow Tint : 0
Red Hue : 0
Red Saturation : 0
Green Hue : 0
Green Saturation : 0
Blue Hue : 0
Blue Saturation : 0
Gray Mixer Red : -6
Gray Mixer Orange : -13
Gray Mixer Yellow : -16
Gray Mixer Green : -22
Gray Mixer Aqua : -19
Gray Mixer Blue : +5
Gray Mixer Purple : +11
Gray Mixer Magenta : +4
Split Toning Shadow Hue : 0
Split Toning Shadow Saturation : 0
Split Toning Highlight Hue : 0
Split Toning Highlight Saturation : 0
Split Toning Balance : 0
Parametric Shadows : -7
Parametric Darks : +40
Parametric Lights : -11
Parametric Highlights : +28
Parametric Shadow Split : 25
Parametric Midtone Split : 50
Parametric Highlight Split : 75
Sharpen Radius : +1.0
Sharpen Detail : 25
Sharpen Edge Masking : 0
Post Crop Vignette Amount : 0
Grain Amount : 0
Luminance Noise Reduction Detail : 50
Color Noise Reduction Detail : 50
Luminance Noise Reduction Contrast : 0
Lens Profile Enable : 0
Lens Manual Distortion Amount : 0
Perspective Vertical : 0
Perspective Horizontal : 0
Perspective Rotate : 0.0
Perspective Scale : 100
Auto Lateral CA : 0
Exposure 2012 : +0.23
Contrast 2012 : +67
Highlights 2012 : -72
Shadows 2012 : +45
Whites 2012 : -48
Blacks 2012 : 0
Clarity 2012 : +9
Convert To Grayscale : True
Tone Curve Name 2012 : Linear
Camera Profile : Adobe Standard
Lens Profile Setup : LensDefaults
Has Settings : True
Crop Top : 0.027398
Crop Left : 0.039477
Crop Bottom : 1
Crop Right : 0.994632
Crop Angle : 0.480313
Crop Constrain To Warp : 0
Crop Width : 1000
Crop Height : 667
Crop Unit : pixels
Has Crop : True
Already Applied : True
Tone Curve PV2012 : 0, 0, 255, 255
Tone Curve PV2012 Red : 0, 0, 255, 255
Tone Curve PV2012 Green : 0, 0, 255, 255
Tone Curve PV2012 Blue : 0, 0, 255, 255
Image Width : 300
Image Height : 200
Bits Per Sample : 8
Color Components : 1
Aperture : 2.0
Image Size : 300x200
Megapixels : 0.060
Scale Factor To 35 mm Equivalent : 1.0
Shutter Speed : 1/80
Create Date : 2013:05:16 05:41:19.64
Date/Time Original : 2013:05:16 05:41:19.64
Circle Of Confusion : 0.031 mm
Field Of View : 72.8 deg
Focal Length : 25.0 mm (35 mm equivalent: 24.4 mm)
Hyperfocal Distance : 10.15 m
Light Value : 1.3
Lens ID : Carl Zeiss Distagon T* 25mm f/2 ZE