Uber Exif Photo
Photometric Interpretation : RGB
Make : SONY
Camera Model Name : NEX-7
Orientation : Horizontal (normal)
Samples Per Pixel : 3
Software : Adobe Photoshop CS6 (Windows)
Modify Date : 2013:12:06 22:36:10
Exposure Time : 1/200
F Number : 2.8
Exposure Program : Aperture-priority AE
ISO : 800
Sensitivity Type : Recommended Exposure Index
Recommended Exposure Index : 800
Date/Time Original : 2013:11:18 23:37:37
Create Date : 2013:11:18 23:37:37
Shutter Speed Value : 1/200
Aperture Value : 2.8
Brightness Value : 2.321875
Exposure Compensation : -0.3
Max Aperture Value : 1.8
Metering Mode : Multi-segment
Light Source : Unknown
Flash : Off, Did not fire
Focal Length : 32.0 mm
Color Space : sRGB
Exif Image Width : 2000
Exif Image Height : 1334
Scene Type : Directly photographed
Custom Rendered : Normal
Exposure Mode : Auto
White Balance : Manual
Focal Length In 35mm Format : 48 mm
Scene Capture Type : Standard
Contrast : High
Saturation : High
Sharpness : Hard
Lens Info : 32mm f/1.8
Lens Model : E 32mm F1.8
Profile Description : sRGB IEC61966-2.1
Creator Tool : Adobe Photoshop Lightroom 5.0 (Windows)
Rating : 5
Lens : E 32mm F1.8
Date Created : 2013:11:18 23:37:37
Color Mode : RGB
ICC Profile Name : sRGB IEC61966-2.1
Version : 8.1
Process Version : 6.7
Color Temperature : 3191
Tint : -13
Luminance Smoothing : 0
Color Noise Reduction : 25
Vignette Amount : 0
Shadow Tint : +5
Red Hue : +10
Red Saturation : +10
Green Hue : +10
Green Saturation : -10
Blue Hue : -5
Blue Saturation : +20
Vibrance : 0
Hue Adjustment Red : +12
Hue Adjustment Orange : -5
Hue Adjustment Yellow : +5
Hue Adjustment Green : +10
Hue Adjustment Aqua : +10
Hue Adjustment Blue : +20
Hue Adjustment Purple : +30
Hue Adjustment Magenta : +15
Saturation Adjustment Red : -10
Saturation Adjustment Orange : -5
Saturation Adjustment Yellow : 0
Saturation Adjustment Green : -10
Saturation Adjustment Aqua : 0
Saturation Adjustment Blue : 0
Saturation Adjustment Purple : -10
Saturation Adjustment Magenta : -15
Luminance Adjustment Red : -20
Luminance Adjustment Orange : -10
Luminance Adjustment Yellow : 0
Luminance Adjustment Green : -15
Luminance Adjustment Aqua : -15
Luminance Adjustment Blue : -30
Luminance Adjustment Purple : -10
Luminance Adjustment Magenta : -15
Split Toning Shadow Hue : 0
Split Toning Shadow Saturation : 0
Split Toning Highlight Hue : 275
Split Toning Highlight Saturation : 0
Split Toning Balance : 0
Parametric Shadows : 0
Parametric Darks : 0
Parametric Lights : 0
Parametric Highlights : 0
Parametric Shadow Split : 14
Parametric Midtone Split : 60
Parametric Highlight Split : 75
Sharpen Radius : +1.2
Sharpen Detail : 25
Sharpen Edge Masking : 0
Post Crop Vignette Amount : 0
Grain Amount : 15
Grain Size : 30
Grain Frequency : 30
Color Noise Reduction Detail : 50
Lens Profile Enable : 0
Lens Manual Distortion Amount : 0
Perspective Vertical : 0
Perspective Horizontal : 0
Perspective Rotate : 0.0
Perspective Scale : 100
Perspective Aspect : 0
Perspective Upright : Off
Auto Lateral CA : 1
Exposure 2012 : +0.24
Contrast 2012 : 0
Highlights 2012 : -15
Shadows 2012 : +15
Whites 2012 : 0
Blacks 2012 : +10
Clarity 2012 : 0
Defringe Purple Amount : 0
Defringe Purple Hue Lo : 30
Defringe Purple Hue Hi : 70
Defringe Green Amount : 0
Defringe Green Hue Lo : 40
Defringe Green Hue Hi : 60
Convert To Grayscale : False
Tone Curve Name 2012 : Custom
Camera Profile : Fuji Velvia 50 - SO
Lens Profile Setup : LensDefaults
Has Settings : True
Crop Top : 0
Crop Left : 0.054793
Crop Bottom : 1
Crop Right : 0.975647
Crop Angle : 2.21318
Crop Constrain To Warp : 0
Has Crop : True
Already Applied : True
Format : image/jpeg
Tone Curve PV2012 : 0, 6, 78, 78, 127, 127, 255, 255
Tone Curve PV2012 Red : 0, 0, 52, 31, 115, 118, 179, 198, 255, 255
Tone Curve PV2012 Green : 0, 0, 49, 22, 117, 117, 177, 197, 225, 238, 255, 255
Tone Curve PV2012 Blue : 0, 0, 45, 25, 107, 124, 172, 209, 255, 255
Image Width : 300
Image Height : 200
Bits Per Sample : 8
Color Components : 3
Aperture : 2.8
Image Size : 300x200
Megapixels : 0.060
Scale Factor To 35 mm Equivalent : 1.5
Shutter Speed : 1/200
Circle Of Confusion : 0.020 mm
Field Of View : 41.1 deg
Focal Length : 32.0 mm (35 mm equivalent: 48.0 mm)
Hyperfocal Distance : 18.26 m
Light Value : 7.6
Lens ID : E 32mm F1.8