Uber Exif Photo
By-line : Jim Craig
Copyright Notice : DaMessenjah. All rights reserved. Can't Stop Screamin' It
Make : Canon
Camera Model Name : Canon EOS 7D
Software : Adobe Photoshop Lightroom 4.4 (Windows)
Modify Date : 2016:12:06 21:02:00
Artist : Jim Craig
Copyright : DaMessenjah. All rights reserved. Can't Stop Screamin' It
Exposure Time : 1/13
F Number : 4.0
Exposure Program : Aperture-priority AE
ISO : 3200
Sensitivity Type : Recommended Exposure Index
Recommended Exposure Index : 3200
Date/Time Original : 2016:05:15 07:13:05
Create Date : 2016:05:15 07:13:05
Shutter Speed Value : 1/13
Aperture Value : 4.0
Exposure Compensation : -5/3
Max Aperture Value : 2.0
Metering Mode : Center-weighted average
Flash : Off, Did not fire
Focal Length : 35.0 mm
Custom Rendered : Normal
Exposure Mode : Auto
White Balance : Auto
Scene Capture Type : Standard
Serial Number : 1780908873
Lens Info : 35mm f/?
Lens Model : Zeiss Distagon T* 2/35 ZE
Profile Description : sRGB IEC61966-2.1
Creator Tool : Adobe Photoshop Lightroom 4.4 (Windows)
Format : image/jpeg
Lens : Zeiss Distagon T* 2/35 ZE
Image Number : 0
Flash Compensation : 0
Firmware : 2.0.3
Date Created : 2016:05:15 07:13:05.00
Version : 7.4
Process Version : 6.7
Color Temperature : 5200
Tint : +10
Saturation : 0
Sharpness : 50
Luminance Smoothing : 50
Color Noise Reduction : 80
Vignette Amount : 0
Shadow Tint : 0
Red Hue : 0
Red Saturation : 0
Green Hue : 0
Green Saturation : 0
Blue Hue : 0
Blue Saturation : 0
Vibrance : +5
Hue Adjustment Red : 0
Hue Adjustment Orange : 0
Hue Adjustment Yellow : 0
Hue Adjustment Green : 0
Hue Adjustment Aqua : 0
Hue Adjustment Blue : 0
Hue Adjustment Purple : 0
Hue Adjustment Magenta : 0
Saturation Adjustment Red : -100
Saturation Adjustment Orange : -100
Saturation Adjustment Yellow : -100
Saturation Adjustment Green : -100
Saturation Adjustment Aqua : -100
Saturation Adjustment Blue : -100
Saturation Adjustment Purple : -100
Saturation Adjustment Magenta : -100
Luminance Adjustment Red : +18
Luminance Adjustment Orange : +22
Luminance Adjustment Yellow : +24
Luminance Adjustment Green : 0
Luminance Adjustment Aqua : 0
Luminance Adjustment Blue : +22
Luminance Adjustment Purple : +40
Luminance Adjustment Magenta : 0
Split Toning Shadow Hue : 0
Split Toning Shadow Saturation : 0
Split Toning Highlight Hue : 0
Split Toning Highlight Saturation : 0
Split Toning Balance : 0
Parametric Shadows : +30
Parametric Darks : -10
Parametric Lights : +15
Parametric Highlights : +25
Parametric Shadow Split : 25
Parametric Midtone Split : 50
Parametric Highlight Split : 75
Sharpen Radius : +1.0
Sharpen Detail : 15
Sharpen Edge Masking : 0
Post Crop Vignette Amount : -10
Post Crop Vignette Midpoint : 50
Post Crop Vignette Feather : 50
Post Crop Vignette Roundness : 0
Post Crop Vignette Style : Highlight Priority
Post Crop Vignette Highlight Contrast : 0
Grain Amount : 0
Luminance Noise Reduction Detail : 50
Color Noise Reduction Detail : 50
Luminance Noise Reduction Contrast : 8
Lens Profile Enable : 1
Lens Manual Distortion Amount : 0
Perspective Vertical : 0
Perspective Horizontal : 0
Perspective Rotate : 0.0
Perspective Scale : 50
Auto Lateral CA : 0
Exposure 2012 : +0.70
Contrast 2012 : 0
Highlights 2012 : 0
Shadows 2012 : 0
Whites 2012 : +20
Blacks 2012 : 0
Clarity 2012 : +24
Defringe Purple Amount : 0
Defringe Purple Hue Lo : 30
Defringe Purple Hue Hi : 70
Defringe Green Amount : 0
Defringe Green Hue Lo : 40
Defringe Green Hue Hi : 60
Convert To Grayscale : False
Tone Curve Name 2012 : Strong Contrast
Camera Profile : Camera Portrait
Lens Profile Setup : LensDefaults
Lens Profile Name : Adobe (Zeiss Distagon T* 2/35 ZE)
Lens Profile Filename : Canon (Zeiss Distagon T 35 f2 ZE).lcp
Lens Profile Distortion Scale : 100
Lens Profile Chromatic Aberration Scale : 100
Lens Profile Vignetting Scale : 100
Has Settings : True
Crop Top : 0.278159
Crop Left : 0.311963
Crop Bottom : 0.716209
Crop Right : 0.750009
Crop Angle : 0
Crop Constrain To Warp : 1
Crop Width : 2271
Crop Height : 1514
Crop Unit : pixels
Has Crop : True
Already Applied : True
Creator : Jim Craig
Rights : DaMessenjah. All rights reserved. Can't Stop Screamin' It
Tone Curve PV2012 : 0, 0, 32, 16, 64, 50, 128, 128, 192, 202, 255, 255
Tone Curve PV2012 Red : 0, 0, 255, 255
Tone Curve PV2012 Green : 0, 0, 255, 255
Tone Curve PV2012 Blue : 0, 0, 255, 255
Image Width : 308
Image Height : 458
Bits Per Sample : 8
Color Components : 3
Aperture : 4.0
Image Size : 308x458
Megapixels : 0.141
Scale Factor To 35 mm Equivalent : 1.6
Shutter Speed : 1/13
Create Date : 2016:05:15 07:13:05.00
Date/Time Original : 2016:05:15 07:13:05.00
Circle Of Confusion : 0.019 mm
Field Of View : 36.3 deg
Focal Length : 35.0 mm (35 mm equivalent: 55.0 mm)
Hyperfocal Distance : 16.01 m
Light Value : 2.7
Lens ID : Carl Zeiss Distagon T* 35mm f/2 ZE