Uber Exif Photo
By-line : Jim Craig
Copyright Notice : DaMessenjah. All rights reserved. Can't Stop Screamin' It
Make : Canon
Camera Model Name : Canon EOS 7D
Software : Adobe Photoshop Lightroom 4.4 (Windows)
Modify Date : 2013:06:17 19:41:59
Artist : Jim Craig
Copyright : DaMessenjah. All rights reserved. Can't Stop Screamin' It
Exposure Time : 1/125
F Number : 2.0
Exposure Program : Manual
ISO : 3200
Sensitivity Type : Recommended Exposure Index
Recommended Exposure Index : 3200
Date/Time Original : 2013:06:16 20:38:19
Create Date : 2013:06:16 20:38:19
Shutter Speed Value : 1/125
Aperture Value : 2.0
Exposure Compensation : 0
Max Aperture Value : 2.0
Metering Mode : Multi-segment
Flash : Off, Did not fire
Focal Length : 100.0 mm
Custom Rendered : Normal
Exposure Mode : Manual
White Balance : Manual
Scene Capture Type : Standard
Serial Number : 1780908873
Lens Info : 100mm f/?
Lens Model : Zeiss Makro-Planar T* 2/100 ZE
Profile Description : sRGB IEC61966-2.1
Creator Tool : Adobe Photoshop Lightroom 4.4 (Windows)
Format : image/jpeg
Lens : Zeiss Makro-Planar T* 2/100 ZE
Image Number : 0
Flash Compensation : 0
Firmware : 2.0.3
Date Created : 2013:06:16 20:38:19.25
Version : 7.4
Process Version : 6.7
Color Temperature : 5200
Tint : +17
Saturation : 0
Sharpness : 30
Luminance Smoothing : 40
Color Noise Reduction : 25
Vignette Amount : 0
Shadow Tint : 0
Red Hue : 0
Red Saturation : 0
Green Hue : 0
Green Saturation : 0
Blue Hue : 0
Blue Saturation : 0
Vibrance : +10
Hue Adjustment Red : 0
Hue Adjustment Orange : 0
Hue Adjustment Yellow : 0
Hue Adjustment Green : 0
Hue Adjustment Aqua : 0
Hue Adjustment Blue : 0
Hue Adjustment Purple : 0
Hue Adjustment Magenta : 0
Saturation Adjustment Red : 0
Saturation Adjustment Orange : 0
Saturation Adjustment Yellow : 0
Saturation Adjustment Green : 0
Saturation Adjustment Aqua : 0
Saturation Adjustment Blue : 0
Saturation Adjustment Purple : 0
Saturation Adjustment Magenta : 0
Luminance Adjustment Red : 0
Luminance Adjustment Orange : 0
Luminance Adjustment Yellow : 0
Luminance Adjustment Green : 0
Luminance Adjustment Aqua : 0
Luminance Adjustment Blue : 0
Luminance Adjustment Purple : 0
Luminance Adjustment Magenta : 0
Split Toning Shadow Hue : 0
Split Toning Shadow Saturation : 0
Split Toning Highlight Hue : 0
Split Toning Highlight Saturation : 0
Split Toning Balance : 0
Parametric Shadows : 0
Parametric Darks : 0
Parametric Lights : 0
Parametric Highlights : 0
Parametric Shadow Split : 25
Parametric Midtone Split : 50
Parametric Highlight Split : 75
Sharpen Radius : +1.0
Sharpen Detail : 25
Sharpen Edge Masking : 0
Post Crop Vignette Amount : 0
Grain Amount : 0
Luminance Noise Reduction Detail : 50
Color Noise Reduction Detail : 50
Luminance Noise Reduction Contrast : 0
Lens Profile Enable : 0
Lens Manual Distortion Amount : 0
Perspective Vertical : 0
Perspective Horizontal : 0
Perspective Rotate : 0.0
Perspective Scale : 100
Auto Lateral CA : 0
Exposure 2012 : 0.00
Contrast 2012 : 0
Highlights 2012 : 0
Shadows 2012 : 0
Whites 2012 : 0
Blacks 2012 : 0
Clarity 2012 : +10
Defringe Purple Amount : 0
Defringe Purple Hue Lo : 30
Defringe Purple Hue Hi : 70
Defringe Green Amount : 0
Defringe Green Hue Lo : 40
Defringe Green Hue Hi : 60
Convert To Grayscale : False
Tone Curve Name 2012 : Linear
Camera Profile : Adobe Standard
Lens Profile Setup : LensDefaults
Has Settings : True
Has Crop : False
Already Applied : True
Creator : Jim Craig
Rights : DaMessenjah. All rights reserved. Can't Stop Screamin' It
Tone Curve PV2012 : 0, 0, 255, 255
Tone Curve PV2012 Red : 0, 0, 255, 255
Tone Curve PV2012 Green : 0, 0, 255, 255
Tone Curve PV2012 Blue : 0, 0, 255, 255
Image Width : 300
Image Height : 200
Bits Per Sample : 8
Color Components : 3
Aperture : 2.0
Image Size : 300x200
Megapixels : 0.060
Scale Factor To 35 mm Equivalent : 1.6
Shutter Speed : 1/125
Create Date : 2013:06:16 20:38:19.25
Date/Time Original : 2013:06:16 20:38:19.25
Circle Of Confusion : 0.019 mm
Field Of View : 13.1 deg
Focal Length : 100.0 mm (35 mm equivalent: 157.0 mm)
Hyperfocal Distance : 261.32 m
Light Value : 4.0
Lens ID : Carl Zeiss Makro-Planar T* 100mm f/2 ZE