Uber Exif Photo
By-line : Jim Craig
Make : Canon
Camera Model Name : Canon EOS 7D
Software : Adobe Photoshop Lightroom 4.3 (Windows)
Modify Date : 2013:04:06 15:57:01
Artist : Jim Craig
Exposure Time : 1/250
F Number : 5.6
Exposure Program : Program AE
ISO : 100
Sensitivity Type : Recommended Exposure Index
Recommended Exposure Index : 100
Date/Time Original : 2013:03:02 17:16:20
Create Date : 2013:03:02 17:16:20
Shutter Speed Value : 1/250
Aperture Value : 5.6
Exposure Compensation : 0
Max Aperture Value : 2.0
Metering Mode : Multi-segment
Flash : Off, Did not fire
Focal Length : 35.0 mm
Custom Rendered : Normal
Exposure Mode : Auto
White Balance : Auto
Scene Capture Type : Standard
Serial Number : 1780908873
Lens Info : 35mm f/?
Lens Model : Zeiss Distagon T* 2/35 ZE
Profile Description : sRGB IEC61966-2.1
Creator Tool : Adobe Photoshop Lightroom 4.3 (Windows)
Format : image/jpeg
Lens : Zeiss Distagon T* 2/35 ZE
Image Number : 0
Flash Compensation : 0
Firmware : 2.0.3
Date Created : 2013:03:02 17:16:20.00
Version : 7.3
Process Version : 6.7
Color Temperature : 4850
Tint : +9
Saturation : 0
Sharpness : 34
Luminance Smoothing : 8
Color Noise Reduction : 25
Vignette Amount : 0
Shadow Tint : 0
Red Hue : 0
Red Saturation : 0
Green Hue : 0
Green Saturation : 0
Blue Hue : 0
Blue Saturation : 0
Vibrance : 0
Hue Adjustment Red : 0
Hue Adjustment Orange : 0
Hue Adjustment Yellow : 0
Hue Adjustment Green : 0
Hue Adjustment Aqua : 0
Hue Adjustment Blue : 0
Hue Adjustment Purple : 0
Hue Adjustment Magenta : 0
Saturation Adjustment Red : 0
Saturation Adjustment Orange : +13
Saturation Adjustment Yellow : +23
Saturation Adjustment Green : +10
Saturation Adjustment Aqua : +50
Saturation Adjustment Blue : +58
Saturation Adjustment Purple : +23
Saturation Adjustment Magenta : 0
Luminance Adjustment Red : 0
Luminance Adjustment Orange : 0
Luminance Adjustment Yellow : 0
Luminance Adjustment Green : 0
Luminance Adjustment Aqua : 0
Luminance Adjustment Blue : 0
Luminance Adjustment Purple : 0
Luminance Adjustment Magenta : 0
Split Toning Shadow Hue : 0
Split Toning Shadow Saturation : 0
Split Toning Highlight Hue : 0
Split Toning Highlight Saturation : 0
Split Toning Balance : 0
Parametric Shadows : 0
Parametric Darks : 0
Parametric Lights : +10
Parametric Highlights : +60
Parametric Shadow Split : 25
Parametric Midtone Split : 50
Parametric Highlight Split : 75
Sharpen Radius : +1.0
Sharpen Detail : 25
Sharpen Edge Masking : 0
Post Crop Vignette Amount : 0
Grain Amount : 0
Luminance Noise Reduction Detail : 50
Color Noise Reduction Detail : 50
Luminance Noise Reduction Contrast : 0
Lens Profile Enable : 0
Lens Manual Distortion Amount : 0
Perspective Vertical : 0
Perspective Horizontal : 0
Perspective Rotate : 0.0
Perspective Scale : 100
Auto Lateral CA : 0
Exposure 2012 : 0.00
Contrast 2012 : 0
Highlights 2012 : -40
Shadows 2012 : 0
Whites 2012 : 0
Blacks 2012 : -20
Clarity 2012 : 0
Defringe Purple Amount : 0
Defringe Purple Hue Lo : 30
Defringe Purple Hue Hi : 70
Defringe Green Amount : 0
Defringe Green Hue Lo : 40
Defringe Green Hue Hi : 60
Convert To Grayscale : False
Tone Curve Name 2012 : Linear
Camera Profile : Adobe Standard
Lens Profile Setup : LensDefaults
Has Settings : True
Crop Top : 0.184729
Crop Left : 0.14532
Crop Bottom : 1
Crop Right : 0.960591
Crop Angle : 0
Crop Constrain To Warp : 0
Crop Width : 1500
Crop Height : 1000
Crop Unit : pixels
Has Crop : True
Already Applied : True
Creator : Jim Craig
Tone Curve PV2012 : 0, 0, 255, 255
Tone Curve PV2012 Red : 0, 0, 255, 255
Tone Curve PV2012 Green : 0, 0, 255, 255
Tone Curve PV2012 Blue : 0, 0, 255, 255
Image Width : 300
Image Height : 200
Bits Per Sample : 8
Color Components : 3
Aperture : 5.6
Image Size : 300x200
Megapixels : 0.060
Scale Factor To 35 mm Equivalent : 1.6
Shutter Speed : 1/250
Create Date : 2013:03:02 17:16:20.00
Date/Time Original : 2013:03:02 17:16:20.00
Circle Of Confusion : 0.019 mm
Field Of View : 36.3 deg
Focal Length : 35.0 mm (35 mm equivalent: 55.0 mm)
Hyperfocal Distance : 11.43 m
Light Value : 12.9
Lens ID : Carl Zeiss Distagon T* 35mm f/2 ZE