Uber Exif Photo
Object Name : The Bull Wall
By-line : Niall O'Reilly
Copyright Notice : Copyright ©2014 Niall O'Reilly. All Rights Reserved
Copyright Flag : True
URL : www.oreillyfotograf.com
Make : FUJIFILM
Camera Model Name : X-E2
Software : Adobe Photoshop Lightroom 5.7 (Macintosh)
Modify Date : 2014:11:29 20:35:02
Artist : Niall O'Reilly
Copyright : Copyright ©2014 Niall O'Reilly. All Rights Reserved
Exposure Time : 1/60
F Number : 1.0
Exposure Program : Manual
ISO : 400
Sensitivity Type : Standard Output Sensitivity
Date/Time Original : 2014:10:11 06:48:10
Create Date : 2014:10:11 06:48:10
Shutter Speed Value : 1/60
Aperture Value : 1.0
Brightness Value : -1.88
Exposure Compensation : 0
Metering Mode : Multi-segment
Light Source : Unknown
Flash : Off, Did not fire
Focal Length : 35.0 mm
User Comment : Kolor stitching | 26 pictures | Size: 19192 x 6198 | Lens: Standard | RMS: 2.36 | FOV: 144.52 x 46.68 ~ 7.14 | Projection: Spherical | Color: LDR |
Sensing Method : One-chip color area
Scene Type : Directly photographed
Custom Rendered : Normal
Exposure Mode : Manual
White Balance : Auto
Focal Length In 35mm Format : 53 mm
Scene Capture Type : Standard
Sharpness : Normal
Subject Distance Range : Unknown
Lens Info : 35mm f/?
Lens Model : 35.0 mm
Profile Description : Adobe RGB (1998)
Rating : 4
Creator Tool : Adobe Photoshop Lightroom 5.7 (Macintosh)
Lens : 35.0 mm
Date Created : 2014:10:11
Format : image/jpeg
Marked : True
Web Statement : www.oreillyfotograf.com
Stitching Software : Autopano Giga 3.7.0
Use Panorama Viewer : True
Projection Type : equirectangular
Cropped Area Image Height Pixels : 6198
Cropped Area Image Width Pixels : 19192
Full Pano Height Pixels : 23902
Full Pano Width Pixels : 47805
Cropped Area Left Pixels : 14290
Cropped Area Top Pixels : 7904
Source Photos Count : 26
Color Space : Uncalibrated
Version : 8.7
Process Version : 6.7
Auto White Version : 134348800
Incremental Temperature : 0
Incremental Tint : 0
Saturation : +5
Luminance Smoothing : 0
Color Noise Reduction : 0
Vignette Amount : 0
Shadow Tint : 0
Red Hue : 0
Red Saturation : 0
Green Hue : 0
Green Saturation : 0
Blue Hue : 0
Blue Saturation : 0
Vibrance : 0
Hue Adjustment Red : 0
Hue Adjustment Orange : 0
Hue Adjustment Yellow : 0
Hue Adjustment Green : 0
Hue Adjustment Aqua : 0
Hue Adjustment Blue : 0
Hue Adjustment Purple : 0
Hue Adjustment Magenta : 0
Saturation Adjustment Red : 0
Saturation Adjustment Orange : 0
Saturation Adjustment Yellow : 0
Saturation Adjustment Green : 0
Saturation Adjustment Aqua : 0
Saturation Adjustment Blue : 0
Saturation Adjustment Purple : 0
Saturation Adjustment Magenta : 0
Luminance Adjustment Red : 0
Luminance Adjustment Orange : 0
Luminance Adjustment Yellow : 0
Luminance Adjustment Green : 0
Luminance Adjustment Aqua : 0
Luminance Adjustment Blue : 0
Luminance Adjustment Purple : 0
Luminance Adjustment Magenta : 0
Split Toning Shadow Hue : 0
Split Toning Shadow Saturation : 0
Split Toning Highlight Hue : 0
Split Toning Highlight Saturation : 0
Split Toning Balance : 0
Parametric Shadows : 0
Parametric Darks : 0
Parametric Lights : 0
Parametric Highlights : 0
Parametric Shadow Split : 25
Parametric Midtone Split : 50
Parametric Highlight Split : 75
Sharpen Radius : +1.0
Sharpen Detail : 25
Sharpen Edge Masking : 0
Post Crop Vignette Amount : 0
Grain Amount : 0
Lens Profile Enable : 0
Lens Manual Distortion Amount : 0
Perspective Vertical : 0
Perspective Horizontal : 0
Perspective Rotate : 0.0
Perspective Scale : 100
Perspective Aspect : 0
Perspective Upright : Off
Auto Lateral CA : 0
Exposure 2012 : 0.00
Contrast 2012 : 0
Highlights 2012 : 0
Shadows 2012 : +75
Whites 2012 : 0
Blacks 2012 : +51
Clarity 2012 : 0
Defringe Purple Amount : 0
Defringe Purple Hue Lo : 30
Defringe Purple Hue Hi : 70
Defringe Green Amount : 0
Defringe Green Hue Lo : 40
Defringe Green Hue Hi : 60
Convert To Grayscale : False
Tone Curve Name : Linear
Tone Curve Name 2012 : Linear
Camera Profile : Embedded
Lens Profile Setup : LensDefaults
Has Settings : True
Has Crop : False
Already Applied : True
Creator : Niall O'Reilly
Title : The Bull Wall
Rights : Copyright ©2014 Niall O'Reilly. All Rights Reserved
Usage Terms : Used only with expressed written consent by Niall O'Reilly (oreillyfotograf.com)
Creator Work Email : niall.oreilly@oreillyfotograf.com
Creator City : Dublin
Creator Country : Ireland
Creator Work URL : http://www.oreillyfotograf.com
Tone Curve : 0, 0, 255, 255
Tone Curve Red : 0, 0, 255, 255
Tone Curve Green : 0, 0, 255, 255
Tone Curve Blue : 0, 0, 255, 255
Tone Curve PV2012 : 0, 0, 255, 255
Tone Curve PV2012 Red : 0, 0, 255, 255
Tone Curve PV2012 Green : 0, 0, 255, 255
Tone Curve PV2012 Blue : 0, 0, 255, 255
Image Width : 300
Image Height : 97
Bits Per Sample : 8
Color Components : 3
Aperture : 1.0
Image Size : 300x97
Megapixels : 0.029
Scale Factor To 35 mm Equivalent : 1.5
Shutter Speed : 1/60
Circle Of Confusion : 0.020 mm
Field Of View : 37.5 deg
Focal Length : 35.0 mm (35 mm equivalent: 53.0 mm)
Hyperfocal Distance : 61.74 m
Light Value : 3.9
Lens ID : 35.0mm