Uber Exif Photo
By-line : Alex Foong Seong Chee
Make : Canon
Camera Model Name : Canon EOS 5D Mark II
Software : Adobe Photoshop Lightroom 5.0 (Windows)
Modify Date : 2014:09:14 23:49:12
Artist : Alex Foong Seong Chee
Exposure Time : 8
F Number : 9.0
Exposure Program : Manual
ISO : 160
Date/Time Original : 2014:09:14 07:06:11
Create Date : 2014:09:14 07:06:11
Shutter Speed Value : 8
Aperture Value : 9.0
Exposure Compensation : 0
Max Aperture Value : 2.0
Metering Mode : Partial
Flash : Off, Did not fire
Focal Length : 35.0 mm
Custom Rendered : Normal
Exposure Mode : Manual
White Balance : Auto
Scene Capture Type : Standard
Owner Name : Alex Foong Seong Chee
Serial Number : 330230276
Lens Info : 35mm f/?
Lens Model : Zeiss Distagon T* 2/35 ZE
Profile Description : sRGB IEC61966-2.1
Format : image/jpeg
Lens : Zeiss Distagon T* 2/35 ZE
Image Number : 0
Flash Compensation : 0
Firmware : 2.1.2
Rating : 1
Creator Tool : Adobe Photoshop Lightroom 5.0 (Windows)
Date Created : 2014:09:14 07:06:11.36
Version : 8.1
Process Version : 6.7
Color Temperature : 4900
Tint : -7
Saturation : 0
Sharpness : 40
Luminance Smoothing : 20
Color Noise Reduction : 25
Vignette Amount : 0
Shadow Tint : 0
Red Hue : 0
Red Saturation : 0
Green Hue : 0
Green Saturation : 0
Blue Hue : 0
Blue Saturation : 0
Vibrance : +30
Hue Adjustment Red : 0
Hue Adjustment Orange : 0
Hue Adjustment Yellow : 0
Hue Adjustment Green : 0
Hue Adjustment Aqua : 0
Hue Adjustment Blue : 0
Hue Adjustment Purple : 0
Hue Adjustment Magenta : 0
Saturation Adjustment Red : 0
Saturation Adjustment Orange : 0
Saturation Adjustment Yellow : 0
Saturation Adjustment Green : 0
Saturation Adjustment Aqua : 0
Saturation Adjustment Blue : 0
Saturation Adjustment Purple : 0
Saturation Adjustment Magenta : 0
Luminance Adjustment Red : 0
Luminance Adjustment Orange : +25
Luminance Adjustment Yellow : +25
Luminance Adjustment Green : 0
Luminance Adjustment Aqua : +35
Luminance Adjustment Blue : -40
Luminance Adjustment Purple : 0
Luminance Adjustment Magenta : 0
Split Toning Shadow Hue : 0
Split Toning Shadow Saturation : 0
Split Toning Highlight Hue : 0
Split Toning Highlight Saturation : 0
Split Toning Balance : 0
Parametric Shadows : 0
Parametric Darks : 0
Parametric Lights : 0
Parametric Highlights : 0
Parametric Shadow Split : 25
Parametric Midtone Split : 50
Parametric Highlight Split : 75
Sharpen Radius : +1.0
Sharpen Detail : 25
Sharpen Edge Masking : 0
Post Crop Vignette Amount : 0
Grain Amount : 0
Luminance Noise Reduction Detail : 50
Color Noise Reduction Detail : 50
Luminance Noise Reduction Contrast : 0
Lens Profile Enable : 0
Lens Manual Distortion Amount : 0
Perspective Vertical : 0
Perspective Horizontal : 0
Perspective Rotate : 0.0
Perspective Scale : 100
Perspective Aspect : 0
Perspective Upright : Off
Auto Lateral CA : 0
Exposure 2012 : +0.20
Contrast 2012 : +40
Highlights 2012 : -45
Shadows 2012 : +35
Whites 2012 : -15
Blacks 2012 : +15
Clarity 2012 : +25
Defringe Purple Amount : 0
Defringe Purple Hue Lo : 30
Defringe Purple Hue Hi : 70
Defringe Green Amount : 0
Defringe Green Hue Lo : 40
Defringe Green Hue Hi : 60
Convert To Grayscale : False
Tone Curve Name 2012 : Linear
Camera Profile : Adobe Standard
Lens Profile Setup : LensDefaults
Has Settings : True
Crop Top : 0.034352
Crop Left : 0.012
Crop Bottom : 0.968543
Crop Right : 0.988406
Crop Angle : 1.1
Crop Constrain To Warp : 0
Has Crop : True
Already Applied : True
Creator : Alex Foong Seong Chee
Tone Curve PV2012 : 0, 0, 255, 255
Tone Curve PV2012 Red : 0, 0, 255, 255
Tone Curve PV2012 Green : 0, 0, 255, 255
Tone Curve PV2012 Blue : 0, 0, 255, 255
Image Width : 300
Image Height : 183
Bits Per Sample : 8
Color Components : 3
Aperture : 9.0
Image Size : 300x183
Megapixels : 0.055
Scale Factor To 35 mm Equivalent : 1.0
Shutter Speed : 8
Create Date : 2014:09:14 07:06:11.36
Date/Time Original : 2014:09:14 07:06:11.36
Circle Of Confusion : 0.031 mm
Field Of View : 55.6 deg
Focal Length : 35.0 mm (35 mm equivalent: 34.2 mm)
Hyperfocal Distance : 4.42 m
Light Value : 2.7
Lens ID : Carl Zeiss Distagon T* 35mm f/2 ZE